BEGIN:VCALENDAR
VERSION:2.0
PRODID:-//Poteaucoc.org - ECPv6.15.20//NONSGML v1.0//EN
CALSCALE:GREGORIAN
METHOD:PUBLISH
X-WR-CALNAME:Poteaucoc.org
X-ORIGINAL-URL:https://poteaucoc.org
X-WR-CALDESC:Events for Poteaucoc.org
REFRESH-INTERVAL;VALUE=DURATION:PT1H
X-Robots-Tag:noindex
X-PUBLISHED-TTL:PT1H
BEGIN:VTIMEZONE
TZID:America/Chicago
BEGIN:DAYLIGHT
TZOFFSETFROM:-0600
TZOFFSETTO:-0500
TZNAME:CDT
DTSTART:20250309T080000
END:DAYLIGHT
BEGIN:STANDARD
TZOFFSETFROM:-0500
TZOFFSETTO:-0600
TZNAME:CST
DTSTART:20251102T070000
END:STANDARD
BEGIN:DAYLIGHT
TZOFFSETFROM:-0600
TZOFFSETTO:-0500
TZNAME:CDT
DTSTART:20260308T080000
END:DAYLIGHT
BEGIN:STANDARD
TZOFFSETFROM:-0500
TZOFFSETTO:-0600
TZNAME:CST
DTSTART:20261101T070000
END:STANDARD
BEGIN:DAYLIGHT
TZOFFSETFROM:-0600
TZOFFSETTO:-0500
TZNAME:CDT
DTSTART:20270314T080000
END:DAYLIGHT
BEGIN:STANDARD
TZOFFSETFROM:-0500
TZOFFSETTO:-0600
TZNAME:CST
DTSTART:20271107T070000
END:STANDARD
END:VTIMEZONE
BEGIN:VEVENT
DTSTART;TZID=America/Chicago:20260308T163000
DTEND;TZID=America/Chicago:20260308T173000
DTSTAMP:20260422T200856
CREATED:20260226T183148Z
LAST-MODIFIED:20260226T183148Z
UID:10007392-1772987400-1772991000@poteaucoc.org
SUMMARY:Trotter Baby Shower
DESCRIPTION:
URL:https://poteaucoc.org/event/trotter-baby-shower/
LOCATION:Poteau Church of Christ\, 20690 292nd st\, Poteau\, OK\, 74953\, United States
CATEGORIES:Events
ORGANIZER;CN="Nicki Sullard":MAILTO:nicki@poteaucoc.org
GEO:35.0989053;-94.6235279
X-APPLE-STRUCTURED-LOCATION;VALUE=URI;X-ADDRESS=Poteau Church of Christ 20690 292nd st Poteau OK 74953 United States;X-APPLE-RADIUS=500;X-TITLE=20690 292nd st:geo:-94.6235279,35.0989053
END:VEVENT
BEGIN:VEVENT
DTSTART;TZID=America/Chicago:20260308T160000
DTEND;TZID=America/Chicago:20260308T190000
DTSTAMP:20260422T200856
CREATED:20260226T183856Z
LAST-MODIFIED:20260226T183856Z
UID:10007393-1772985600-1772996400@poteaucoc.org
SUMMARY:Youth Focus: Tahlequah
DESCRIPTION:
URL:https://poteaucoc.org/event/youth-focus-tahlequah/
LOCATION:Poteau Church of Christ\, 20690 292nd st\, Poteau\, OK\, 74953\, United States
CATEGORIES:Teen Worship
ORGANIZER;CN="Nicki Sullard":MAILTO:nicki@poteaucoc.org
GEO:35.0989053;-94.6235279
X-APPLE-STRUCTURED-LOCATION;VALUE=URI;X-ADDRESS=Poteau Church of Christ 20690 292nd st Poteau OK 74953 United States;X-APPLE-RADIUS=500;X-TITLE=20690 292nd st:geo:-94.6235279,35.0989053
END:VEVENT
BEGIN:VEVENT
DTSTART;TZID=America/Chicago:20260308T103000
DTEND;TZID=America/Chicago:20260308T120000
DTSTAMP:20260422T200856
CREATED:20251005T204859Z
LAST-MODIFIED:20251006T121534Z
UID:10006452-1772965800-1772971200@poteaucoc.org
SUMMARY:Sunday A.M. Worship
DESCRIPTION:Sunday A.M Worship
URL:https://poteaucoc.org/event/sunday-a-m-worship/2026-03-08/
LOCATION:Poteau Church of Christ\, 20690 292nd st\, Poteau\, OK\, 74953\, United States
CATEGORIES:Worship
ATTACH;FMTTYPE=image/jpeg:https://poteaucoc.org/wp-content/uploads/2021/08/worship-2.jpg
ORGANIZER;CN="Nicki Sullard":MAILTO:nicki@poteaucoc.org
GEO:35.0989053;-94.6235279
X-APPLE-STRUCTURED-LOCATION;VALUE=URI;X-ADDRESS=Poteau Church of Christ 20690 292nd st Poteau OK 74953 United States;X-APPLE-RADIUS=500;X-TITLE=20690 292nd st:geo:-94.6235279,35.0989053
END:VEVENT
BEGIN:VEVENT
DTSTART;TZID=America/Chicago:20260308T093000
DTEND;TZID=America/Chicago:20260308T102500
DTSTAMP:20260422T200856
CREATED:20251005T203803Z
LAST-MODIFIED:20251006T121701Z
UID:10006190-1772962200-1772965500@poteaucoc.org
SUMMARY:Sunday A.M. Bible Study
DESCRIPTION:Sunday A.M Bible Study
URL:https://poteaucoc.org/event/sunday-a-m-bible-study/2026-03-08/
LOCATION:Poteau Church of Christ\, 20690 292nd st\, Poteau\, OK\, 74953\, United States
CATEGORIES:Bible Study
ATTACH;FMTTYPE=image/jpeg:https://poteaucoc.org/wp-content/uploads/2021/08/patrick-fore-b_SHPU5M3nk-unsplash-scaled.jpg
ORGANIZER;CN="Nicki Sullard":MAILTO:nicki@poteaucoc.org
GEO:35.0989053;-94.6235279
X-APPLE-STRUCTURED-LOCATION;VALUE=URI;X-ADDRESS=Poteau Church of Christ 20690 292nd st Poteau OK 74953 United States;X-APPLE-RADIUS=500;X-TITLE=20690 292nd st:geo:-94.6235279,35.0989053
END:VEVENT
BEGIN:VEVENT
DTSTART;TZID=America/Chicago:20260304T183000
DTEND;TZID=America/Chicago:20260304T193000
DTSTAMP:20260422T200856
CREATED:20251005T212529Z
LAST-MODIFIED:20251006T121857Z
UID:10006713-1772649000-1772652600@poteaucoc.org
SUMMARY:Wednesday P.M. Bible Study
DESCRIPTION:
URL:https://poteaucoc.org/event/wednesday-p-m-bible-study/2026-03-04/
LOCATION:Poteau Church of Christ\, 20690 292nd st\, Poteau\, OK\, 74953\, United States
CATEGORIES:Bible Study
ATTACH;FMTTYPE=image/jpeg:https://poteaucoc.org/wp-content/uploads/2021/08/patrick-fore-bsmall.jpg
ORGANIZER;CN="Nicki Sullard":MAILTO:nicki@poteaucoc.org
GEO:35.0989053;-94.6235279
X-APPLE-STRUCTURED-LOCATION;VALUE=URI;X-ADDRESS=Poteau Church of Christ 20690 292nd st Poteau OK 74953 United States;X-APPLE-RADIUS=500;X-TITLE=20690 292nd st:geo:-94.6235279,35.0989053
END:VEVENT
BEGIN:VEVENT
DTSTART;TZID=America/Chicago:20260304T173000
DTEND;TZID=America/Chicago:20260304T183000
DTSTAMP:20260422T200856
CREATED:20251203T163311Z
LAST-MODIFIED:20251203T163311Z
UID:10007375-1772645400-1772649000@poteaucoc.org
SUMMARY:Midweek Manna
DESCRIPTION:Join us for a meal before Bible Study!
URL:https://poteaucoc.org/event/midweek-manna/2026-03-04/
LOCATION:Poteau Church of Christ\, 20690 292nd st\, Poteau\, OK\, 74953\, United States
CATEGORIES:Fellowship
ORGANIZER;CN="Nicki Sullard":MAILTO:nicki@poteaucoc.org
GEO:35.0989053;-94.6235279
X-APPLE-STRUCTURED-LOCATION;VALUE=URI;X-ADDRESS=Poteau Church of Christ 20690 292nd st Poteau OK 74953 United States;X-APPLE-RADIUS=500;X-TITLE=20690 292nd st:geo:-94.6235279,35.0989053
END:VEVENT
BEGIN:VEVENT
DTSTART;TZID=America/Chicago:20260303T183000
DTEND;TZID=America/Chicago:20260303T193000
DTSTAMP:20260422T200856
CREATED:20251006T013853Z
LAST-MODIFIED:20251006T013854Z
UID:10007229-1772562600-1772566200@poteaucoc.org
SUMMARY:F.A.T. Tuesday
DESCRIPTION:Feeding All Teachers Tuesday
URL:https://poteaucoc.org/event/f-a-t-tuesday/2026-03-03/
LOCATION:Poteau Church of Christ\, 20690 292nd st\, Poteau\, OK\, 74953\, United States
CATEGORIES:Bible Study
ATTACH;FMTTYPE=image/webp:https://poteaucoc.org/wp-content/uploads/2025/10/fat.webp
ORGANIZER;CN="Nicki Sullard":MAILTO:nicki@poteaucoc.org
GEO:35.0989053;-94.6235279
X-APPLE-STRUCTURED-LOCATION;VALUE=URI;X-ADDRESS=Poteau Church of Christ 20690 292nd st Poteau OK 74953 United States;X-APPLE-RADIUS=500;X-TITLE=20690 292nd st:geo:-94.6235279,35.0989053
END:VEVENT
BEGIN:VEVENT
DTSTART;TZID=America/Chicago:20260302T180000
DTEND;TZID=America/Chicago:20260302T210000
DTSTAMP:20260422T200856
CREATED:20251006T012458Z
LAST-MODIFIED:20251006T012458Z
UID:10006978-1772474400-1772485200@poteaucoc.org
SUMMARY:Pickleball
DESCRIPTION:Pickleball
URL:https://poteaucoc.org/event/pickleball/2026-03-02/
LOCATION:Poteau Church of Christ\, 20690 292nd st\, Poteau\, OK\, 74953\, United States
CATEGORIES:Pickleball
ATTACH;FMTTYPE=image/jpeg:https://poteaucoc.org/wp-content/uploads/2025/10/pickleb.jpg
ORGANIZER;CN="Nicki Sullard":MAILTO:nicki@poteaucoc.org
GEO:35.0989053;-94.6235279
X-APPLE-STRUCTURED-LOCATION;VALUE=URI;X-ADDRESS=Poteau Church of Christ 20690 292nd st Poteau OK 74953 United States;X-APPLE-RADIUS=500;X-TITLE=20690 292nd st:geo:-94.6235279,35.0989053
END:VEVENT
BEGIN:VEVENT
DTSTART;TZID=America/Chicago:20260301T103000
DTEND;TZID=America/Chicago:20260301T120000
DTSTAMP:20260422T200856
CREATED:20251005T204859Z
LAST-MODIFIED:20251006T121534Z
UID:10006451-1772361000-1772366400@poteaucoc.org
SUMMARY:Sunday A.M. Worship
DESCRIPTION:Sunday A.M Worship
URL:https://poteaucoc.org/event/sunday-a-m-worship/2026-03-01/
LOCATION:Poteau Church of Christ\, 20690 292nd st\, Poteau\, OK\, 74953\, United States
CATEGORIES:Worship
ATTACH;FMTTYPE=image/jpeg:https://poteaucoc.org/wp-content/uploads/2021/08/worship-2.jpg
ORGANIZER;CN="Nicki Sullard":MAILTO:nicki@poteaucoc.org
GEO:35.0989053;-94.6235279
X-APPLE-STRUCTURED-LOCATION;VALUE=URI;X-ADDRESS=Poteau Church of Christ 20690 292nd st Poteau OK 74953 United States;X-APPLE-RADIUS=500;X-TITLE=20690 292nd st:geo:-94.6235279,35.0989053
END:VEVENT
BEGIN:VEVENT
DTSTART;TZID=America/Chicago:20260301T093000
DTEND;TZID=America/Chicago:20260301T102500
DTSTAMP:20260422T200856
CREATED:20251005T203803Z
LAST-MODIFIED:20251006T121701Z
UID:10006189-1772357400-1772360700@poteaucoc.org
SUMMARY:Sunday A.M. Bible Study
DESCRIPTION:Sunday A.M Bible Study
URL:https://poteaucoc.org/event/sunday-a-m-bible-study/2026-03-01/
LOCATION:Poteau Church of Christ\, 20690 292nd st\, Poteau\, OK\, 74953\, United States
CATEGORIES:Bible Study
ATTACH;FMTTYPE=image/jpeg:https://poteaucoc.org/wp-content/uploads/2021/08/patrick-fore-b_SHPU5M3nk-unsplash-scaled.jpg
ORGANIZER;CN="Nicki Sullard":MAILTO:nicki@poteaucoc.org
GEO:35.0989053;-94.6235279
X-APPLE-STRUCTURED-LOCATION;VALUE=URI;X-ADDRESS=Poteau Church of Christ 20690 292nd st Poteau OK 74953 United States;X-APPLE-RADIUS=500;X-TITLE=20690 292nd st:geo:-94.6235279,35.0989053
END:VEVENT
BEGIN:VEVENT
DTSTART;TZID=America/Chicago:20260225T183000
DTEND;TZID=America/Chicago:20260225T193000
DTSTAMP:20260422T200856
CREATED:20251005T212529Z
LAST-MODIFIED:20251006T121857Z
UID:10006712-1772044200-1772047800@poteaucoc.org
SUMMARY:Wednesday P.M. Bible Study
DESCRIPTION:
URL:https://poteaucoc.org/event/wednesday-p-m-bible-study/2026-02-25/
LOCATION:Poteau Church of Christ\, 20690 292nd st\, Poteau\, OK\, 74953\, United States
CATEGORIES:Bible Study
ATTACH;FMTTYPE=image/jpeg:https://poteaucoc.org/wp-content/uploads/2021/08/patrick-fore-bsmall.jpg
ORGANIZER;CN="Nicki Sullard":MAILTO:nicki@poteaucoc.org
GEO:35.0989053;-94.6235279
X-APPLE-STRUCTURED-LOCATION;VALUE=URI;X-ADDRESS=Poteau Church of Christ 20690 292nd st Poteau OK 74953 United States;X-APPLE-RADIUS=500;X-TITLE=20690 292nd st:geo:-94.6235279,35.0989053
END:VEVENT
BEGIN:VEVENT
DTSTART;TZID=America/Chicago:20260225T173000
DTEND;TZID=America/Chicago:20260225T183000
DTSTAMP:20260422T200856
CREATED:20251203T163311Z
LAST-MODIFIED:20251203T163311Z
UID:10007374-1772040600-1772044200@poteaucoc.org
SUMMARY:Midweek Manna
DESCRIPTION:Join us for a meal before Bible Study!
URL:https://poteaucoc.org/event/midweek-manna/2026-02-25/
LOCATION:Poteau Church of Christ\, 20690 292nd st\, Poteau\, OK\, 74953\, United States
CATEGORIES:Fellowship
ORGANIZER;CN="Nicki Sullard":MAILTO:nicki@poteaucoc.org
GEO:35.0989053;-94.6235279
X-APPLE-STRUCTURED-LOCATION;VALUE=URI;X-ADDRESS=Poteau Church of Christ 20690 292nd st Poteau OK 74953 United States;X-APPLE-RADIUS=500;X-TITLE=20690 292nd st:geo:-94.6235279,35.0989053
END:VEVENT
BEGIN:VEVENT
DTSTART;TZID=America/Chicago:20260223T180000
DTEND;TZID=America/Chicago:20260223T210000
DTSTAMP:20260422T200856
CREATED:20251006T012458Z
LAST-MODIFIED:20251006T012458Z
UID:10006977-1771869600-1771880400@poteaucoc.org
SUMMARY:Pickleball
DESCRIPTION:Pickleball
URL:https://poteaucoc.org/event/pickleball/2026-02-23/
LOCATION:Poteau Church of Christ\, 20690 292nd st\, Poteau\, OK\, 74953\, United States
CATEGORIES:Pickleball
ATTACH;FMTTYPE=image/jpeg:https://poteaucoc.org/wp-content/uploads/2025/10/pickleb.jpg
ORGANIZER;CN="Nicki Sullard":MAILTO:nicki@poteaucoc.org
GEO:35.0989053;-94.6235279
X-APPLE-STRUCTURED-LOCATION;VALUE=URI;X-ADDRESS=Poteau Church of Christ 20690 292nd st Poteau OK 74953 United States;X-APPLE-RADIUS=500;X-TITLE=20690 292nd st:geo:-94.6235279,35.0989053
END:VEVENT
BEGIN:VEVENT
DTSTART;TZID=America/Chicago:20260222T103000
DTEND;TZID=America/Chicago:20260222T120000
DTSTAMP:20260422T200856
CREATED:20251005T204859Z
LAST-MODIFIED:20251006T121534Z
UID:10006450-1771756200-1771761600@poteaucoc.org
SUMMARY:Sunday A.M. Worship
DESCRIPTION:Sunday A.M Worship
URL:https://poteaucoc.org/event/sunday-a-m-worship/2026-02-22/
LOCATION:Poteau Church of Christ\, 20690 292nd st\, Poteau\, OK\, 74953\, United States
CATEGORIES:Worship
ATTACH;FMTTYPE=image/jpeg:https://poteaucoc.org/wp-content/uploads/2021/08/worship-2.jpg
ORGANIZER;CN="Nicki Sullard":MAILTO:nicki@poteaucoc.org
GEO:35.0989053;-94.6235279
X-APPLE-STRUCTURED-LOCATION;VALUE=URI;X-ADDRESS=Poteau Church of Christ 20690 292nd st Poteau OK 74953 United States;X-APPLE-RADIUS=500;X-TITLE=20690 292nd st:geo:-94.6235279,35.0989053
END:VEVENT
BEGIN:VEVENT
DTSTART;TZID=America/Chicago:20260222T093000
DTEND;TZID=America/Chicago:20260222T102500
DTSTAMP:20260422T200856
CREATED:20251005T203803Z
LAST-MODIFIED:20251006T121701Z
UID:10006188-1771752600-1771755900@poteaucoc.org
SUMMARY:Sunday A.M. Bible Study
DESCRIPTION:Sunday A.M Bible Study
URL:https://poteaucoc.org/event/sunday-a-m-bible-study/2026-02-22/
LOCATION:Poteau Church of Christ\, 20690 292nd st\, Poteau\, OK\, 74953\, United States
CATEGORIES:Bible Study
ATTACH;FMTTYPE=image/jpeg:https://poteaucoc.org/wp-content/uploads/2021/08/patrick-fore-b_SHPU5M3nk-unsplash-scaled.jpg
ORGANIZER;CN="Nicki Sullard":MAILTO:nicki@poteaucoc.org
GEO:35.0989053;-94.6235279
X-APPLE-STRUCTURED-LOCATION;VALUE=URI;X-ADDRESS=Poteau Church of Christ 20690 292nd st Poteau OK 74953 United States;X-APPLE-RADIUS=500;X-TITLE=20690 292nd st:geo:-94.6235279,35.0989053
END:VEVENT
BEGIN:VEVENT
DTSTART;TZID=America/Chicago:20260218T183000
DTEND;TZID=America/Chicago:20260218T193000
DTSTAMP:20260422T200856
CREATED:20251005T212529Z
LAST-MODIFIED:20251006T121857Z
UID:10006711-1771439400-1771443000@poteaucoc.org
SUMMARY:Wednesday P.M. Bible Study
DESCRIPTION:
URL:https://poteaucoc.org/event/wednesday-p-m-bible-study/2026-02-18/
LOCATION:Poteau Church of Christ\, 20690 292nd st\, Poteau\, OK\, 74953\, United States
CATEGORIES:Bible Study
ATTACH;FMTTYPE=image/jpeg:https://poteaucoc.org/wp-content/uploads/2021/08/patrick-fore-bsmall.jpg
ORGANIZER;CN="Nicki Sullard":MAILTO:nicki@poteaucoc.org
GEO:35.0989053;-94.6235279
X-APPLE-STRUCTURED-LOCATION;VALUE=URI;X-ADDRESS=Poteau Church of Christ 20690 292nd st Poteau OK 74953 United States;X-APPLE-RADIUS=500;X-TITLE=20690 292nd st:geo:-94.6235279,35.0989053
END:VEVENT
BEGIN:VEVENT
DTSTART;TZID=America/Chicago:20260218T173000
DTEND;TZID=America/Chicago:20260218T183000
DTSTAMP:20260422T200856
CREATED:20251203T163311Z
LAST-MODIFIED:20251203T163311Z
UID:10007373-1771435800-1771439400@poteaucoc.org
SUMMARY:Midweek Manna
DESCRIPTION:Join us for a meal before Bible Study!
URL:https://poteaucoc.org/event/midweek-manna/2026-02-18/
LOCATION:Poteau Church of Christ\, 20690 292nd st\, Poteau\, OK\, 74953\, United States
CATEGORIES:Fellowship
ORGANIZER;CN="Nicki Sullard":MAILTO:nicki@poteaucoc.org
GEO:35.0989053;-94.6235279
X-APPLE-STRUCTURED-LOCATION;VALUE=URI;X-ADDRESS=Poteau Church of Christ 20690 292nd st Poteau OK 74953 United States;X-APPLE-RADIUS=500;X-TITLE=20690 292nd st:geo:-94.6235279,35.0989053
END:VEVENT
BEGIN:VEVENT
DTSTART;TZID=America/Chicago:20260217T183000
DTEND;TZID=America/Chicago:20260217T193000
DTSTAMP:20260422T200856
CREATED:20251006T013853Z
LAST-MODIFIED:20251006T013854Z
UID:10007228-1771353000-1771356600@poteaucoc.org
SUMMARY:F.A.T. Tuesday
DESCRIPTION:Feeding All Teachers Tuesday
URL:https://poteaucoc.org/event/f-a-t-tuesday/2026-02-17/
LOCATION:Poteau Church of Christ\, 20690 292nd st\, Poteau\, OK\, 74953\, United States
CATEGORIES:Bible Study
ATTACH;FMTTYPE=image/webp:https://poteaucoc.org/wp-content/uploads/2025/10/fat.webp
ORGANIZER;CN="Nicki Sullard":MAILTO:nicki@poteaucoc.org
GEO:35.0989053;-94.6235279
X-APPLE-STRUCTURED-LOCATION;VALUE=URI;X-ADDRESS=Poteau Church of Christ 20690 292nd st Poteau OK 74953 United States;X-APPLE-RADIUS=500;X-TITLE=20690 292nd st:geo:-94.6235279,35.0989053
END:VEVENT
BEGIN:VEVENT
DTSTART;TZID=America/Chicago:20260216T180000
DTEND;TZID=America/Chicago:20260216T210000
DTSTAMP:20260422T200856
CREATED:20251006T012458Z
LAST-MODIFIED:20251006T012458Z
UID:10006976-1771264800-1771275600@poteaucoc.org
SUMMARY:Pickleball
DESCRIPTION:Pickleball
URL:https://poteaucoc.org/event/pickleball/2026-02-16/
LOCATION:Poteau Church of Christ\, 20690 292nd st\, Poteau\, OK\, 74953\, United States
CATEGORIES:Pickleball
ATTACH;FMTTYPE=image/jpeg:https://poteaucoc.org/wp-content/uploads/2025/10/pickleb.jpg
ORGANIZER;CN="Nicki Sullard":MAILTO:nicki@poteaucoc.org
GEO:35.0989053;-94.6235279
X-APPLE-STRUCTURED-LOCATION;VALUE=URI;X-ADDRESS=Poteau Church of Christ 20690 292nd st Poteau OK 74953 United States;X-APPLE-RADIUS=500;X-TITLE=20690 292nd st:geo:-94.6235279,35.0989053
END:VEVENT
BEGIN:VEVENT
DTSTART;TZID=America/Chicago:20260215T103000
DTEND;TZID=America/Chicago:20260215T120000
DTSTAMP:20260422T200856
CREATED:20251005T204859Z
LAST-MODIFIED:20251006T121534Z
UID:10006449-1771151400-1771156800@poteaucoc.org
SUMMARY:Sunday A.M. Worship
DESCRIPTION:Sunday A.M Worship
URL:https://poteaucoc.org/event/sunday-a-m-worship/2026-02-15/
LOCATION:Poteau Church of Christ\, 20690 292nd st\, Poteau\, OK\, 74953\, United States
CATEGORIES:Worship
ATTACH;FMTTYPE=image/jpeg:https://poteaucoc.org/wp-content/uploads/2021/08/worship-2.jpg
ORGANIZER;CN="Nicki Sullard":MAILTO:nicki@poteaucoc.org
GEO:35.0989053;-94.6235279
X-APPLE-STRUCTURED-LOCATION;VALUE=URI;X-ADDRESS=Poteau Church of Christ 20690 292nd st Poteau OK 74953 United States;X-APPLE-RADIUS=500;X-TITLE=20690 292nd st:geo:-94.6235279,35.0989053
END:VEVENT
BEGIN:VEVENT
DTSTART;TZID=America/Chicago:20260215T093000
DTEND;TZID=America/Chicago:20260215T102500
DTSTAMP:20260422T200856
CREATED:20251005T203803Z
LAST-MODIFIED:20251006T121701Z
UID:10006187-1771147800-1771151100@poteaucoc.org
SUMMARY:Sunday A.M. Bible Study
DESCRIPTION:Sunday A.M Bible Study
URL:https://poteaucoc.org/event/sunday-a-m-bible-study/2026-02-15/
LOCATION:Poteau Church of Christ\, 20690 292nd st\, Poteau\, OK\, 74953\, United States
CATEGORIES:Bible Study
ATTACH;FMTTYPE=image/jpeg:https://poteaucoc.org/wp-content/uploads/2021/08/patrick-fore-b_SHPU5M3nk-unsplash-scaled.jpg
ORGANIZER;CN="Nicki Sullard":MAILTO:nicki@poteaucoc.org
GEO:35.0989053;-94.6235279
X-APPLE-STRUCTURED-LOCATION;VALUE=URI;X-ADDRESS=Poteau Church of Christ 20690 292nd st Poteau OK 74953 United States;X-APPLE-RADIUS=500;X-TITLE=20690 292nd st:geo:-94.6235279,35.0989053
END:VEVENT
BEGIN:VEVENT
DTSTART;TZID=America/Chicago:20260211T183000
DTEND;TZID=America/Chicago:20260211T193000
DTSTAMP:20260422T200856
CREATED:20251005T212529Z
LAST-MODIFIED:20251006T121857Z
UID:10006710-1770834600-1770838200@poteaucoc.org
SUMMARY:Wednesday P.M. Bible Study
DESCRIPTION:
URL:https://poteaucoc.org/event/wednesday-p-m-bible-study/2026-02-11/
LOCATION:Poteau Church of Christ\, 20690 292nd st\, Poteau\, OK\, 74953\, United States
CATEGORIES:Bible Study
ATTACH;FMTTYPE=image/jpeg:https://poteaucoc.org/wp-content/uploads/2021/08/patrick-fore-bsmall.jpg
ORGANIZER;CN="Nicki Sullard":MAILTO:nicki@poteaucoc.org
GEO:35.0989053;-94.6235279
X-APPLE-STRUCTURED-LOCATION;VALUE=URI;X-ADDRESS=Poteau Church of Christ 20690 292nd st Poteau OK 74953 United States;X-APPLE-RADIUS=500;X-TITLE=20690 292nd st:geo:-94.6235279,35.0989053
END:VEVENT
BEGIN:VEVENT
DTSTART;TZID=America/Chicago:20260211T173000
DTEND;TZID=America/Chicago:20260211T183000
DTSTAMP:20260422T200856
CREATED:20251203T163311Z
LAST-MODIFIED:20251203T163311Z
UID:10007372-1770831000-1770834600@poteaucoc.org
SUMMARY:Midweek Manna
DESCRIPTION:Join us for a meal before Bible Study!
URL:https://poteaucoc.org/event/midweek-manna/2026-02-11/
LOCATION:Poteau Church of Christ\, 20690 292nd st\, Poteau\, OK\, 74953\, United States
CATEGORIES:Fellowship
ORGANIZER;CN="Nicki Sullard":MAILTO:nicki@poteaucoc.org
GEO:35.0989053;-94.6235279
X-APPLE-STRUCTURED-LOCATION;VALUE=URI;X-ADDRESS=Poteau Church of Christ 20690 292nd st Poteau OK 74953 United States;X-APPLE-RADIUS=500;X-TITLE=20690 292nd st:geo:-94.6235279,35.0989053
END:VEVENT
BEGIN:VEVENT
DTSTART;TZID=America/Chicago:20260209T180000
DTEND;TZID=America/Chicago:20260209T210000
DTSTAMP:20260422T200856
CREATED:20251006T012458Z
LAST-MODIFIED:20251006T012458Z
UID:10006975-1770660000-1770670800@poteaucoc.org
SUMMARY:Pickleball
DESCRIPTION:Pickleball
URL:https://poteaucoc.org/event/pickleball/2026-02-09/
LOCATION:Poteau Church of Christ\, 20690 292nd st\, Poteau\, OK\, 74953\, United States
CATEGORIES:Pickleball
ATTACH;FMTTYPE=image/jpeg:https://poteaucoc.org/wp-content/uploads/2025/10/pickleb.jpg
ORGANIZER;CN="Nicki Sullard":MAILTO:nicki@poteaucoc.org
GEO:35.0989053;-94.6235279
X-APPLE-STRUCTURED-LOCATION;VALUE=URI;X-ADDRESS=Poteau Church of Christ 20690 292nd st Poteau OK 74953 United States;X-APPLE-RADIUS=500;X-TITLE=20690 292nd st:geo:-94.6235279,35.0989053
END:VEVENT
BEGIN:VEVENT
DTSTART;TZID=America/Chicago:20260208T103000
DTEND;TZID=America/Chicago:20260208T120000
DTSTAMP:20260422T200856
CREATED:20251005T204859Z
LAST-MODIFIED:20251006T121534Z
UID:10006448-1770546600-1770552000@poteaucoc.org
SUMMARY:Sunday A.M. Worship
DESCRIPTION:Sunday A.M Worship
URL:https://poteaucoc.org/event/sunday-a-m-worship/2026-02-08/
LOCATION:Poteau Church of Christ\, 20690 292nd st\, Poteau\, OK\, 74953\, United States
CATEGORIES:Worship
ATTACH;FMTTYPE=image/jpeg:https://poteaucoc.org/wp-content/uploads/2021/08/worship-2.jpg
ORGANIZER;CN="Nicki Sullard":MAILTO:nicki@poteaucoc.org
GEO:35.0989053;-94.6235279
X-APPLE-STRUCTURED-LOCATION;VALUE=URI;X-ADDRESS=Poteau Church of Christ 20690 292nd st Poteau OK 74953 United States;X-APPLE-RADIUS=500;X-TITLE=20690 292nd st:geo:-94.6235279,35.0989053
END:VEVENT
BEGIN:VEVENT
DTSTART;TZID=America/Chicago:20260208T093000
DTEND;TZID=America/Chicago:20260208T102500
DTSTAMP:20260422T200856
CREATED:20251005T203803Z
LAST-MODIFIED:20251006T121701Z
UID:10006186-1770543000-1770546300@poteaucoc.org
SUMMARY:Sunday A.M. Bible Study
DESCRIPTION:Sunday A.M Bible Study
URL:https://poteaucoc.org/event/sunday-a-m-bible-study/2026-02-08/
LOCATION:Poteau Church of Christ\, 20690 292nd st\, Poteau\, OK\, 74953\, United States
CATEGORIES:Bible Study
ATTACH;FMTTYPE=image/jpeg:https://poteaucoc.org/wp-content/uploads/2021/08/patrick-fore-b_SHPU5M3nk-unsplash-scaled.jpg
ORGANIZER;CN="Nicki Sullard":MAILTO:nicki@poteaucoc.org
GEO:35.0989053;-94.6235279
X-APPLE-STRUCTURED-LOCATION;VALUE=URI;X-ADDRESS=Poteau Church of Christ 20690 292nd st Poteau OK 74953 United States;X-APPLE-RADIUS=500;X-TITLE=20690 292nd st:geo:-94.6235279,35.0989053
END:VEVENT
BEGIN:VEVENT
DTSTART;TZID=America/Chicago:20260204T183000
DTEND;TZID=America/Chicago:20260204T193000
DTSTAMP:20260422T200856
CREATED:20251005T212529Z
LAST-MODIFIED:20251006T121857Z
UID:10006709-1770229800-1770233400@poteaucoc.org
SUMMARY:Wednesday P.M. Bible Study
DESCRIPTION:
URL:https://poteaucoc.org/event/wednesday-p-m-bible-study/2026-02-04/
LOCATION:Poteau Church of Christ\, 20690 292nd st\, Poteau\, OK\, 74953\, United States
CATEGORIES:Bible Study
ATTACH;FMTTYPE=image/jpeg:https://poteaucoc.org/wp-content/uploads/2021/08/patrick-fore-bsmall.jpg
ORGANIZER;CN="Nicki Sullard":MAILTO:nicki@poteaucoc.org
GEO:35.0989053;-94.6235279
X-APPLE-STRUCTURED-LOCATION;VALUE=URI;X-ADDRESS=Poteau Church of Christ 20690 292nd st Poteau OK 74953 United States;X-APPLE-RADIUS=500;X-TITLE=20690 292nd st:geo:-94.6235279,35.0989053
END:VEVENT
BEGIN:VEVENT
DTSTART;TZID=America/Chicago:20260204T173000
DTEND;TZID=America/Chicago:20260204T183000
DTSTAMP:20260422T200856
CREATED:20251203T163311Z
LAST-MODIFIED:20251203T163311Z
UID:10007371-1770226200-1770229800@poteaucoc.org
SUMMARY:Midweek Manna
DESCRIPTION:Join us for a meal before Bible Study!
URL:https://poteaucoc.org/event/midweek-manna/2026-02-04/
LOCATION:Poteau Church of Christ\, 20690 292nd st\, Poteau\, OK\, 74953\, United States
CATEGORIES:Fellowship
ORGANIZER;CN="Nicki Sullard":MAILTO:nicki@poteaucoc.org
GEO:35.0989053;-94.6235279
X-APPLE-STRUCTURED-LOCATION;VALUE=URI;X-ADDRESS=Poteau Church of Christ 20690 292nd st Poteau OK 74953 United States;X-APPLE-RADIUS=500;X-TITLE=20690 292nd st:geo:-94.6235279,35.0989053
END:VEVENT
BEGIN:VEVENT
DTSTART;TZID=America/Chicago:20260203T183000
DTEND;TZID=America/Chicago:20260203T193000
DTSTAMP:20260422T200856
CREATED:20251006T013853Z
LAST-MODIFIED:20251006T013854Z
UID:10007227-1770143400-1770147000@poteaucoc.org
SUMMARY:F.A.T. Tuesday
DESCRIPTION:Feeding All Teachers Tuesday
URL:https://poteaucoc.org/event/f-a-t-tuesday/2026-02-03/
LOCATION:Poteau Church of Christ\, 20690 292nd st\, Poteau\, OK\, 74953\, United States
CATEGORIES:Bible Study
ATTACH;FMTTYPE=image/webp:https://poteaucoc.org/wp-content/uploads/2025/10/fat.webp
ORGANIZER;CN="Nicki Sullard":MAILTO:nicki@poteaucoc.org
GEO:35.0989053;-94.6235279
X-APPLE-STRUCTURED-LOCATION;VALUE=URI;X-ADDRESS=Poteau Church of Christ 20690 292nd st Poteau OK 74953 United States;X-APPLE-RADIUS=500;X-TITLE=20690 292nd st:geo:-94.6235279,35.0989053
END:VEVENT
BEGIN:VEVENT
DTSTART;TZID=America/Chicago:20260202T180000
DTEND;TZID=America/Chicago:20260202T210000
DTSTAMP:20260422T200856
CREATED:20251006T012458Z
LAST-MODIFIED:20251006T012458Z
UID:10006974-1770055200-1770066000@poteaucoc.org
SUMMARY:Pickleball
DESCRIPTION:Pickleball
URL:https://poteaucoc.org/event/pickleball/2026-02-02/
LOCATION:Poteau Church of Christ\, 20690 292nd st\, Poteau\, OK\, 74953\, United States
CATEGORIES:Pickleball
ATTACH;FMTTYPE=image/jpeg:https://poteaucoc.org/wp-content/uploads/2025/10/pickleb.jpg
ORGANIZER;CN="Nicki Sullard":MAILTO:nicki@poteaucoc.org
GEO:35.0989053;-94.6235279
X-APPLE-STRUCTURED-LOCATION;VALUE=URI;X-ADDRESS=Poteau Church of Christ 20690 292nd st Poteau OK 74953 United States;X-APPLE-RADIUS=500;X-TITLE=20690 292nd st:geo:-94.6235279,35.0989053
END:VEVENT
END:VCALENDAR