BEGIN:VCALENDAR
VERSION:2.0
PRODID:-//Poteaucoc.org - ECPv6.15.20//NONSGML v1.0//EN
CALSCALE:GREGORIAN
METHOD:PUBLISH
X-WR-CALNAME:Poteaucoc.org
X-ORIGINAL-URL:https://poteaucoc.org
X-WR-CALDESC:Events for Poteaucoc.org
REFRESH-INTERVAL;VALUE=DURATION:PT1H
X-Robots-Tag:noindex
X-PUBLISHED-TTL:PT1H
BEGIN:VTIMEZONE
TZID:America/Chicago
BEGIN:DAYLIGHT
TZOFFSETFROM:-0600
TZOFFSETTO:-0500
TZNAME:CDT
DTSTART:20240310T080000
END:DAYLIGHT
BEGIN:STANDARD
TZOFFSETFROM:-0500
TZOFFSETTO:-0600
TZNAME:CST
DTSTART:20241103T070000
END:STANDARD
BEGIN:DAYLIGHT
TZOFFSETFROM:-0600
TZOFFSETTO:-0500
TZNAME:CDT
DTSTART:20250309T080000
END:DAYLIGHT
BEGIN:STANDARD
TZOFFSETFROM:-0500
TZOFFSETTO:-0600
TZNAME:CST
DTSTART:20251102T070000
END:STANDARD
BEGIN:DAYLIGHT
TZOFFSETFROM:-0600
TZOFFSETTO:-0500
TZNAME:CDT
DTSTART:20260308T080000
END:DAYLIGHT
BEGIN:STANDARD
TZOFFSETFROM:-0500
TZOFFSETTO:-0600
TZNAME:CST
DTSTART:20261101T070000
END:STANDARD
END:VTIMEZONE
BEGIN:VEVENT
DTSTART;TZID=America/Chicago:20251102T160000
DTEND;TZID=America/Chicago:20251102T180000
DTSTAMP:20260422T191330
CREATED:20251006T093230Z
LAST-MODIFIED:20251006T093231Z
UID:10007352-1762099200-1762106400@poteaucoc.org
SUMMARY:Elders and Ministers Meeting
DESCRIPTION:Elders at 4 Ministers at 5
URL:https://poteaucoc.org/event/elders-and-ministers-meeting/
LOCATION:Poteau Church of Christ\, 20690 292nd st\, Poteau\, OK\, 74953\, United States
CATEGORIES:Elders Ministers Meeting
ATTACH;FMTTYPE=image/webp:https://poteaucoc.org/wp-content/uploads/2023/08/assemble.webp
ORGANIZER;CN="Nicki Sullard":MAILTO:nicki@poteaucoc.org
GEO:35.0989053;-94.6235279
X-APPLE-STRUCTURED-LOCATION;VALUE=URI;X-ADDRESS=Poteau Church of Christ 20690 292nd st Poteau OK 74953 United States;X-APPLE-RADIUS=500;X-TITLE=20690 292nd st:geo:-94.6235279,35.0989053
END:VEVENT
BEGIN:VEVENT
DTSTART;TZID=America/Chicago:20251103T180000
DTEND;TZID=America/Chicago:20251103T210000
DTSTAMP:20260422T191330
CREATED:20251006T012458Z
LAST-MODIFIED:20251006T012458Z
UID:10006961-1762192800-1762203600@poteaucoc.org
SUMMARY:Pickleball
DESCRIPTION:Pickleball
URL:https://poteaucoc.org/event/pickleball/2025-11-03/
LOCATION:Poteau Church of Christ\, 20690 292nd st\, Poteau\, OK\, 74953\, United States
CATEGORIES:Pickleball
ATTACH;FMTTYPE=image/jpeg:https://poteaucoc.org/wp-content/uploads/2025/10/pickleb.jpg
ORGANIZER;CN="Nicki Sullard":MAILTO:nicki@poteaucoc.org
GEO:35.0989053;-94.6235279
X-APPLE-STRUCTURED-LOCATION;VALUE=URI;X-ADDRESS=Poteau Church of Christ 20690 292nd st Poteau OK 74953 United States;X-APPLE-RADIUS=500;X-TITLE=20690 292nd st:geo:-94.6235279,35.0989053
END:VEVENT
BEGIN:VEVENT
DTSTART;TZID=America/Chicago:20251105T183000
DTEND;TZID=America/Chicago:20251105T193000
DTSTAMP:20260422T191330
CREATED:20251005T212529Z
LAST-MODIFIED:20251006T121857Z
UID:10006696-1762367400-1762371000@poteaucoc.org
SUMMARY:Wednesday P.M. Bible Study
DESCRIPTION:
URL:https://poteaucoc.org/event/wednesday-p-m-bible-study/2025-11-05/
LOCATION:Poteau Church of Christ\, 20690 292nd st\, Poteau\, OK\, 74953\, United States
CATEGORIES:Bible Study
ATTACH;FMTTYPE=image/jpeg:https://poteaucoc.org/wp-content/uploads/2021/08/patrick-fore-bsmall.jpg
ORGANIZER;CN="Nicki Sullard":MAILTO:nicki@poteaucoc.org
GEO:35.0989053;-94.6235279
X-APPLE-STRUCTURED-LOCATION;VALUE=URI;X-ADDRESS=Poteau Church of Christ 20690 292nd st Poteau OK 74953 United States;X-APPLE-RADIUS=500;X-TITLE=20690 292nd st:geo:-94.6235279,35.0989053
END:VEVENT
BEGIN:VEVENT
DTSTART;TZID=America/Chicago:20251109T093000
DTEND;TZID=America/Chicago:20251109T102500
DTSTAMP:20260422T191330
CREATED:20251005T203803Z
LAST-MODIFIED:20251006T121701Z
UID:10006173-1762680600-1762683900@poteaucoc.org
SUMMARY:Sunday A.M. Bible Study
DESCRIPTION:Sunday A.M Bible Study
URL:https://poteaucoc.org/event/sunday-a-m-bible-study/2025-11-09/
LOCATION:Poteau Church of Christ\, 20690 292nd st\, Poteau\, OK\, 74953\, United States
CATEGORIES:Bible Study
ATTACH;FMTTYPE=image/jpeg:https://poteaucoc.org/wp-content/uploads/2021/08/patrick-fore-b_SHPU5M3nk-unsplash-scaled.jpg
ORGANIZER;CN="Nicki Sullard":MAILTO:nicki@poteaucoc.org
GEO:35.0989053;-94.6235279
X-APPLE-STRUCTURED-LOCATION;VALUE=URI;X-ADDRESS=Poteau Church of Christ 20690 292nd st Poteau OK 74953 United States;X-APPLE-RADIUS=500;X-TITLE=20690 292nd st:geo:-94.6235279,35.0989053
END:VEVENT
BEGIN:VEVENT
DTSTART;TZID=America/Chicago:20251109T103000
DTEND;TZID=America/Chicago:20251109T120000
DTSTAMP:20260422T191330
CREATED:20251005T204859Z
LAST-MODIFIED:20251006T121534Z
UID:10006435-1762684200-1762689600@poteaucoc.org
SUMMARY:Sunday A.M. Worship
DESCRIPTION:Sunday A.M Worship
URL:https://poteaucoc.org/event/sunday-a-m-worship/2025-11-09/
LOCATION:Poteau Church of Christ\, 20690 292nd st\, Poteau\, OK\, 74953\, United States
CATEGORIES:Worship
ATTACH;FMTTYPE=image/jpeg:https://poteaucoc.org/wp-content/uploads/2021/08/worship-2.jpg
ORGANIZER;CN="Nicki Sullard":MAILTO:nicki@poteaucoc.org
GEO:35.0989053;-94.6235279
X-APPLE-STRUCTURED-LOCATION;VALUE=URI;X-ADDRESS=Poteau Church of Christ 20690 292nd st Poteau OK 74953 United States;X-APPLE-RADIUS=500;X-TITLE=20690 292nd st:geo:-94.6235279,35.0989053
END:VEVENT
BEGIN:VEVENT
DTSTART;TZID=America/Chicago:20251110T180000
DTEND;TZID=America/Chicago:20251110T210000
DTSTAMP:20260422T191330
CREATED:20251006T012458Z
LAST-MODIFIED:20251006T012458Z
UID:10006962-1762797600-1762808400@poteaucoc.org
SUMMARY:Pickleball
DESCRIPTION:Pickleball
URL:https://poteaucoc.org/event/pickleball/2025-11-10/
LOCATION:Poteau Church of Christ\, 20690 292nd st\, Poteau\, OK\, 74953\, United States
CATEGORIES:Pickleball
ATTACH;FMTTYPE=image/jpeg:https://poteaucoc.org/wp-content/uploads/2025/10/pickleb.jpg
ORGANIZER;CN="Nicki Sullard":MAILTO:nicki@poteaucoc.org
GEO:35.0989053;-94.6235279
X-APPLE-STRUCTURED-LOCATION;VALUE=URI;X-ADDRESS=Poteau Church of Christ 20690 292nd st Poteau OK 74953 United States;X-APPLE-RADIUS=500;X-TITLE=20690 292nd st:geo:-94.6235279,35.0989053
END:VEVENT
BEGIN:VEVENT
DTSTART;TZID=America/Chicago:20251111T183000
DTEND;TZID=America/Chicago:20251111T193000
DTSTAMP:20260422T191330
CREATED:20251006T013853Z
LAST-MODIFIED:20251006T013854Z
UID:10007221-1762885800-1762889400@poteaucoc.org
SUMMARY:F.A.T. Tuesday
DESCRIPTION:Feeding All Teachers Tuesday
URL:https://poteaucoc.org/event/f-a-t-tuesday/2025-11-11/
LOCATION:Poteau Church of Christ\, 20690 292nd st\, Poteau\, OK\, 74953\, United States
CATEGORIES:Bible Study
ATTACH;FMTTYPE=image/webp:https://poteaucoc.org/wp-content/uploads/2025/10/fat.webp
ORGANIZER;CN="Nicki Sullard":MAILTO:nicki@poteaucoc.org
GEO:35.0989053;-94.6235279
X-APPLE-STRUCTURED-LOCATION;VALUE=URI;X-ADDRESS=Poteau Church of Christ 20690 292nd st Poteau OK 74953 United States;X-APPLE-RADIUS=500;X-TITLE=20690 292nd st:geo:-94.6235279,35.0989053
END:VEVENT
BEGIN:VEVENT
DTSTART;TZID=America/Chicago:20251112T183000
DTEND;TZID=America/Chicago:20251112T193000
DTSTAMP:20260422T191330
CREATED:20251005T212529Z
LAST-MODIFIED:20251006T121857Z
UID:10006697-1762972200-1762975800@poteaucoc.org
SUMMARY:Wednesday P.M. Bible Study
DESCRIPTION:
URL:https://poteaucoc.org/event/wednesday-p-m-bible-study/2025-11-12/
LOCATION:Poteau Church of Christ\, 20690 292nd st\, Poteau\, OK\, 74953\, United States
CATEGORIES:Bible Study
ATTACH;FMTTYPE=image/jpeg:https://poteaucoc.org/wp-content/uploads/2021/08/patrick-fore-bsmall.jpg
ORGANIZER;CN="Nicki Sullard":MAILTO:nicki@poteaucoc.org
GEO:35.0989053;-94.6235279
X-APPLE-STRUCTURED-LOCATION;VALUE=URI;X-ADDRESS=Poteau Church of Christ 20690 292nd st Poteau OK 74953 United States;X-APPLE-RADIUS=500;X-TITLE=20690 292nd st:geo:-94.6235279,35.0989053
END:VEVENT
BEGIN:VEVENT
DTSTART;TZID=America/Chicago:20251113T180000
DTEND;TZID=America/Chicago:20251113T220000
DTSTAMP:20260422T191330
CREATED:20251006T091859Z
LAST-MODIFIED:20251006T091900Z
UID:10007350-1763056800-1763071200@poteaucoc.org
SUMMARY:Game Night
DESCRIPTION:Game Night
URL:https://poteaucoc.org/event/game-night-2/
LOCATION:Poteau Church of Christ\, 20690 292nd st\, Poteau\, OK\, 74953\, United States
CATEGORIES:Game Night
ATTACH;FMTTYPE=image/jpeg:https://poteaucoc.org/wp-content/uploads/2025/10/6800_1_07-scaled.jpg
ORGANIZER;CN="Nicki Sullard":MAILTO:nicki@poteaucoc.org
GEO:35.0989053;-94.6235279
X-APPLE-STRUCTURED-LOCATION;VALUE=URI;X-ADDRESS=Poteau Church of Christ 20690 292nd st Poteau OK 74953 United States;X-APPLE-RADIUS=500;X-TITLE=20690 292nd st:geo:-94.6235279,35.0989053
END:VEVENT
BEGIN:VEVENT
DTSTART;TZID=America/Chicago:20251116T093000
DTEND;TZID=America/Chicago:20251116T102500
DTSTAMP:20260422T191330
CREATED:20251005T203803Z
LAST-MODIFIED:20251006T121701Z
UID:10006174-1763285400-1763288700@poteaucoc.org
SUMMARY:Sunday A.M. Bible Study
DESCRIPTION:Sunday A.M Bible Study
URL:https://poteaucoc.org/event/sunday-a-m-bible-study/2025-11-16/
LOCATION:Poteau Church of Christ\, 20690 292nd st\, Poteau\, OK\, 74953\, United States
CATEGORIES:Bible Study
ATTACH;FMTTYPE=image/jpeg:https://poteaucoc.org/wp-content/uploads/2021/08/patrick-fore-b_SHPU5M3nk-unsplash-scaled.jpg
ORGANIZER;CN="Nicki Sullard":MAILTO:nicki@poteaucoc.org
GEO:35.0989053;-94.6235279
X-APPLE-STRUCTURED-LOCATION;VALUE=URI;X-ADDRESS=Poteau Church of Christ 20690 292nd st Poteau OK 74953 United States;X-APPLE-RADIUS=500;X-TITLE=20690 292nd st:geo:-94.6235279,35.0989053
END:VEVENT
BEGIN:VEVENT
DTSTART;TZID=America/Chicago:20251116T103000
DTEND;TZID=America/Chicago:20251116T120000
DTSTAMP:20260422T191330
CREATED:20251005T204859Z
LAST-MODIFIED:20251006T121534Z
UID:10006436-1763289000-1763294400@poteaucoc.org
SUMMARY:Sunday A.M. Worship
DESCRIPTION:Sunday A.M Worship
URL:https://poteaucoc.org/event/sunday-a-m-worship/2025-11-16/
LOCATION:Poteau Church of Christ\, 20690 292nd st\, Poteau\, OK\, 74953\, United States
CATEGORIES:Worship
ATTACH;FMTTYPE=image/jpeg:https://poteaucoc.org/wp-content/uploads/2021/08/worship-2.jpg
ORGANIZER;CN="Nicki Sullard":MAILTO:nicki@poteaucoc.org
GEO:35.0989053;-94.6235279
X-APPLE-STRUCTURED-LOCATION;VALUE=URI;X-ADDRESS=Poteau Church of Christ 20690 292nd st Poteau OK 74953 United States;X-APPLE-RADIUS=500;X-TITLE=20690 292nd st:geo:-94.6235279,35.0989053
END:VEVENT
BEGIN:VEVENT
DTSTART;TZID=America/Chicago:20251117T180000
DTEND;TZID=America/Chicago:20251117T210000
DTSTAMP:20260422T191330
CREATED:20251006T012458Z
LAST-MODIFIED:20251006T012458Z
UID:10006963-1763402400-1763413200@poteaucoc.org
SUMMARY:Pickleball
DESCRIPTION:Pickleball
URL:https://poteaucoc.org/event/pickleball/2025-11-17/
LOCATION:Poteau Church of Christ\, 20690 292nd st\, Poteau\, OK\, 74953\, United States
CATEGORIES:Pickleball
ATTACH;FMTTYPE=image/jpeg:https://poteaucoc.org/wp-content/uploads/2025/10/pickleb.jpg
ORGANIZER;CN="Nicki Sullard":MAILTO:nicki@poteaucoc.org
GEO:35.0989053;-94.6235279
X-APPLE-STRUCTURED-LOCATION;VALUE=URI;X-ADDRESS=Poteau Church of Christ 20690 292nd st Poteau OK 74953 United States;X-APPLE-RADIUS=500;X-TITLE=20690 292nd st:geo:-94.6235279,35.0989053
END:VEVENT
BEGIN:VEVENT
DTSTART;TZID=America/Chicago:20251119T183000
DTEND;TZID=America/Chicago:20251119T193000
DTSTAMP:20260422T191330
CREATED:20251005T212529Z
LAST-MODIFIED:20251006T121857Z
UID:10006698-1763577000-1763580600@poteaucoc.org
SUMMARY:Wednesday P.M. Bible Study
DESCRIPTION:
URL:https://poteaucoc.org/event/wednesday-p-m-bible-study/2025-11-19/
LOCATION:Poteau Church of Christ\, 20690 292nd st\, Poteau\, OK\, 74953\, United States
CATEGORIES:Bible Study
ATTACH;FMTTYPE=image/jpeg:https://poteaucoc.org/wp-content/uploads/2021/08/patrick-fore-bsmall.jpg
ORGANIZER;CN="Nicki Sullard":MAILTO:nicki@poteaucoc.org
GEO:35.0989053;-94.6235279
X-APPLE-STRUCTURED-LOCATION;VALUE=URI;X-ADDRESS=Poteau Church of Christ 20690 292nd st Poteau OK 74953 United States;X-APPLE-RADIUS=500;X-TITLE=20690 292nd st:geo:-94.6235279,35.0989053
END:VEVENT
BEGIN:VEVENT
DTSTART;TZID=America/Chicago:20251120T100000
DTEND;TZID=America/Chicago:20251120T120000
DTSTAMP:20260422T191330
CREATED:20251006T092413Z
LAST-MODIFIED:20251006T092414Z
UID:10007351-1763632800-1763640000@poteaucoc.org
SUMMARY:Food Pantry
DESCRIPTION:Food Pantry Thanksgiving
URL:https://poteaucoc.org/event/food-pantry-2/
LOCATION:Poteau Church of Christ\, 20690 292nd st\, Poteau\, OK\, 74953\, United States
CATEGORIES:Food Pantry
ATTACH;FMTTYPE=image/jpeg:https://poteaucoc.org/wp-content/uploads/2025/10/food.jpg
ORGANIZER;CN="Nicki Sullard":MAILTO:nicki@poteaucoc.org
GEO:35.0989053;-94.6235279
X-APPLE-STRUCTURED-LOCATION;VALUE=URI;X-ADDRESS=Poteau Church of Christ 20690 292nd st Poteau OK 74953 United States;X-APPLE-RADIUS=500;X-TITLE=20690 292nd st:geo:-94.6235279,35.0989053
END:VEVENT
BEGIN:VEVENT
DTSTART;TZID=America/Chicago:20251123T093000
DTEND;TZID=America/Chicago:20251123T102500
DTSTAMP:20260422T191330
CREATED:20251005T203803Z
LAST-MODIFIED:20251006T121701Z
UID:10006175-1763890200-1763893500@poteaucoc.org
SUMMARY:Sunday A.M. Bible Study
DESCRIPTION:Sunday A.M Bible Study
URL:https://poteaucoc.org/event/sunday-a-m-bible-study/2025-11-23/
LOCATION:Poteau Church of Christ\, 20690 292nd st\, Poteau\, OK\, 74953\, United States
CATEGORIES:Bible Study
ATTACH;FMTTYPE=image/jpeg:https://poteaucoc.org/wp-content/uploads/2021/08/patrick-fore-b_SHPU5M3nk-unsplash-scaled.jpg
ORGANIZER;CN="Nicki Sullard":MAILTO:nicki@poteaucoc.org
GEO:35.0989053;-94.6235279
X-APPLE-STRUCTURED-LOCATION;VALUE=URI;X-ADDRESS=Poteau Church of Christ 20690 292nd st Poteau OK 74953 United States;X-APPLE-RADIUS=500;X-TITLE=20690 292nd st:geo:-94.6235279,35.0989053
END:VEVENT
BEGIN:VEVENT
DTSTART;TZID=America/Chicago:20251123T103000
DTEND;TZID=America/Chicago:20251123T120000
DTSTAMP:20260422T191330
CREATED:20251005T204859Z
LAST-MODIFIED:20251006T121534Z
UID:10006437-1763893800-1763899200@poteaucoc.org
SUMMARY:Sunday A.M. Worship
DESCRIPTION:Sunday A.M Worship
URL:https://poteaucoc.org/event/sunday-a-m-worship/2025-11-23/
LOCATION:Poteau Church of Christ\, 20690 292nd st\, Poteau\, OK\, 74953\, United States
CATEGORIES:Worship
ATTACH;FMTTYPE=image/jpeg:https://poteaucoc.org/wp-content/uploads/2021/08/worship-2.jpg
ORGANIZER;CN="Nicki Sullard":MAILTO:nicki@poteaucoc.org
GEO:35.0989053;-94.6235279
X-APPLE-STRUCTURED-LOCATION;VALUE=URI;X-ADDRESS=Poteau Church of Christ 20690 292nd st Poteau OK 74953 United States;X-APPLE-RADIUS=500;X-TITLE=20690 292nd st:geo:-94.6235279,35.0989053
END:VEVENT
BEGIN:VEVENT
DTSTART;TZID=America/Chicago:20251124T180000
DTEND;TZID=America/Chicago:20251124T210000
DTSTAMP:20260422T191330
CREATED:20251006T012458Z
LAST-MODIFIED:20251006T012458Z
UID:10006964-1764007200-1764018000@poteaucoc.org
SUMMARY:Pickleball
DESCRIPTION:Pickleball
URL:https://poteaucoc.org/event/pickleball/2025-11-24/
LOCATION:Poteau Church of Christ\, 20690 292nd st\, Poteau\, OK\, 74953\, United States
CATEGORIES:Pickleball
ATTACH;FMTTYPE=image/jpeg:https://poteaucoc.org/wp-content/uploads/2025/10/pickleb.jpg
ORGANIZER;CN="Nicki Sullard":MAILTO:nicki@poteaucoc.org
GEO:35.0989053;-94.6235279
X-APPLE-STRUCTURED-LOCATION;VALUE=URI;X-ADDRESS=Poteau Church of Christ 20690 292nd st Poteau OK 74953 United States;X-APPLE-RADIUS=500;X-TITLE=20690 292nd st:geo:-94.6235279,35.0989053
END:VEVENT
BEGIN:VEVENT
DTSTART;TZID=America/Chicago:20251125T183000
DTEND;TZID=America/Chicago:20251125T193000
DTSTAMP:20260422T191330
CREATED:20251006T013853Z
LAST-MODIFIED:20251006T013854Z
UID:10007222-1764095400-1764099000@poteaucoc.org
SUMMARY:F.A.T. Tuesday
DESCRIPTION:Feeding All Teachers Tuesday
URL:https://poteaucoc.org/event/f-a-t-tuesday/2025-11-25/
LOCATION:Poteau Church of Christ\, 20690 292nd st\, Poteau\, OK\, 74953\, United States
CATEGORIES:Bible Study
ATTACH;FMTTYPE=image/webp:https://poteaucoc.org/wp-content/uploads/2025/10/fat.webp
ORGANIZER;CN="Nicki Sullard":MAILTO:nicki@poteaucoc.org
GEO:35.0989053;-94.6235279
X-APPLE-STRUCTURED-LOCATION;VALUE=URI;X-ADDRESS=Poteau Church of Christ 20690 292nd st Poteau OK 74953 United States;X-APPLE-RADIUS=500;X-TITLE=20690 292nd st:geo:-94.6235279,35.0989053
END:VEVENT
BEGIN:VEVENT
DTSTART;TZID=America/Chicago:20251126T183000
DTEND;TZID=America/Chicago:20251126T193000
DTSTAMP:20260422T191330
CREATED:20251005T212529Z
LAST-MODIFIED:20251006T121857Z
UID:10006699-1764181800-1764185400@poteaucoc.org
SUMMARY:Wednesday P.M. Bible Study
DESCRIPTION:
URL:https://poteaucoc.org/event/wednesday-p-m-bible-study/2025-11-26/
LOCATION:Poteau Church of Christ\, 20690 292nd st\, Poteau\, OK\, 74953\, United States
CATEGORIES:Bible Study
ATTACH;FMTTYPE=image/jpeg:https://poteaucoc.org/wp-content/uploads/2021/08/patrick-fore-bsmall.jpg
ORGANIZER;CN="Nicki Sullard":MAILTO:nicki@poteaucoc.org
GEO:35.0989053;-94.6235279
X-APPLE-STRUCTURED-LOCATION;VALUE=URI;X-ADDRESS=Poteau Church of Christ 20690 292nd st Poteau OK 74953 United States;X-APPLE-RADIUS=500;X-TITLE=20690 292nd st:geo:-94.6235279,35.0989053
END:VEVENT
BEGIN:VEVENT
DTSTART;VALUE=DATE:20251127
DTEND;VALUE=DATE:20251129
DTSTAMP:20260422T191330
CREATED:20251005T233746Z
LAST-MODIFIED:20251006T001222Z
UID:10006954-1764201600-1764374399@poteaucoc.org
SUMMARY:Office Closed Thanksgiving
DESCRIPTION:Happy Holiday office closed
URL:https://poteaucoc.org/event/office-closed-thanksgiving/
LOCATION:Poteau Church of Christ\, 20690 292nd st\, Poteau\, OK\, 74953\, United States
CATEGORIES:Office Closed Holiday
ATTACH;FMTTYPE=image/webp:https://poteaucoc.org/wp-content/uploads/2025/10/turkey.webp
ORGANIZER;CN="Nicki Sullard":MAILTO:nicki@poteaucoc.org
GEO:35.0989053;-94.6235279
X-APPLE-STRUCTURED-LOCATION;VALUE=URI;X-ADDRESS=Poteau Church of Christ 20690 292nd st Poteau OK 74953 United States;X-APPLE-RADIUS=500;X-TITLE=20690 292nd st:geo:-94.6235279,35.0989053
END:VEVENT
BEGIN:VEVENT
DTSTART;TZID=America/Chicago:20251130T093000
DTEND;TZID=America/Chicago:20251130T102500
DTSTAMP:20260422T191330
CREATED:20251005T203803Z
LAST-MODIFIED:20251006T121701Z
UID:10006176-1764495000-1764498300@poteaucoc.org
SUMMARY:Sunday A.M. Bible Study
DESCRIPTION:Sunday A.M Bible Study
URL:https://poteaucoc.org/event/sunday-a-m-bible-study/2025-11-30/
LOCATION:Poteau Church of Christ\, 20690 292nd st\, Poteau\, OK\, 74953\, United States
CATEGORIES:Bible Study
ATTACH;FMTTYPE=image/jpeg:https://poteaucoc.org/wp-content/uploads/2021/08/patrick-fore-b_SHPU5M3nk-unsplash-scaled.jpg
ORGANIZER;CN="Nicki Sullard":MAILTO:nicki@poteaucoc.org
GEO:35.0989053;-94.6235279
X-APPLE-STRUCTURED-LOCATION;VALUE=URI;X-ADDRESS=Poteau Church of Christ 20690 292nd st Poteau OK 74953 United States;X-APPLE-RADIUS=500;X-TITLE=20690 292nd st:geo:-94.6235279,35.0989053
END:VEVENT
BEGIN:VEVENT
DTSTART;TZID=America/Chicago:20251130T103000
DTEND;TZID=America/Chicago:20251130T120000
DTSTAMP:20260422T191330
CREATED:20251005T204859Z
LAST-MODIFIED:20251006T121534Z
UID:10006438-1764498600-1764504000@poteaucoc.org
SUMMARY:Sunday A.M. Worship
DESCRIPTION:Sunday A.M Worship
URL:https://poteaucoc.org/event/sunday-a-m-worship/2025-11-30/
LOCATION:Poteau Church of Christ\, 20690 292nd st\, Poteau\, OK\, 74953\, United States
CATEGORIES:Worship
ATTACH;FMTTYPE=image/jpeg:https://poteaucoc.org/wp-content/uploads/2021/08/worship-2.jpg
ORGANIZER;CN="Nicki Sullard":MAILTO:nicki@poteaucoc.org
GEO:35.0989053;-94.6235279
X-APPLE-STRUCTURED-LOCATION;VALUE=URI;X-ADDRESS=Poteau Church of Christ 20690 292nd st Poteau OK 74953 United States;X-APPLE-RADIUS=500;X-TITLE=20690 292nd st:geo:-94.6235279,35.0989053
END:VEVENT
BEGIN:VEVENT
DTSTART;TZID=America/Chicago:20251130T160000
DTEND;TZID=America/Chicago:20251130T180000
DTSTAMP:20260422T191330
CREATED:20251006T093703Z
LAST-MODIFIED:20251006T121302Z
UID:10007353-1764518400-1764525600@poteaucoc.org
SUMMARY:Elders and Deacons Meeting
DESCRIPTION:Elders at 4 Deacons at 5
URL:https://poteaucoc.org/event/elders-and-deacons-meeting/
LOCATION:Poteau Church of Christ\, 20690 292nd st\, Poteau\, OK\, 74953\, United States
CATEGORIES:Elders Deacons Meeting
ATTACH;FMTTYPE=image/webp:https://poteaucoc.org/wp-content/uploads/2023/08/assemble.webp
ORGANIZER;CN="Nicki Sullard":MAILTO:nicki@poteaucoc.org
GEO:35.0989053;-94.6235279
X-APPLE-STRUCTURED-LOCATION;VALUE=URI;X-ADDRESS=Poteau Church of Christ 20690 292nd st Poteau OK 74953 United States;X-APPLE-RADIUS=500;X-TITLE=20690 292nd st:geo:-94.6235279,35.0989053
END:VEVENT
BEGIN:VEVENT
DTSTART;TZID=America/Chicago:20251130T180000
DTEND;TZID=America/Chicago:20251130T200000
DTSTAMP:20260422T191330
CREATED:20251006T094233Z
LAST-MODIFIED:20251006T120054Z
UID:10007354-1764525600-1764532800@poteaucoc.org
SUMMARY:Family Praise Night
DESCRIPTION:Family Praise Night
URL:https://poteaucoc.org/event/family-praise-night/
LOCATION:Poteau Church of Christ\, 20690 292nd st\, Poteau\, OK\, 74953\, United States
CATEGORIES:Family Praise Night
ATTACH;FMTTYPE=image/webp:https://poteaucoc.org/wp-content/uploads/2024/08/united.webp
ORGANIZER;CN="Nicki Sullard":MAILTO:nicki@poteaucoc.org
GEO:35.0989053;-94.6235279
X-APPLE-STRUCTURED-LOCATION;VALUE=URI;X-ADDRESS=Poteau Church of Christ 20690 292nd st Poteau OK 74953 United States;X-APPLE-RADIUS=500;X-TITLE=20690 292nd st:geo:-94.6235279,35.0989053
END:VEVENT
BEGIN:VEVENT
DTSTART;TZID=America/Chicago:20251201T180000
DTEND;TZID=America/Chicago:20251201T210000
DTSTAMP:20260422T191330
CREATED:20251006T012458Z
LAST-MODIFIED:20251006T012458Z
UID:10006965-1764612000-1764622800@poteaucoc.org
SUMMARY:Pickleball
DESCRIPTION:Pickleball
URL:https://poteaucoc.org/event/pickleball/2025-12-01/
LOCATION:Poteau Church of Christ\, 20690 292nd st\, Poteau\, OK\, 74953\, United States
CATEGORIES:Pickleball
ATTACH;FMTTYPE=image/jpeg:https://poteaucoc.org/wp-content/uploads/2025/10/pickleb.jpg
ORGANIZER;CN="Nicki Sullard":MAILTO:nicki@poteaucoc.org
GEO:35.0989053;-94.6235279
X-APPLE-STRUCTURED-LOCATION;VALUE=URI;X-ADDRESS=Poteau Church of Christ 20690 292nd st Poteau OK 74953 United States;X-APPLE-RADIUS=500;X-TITLE=20690 292nd st:geo:-94.6235279,35.0989053
END:VEVENT
BEGIN:VEVENT
DTSTART;TZID=America/Chicago:20251203T173000
DTEND;TZID=America/Chicago:20251203T183000
DTSTAMP:20260422T191331
CREATED:20251203T163311Z
LAST-MODIFIED:20251203T163311Z
UID:10007364-1764783000-1764786600@poteaucoc.org
SUMMARY:Midweek Manna
DESCRIPTION:Join us for a meal before Bible Study!
URL:https://poteaucoc.org/event/midweek-manna/2025-12-03/
LOCATION:Poteau Church of Christ\, 20690 292nd st\, Poteau\, OK\, 74953\, United States
CATEGORIES:Fellowship
ORGANIZER;CN="Nicki Sullard":MAILTO:nicki@poteaucoc.org
GEO:35.0989053;-94.6235279
X-APPLE-STRUCTURED-LOCATION;VALUE=URI;X-ADDRESS=Poteau Church of Christ 20690 292nd st Poteau OK 74953 United States;X-APPLE-RADIUS=500;X-TITLE=20690 292nd st:geo:-94.6235279,35.0989053
END:VEVENT
BEGIN:VEVENT
DTSTART;TZID=America/Chicago:20251203T183000
DTEND;TZID=America/Chicago:20251203T193000
DTSTAMP:20260422T191331
CREATED:20251005T212529Z
LAST-MODIFIED:20251006T121857Z
UID:10006700-1764786600-1764790200@poteaucoc.org
SUMMARY:Wednesday P.M. Bible Study
DESCRIPTION:
URL:https://poteaucoc.org/event/wednesday-p-m-bible-study/2025-12-03/
LOCATION:Poteau Church of Christ\, 20690 292nd st\, Poteau\, OK\, 74953\, United States
CATEGORIES:Bible Study
ATTACH;FMTTYPE=image/jpeg:https://poteaucoc.org/wp-content/uploads/2021/08/patrick-fore-bsmall.jpg
ORGANIZER;CN="Nicki Sullard":MAILTO:nicki@poteaucoc.org
GEO:35.0989053;-94.6235279
X-APPLE-STRUCTURED-LOCATION;VALUE=URI;X-ADDRESS=Poteau Church of Christ 20690 292nd st Poteau OK 74953 United States;X-APPLE-RADIUS=500;X-TITLE=20690 292nd st:geo:-94.6235279,35.0989053
END:VEVENT
BEGIN:VEVENT
DTSTART;TZID=America/Chicago:20251207T093000
DTEND;TZID=America/Chicago:20251207T102500
DTSTAMP:20260422T191331
CREATED:20251005T203803Z
LAST-MODIFIED:20251006T121701Z
UID:10006177-1765099800-1765103100@poteaucoc.org
SUMMARY:Sunday A.M. Bible Study
DESCRIPTION:Sunday A.M Bible Study
URL:https://poteaucoc.org/event/sunday-a-m-bible-study/2025-12-07/
LOCATION:Poteau Church of Christ\, 20690 292nd st\, Poteau\, OK\, 74953\, United States
CATEGORIES:Bible Study
ATTACH;FMTTYPE=image/jpeg:https://poteaucoc.org/wp-content/uploads/2021/08/patrick-fore-b_SHPU5M3nk-unsplash-scaled.jpg
ORGANIZER;CN="Nicki Sullard":MAILTO:nicki@poteaucoc.org
GEO:35.0989053;-94.6235279
X-APPLE-STRUCTURED-LOCATION;VALUE=URI;X-ADDRESS=Poteau Church of Christ 20690 292nd st Poteau OK 74953 United States;X-APPLE-RADIUS=500;X-TITLE=20690 292nd st:geo:-94.6235279,35.0989053
END:VEVENT
BEGIN:VEVENT
DTSTART;TZID=America/Chicago:20251207T103000
DTEND;TZID=America/Chicago:20251207T120000
DTSTAMP:20260422T191331
CREATED:20251005T204859Z
LAST-MODIFIED:20251006T121534Z
UID:10006439-1765103400-1765108800@poteaucoc.org
SUMMARY:Sunday A.M. Worship
DESCRIPTION:Sunday A.M Worship
URL:https://poteaucoc.org/event/sunday-a-m-worship/2025-12-07/
LOCATION:Poteau Church of Christ\, 20690 292nd st\, Poteau\, OK\, 74953\, United States
CATEGORIES:Worship
ATTACH;FMTTYPE=image/jpeg:https://poteaucoc.org/wp-content/uploads/2021/08/worship-2.jpg
ORGANIZER;CN="Nicki Sullard":MAILTO:nicki@poteaucoc.org
GEO:35.0989053;-94.6235279
X-APPLE-STRUCTURED-LOCATION;VALUE=URI;X-ADDRESS=Poteau Church of Christ 20690 292nd st Poteau OK 74953 United States;X-APPLE-RADIUS=500;X-TITLE=20690 292nd st:geo:-94.6235279,35.0989053
END:VEVENT
BEGIN:VEVENT
DTSTART;TZID=America/Chicago:20251207T190000
DTEND;TZID=America/Chicago:20251207T200000
DTSTAMP:20260422T191331
CREATED:20251204T161212Z
LAST-MODIFIED:20251204T161212Z
UID:10007388-1765134000-1765137600@poteaucoc.org
SUMMARY:Cocoa & Lights
DESCRIPTION:Drive through for cocoa & cookies\, or hang out for fellowship by the fire-pit! Immediately following evening service at the Lum’s!
URL:https://poteaucoc.org/event/cocoa-lights/
LOCATION:Poteau Church of Christ\, 20690 292nd st\, Poteau\, OK\, 74953\, United States
CATEGORIES:Events
ORGANIZER;CN="Nicki Sullard":MAILTO:nicki@poteaucoc.org
GEO:35.0989053;-94.6235279
X-APPLE-STRUCTURED-LOCATION;VALUE=URI;X-ADDRESS=Poteau Church of Christ 20690 292nd st Poteau OK 74953 United States;X-APPLE-RADIUS=500;X-TITLE=20690 292nd st:geo:-94.6235279,35.0989053
END:VEVENT
END:VCALENDAR