BEGIN:VCALENDAR
VERSION:2.0
PRODID:-//Poteaucoc.org - ECPv6.15.20//NONSGML v1.0//EN
CALSCALE:GREGORIAN
METHOD:PUBLISH
X-ORIGINAL-URL:https://poteaucoc.org
X-WR-CALDESC:Events for Poteaucoc.org
REFRESH-INTERVAL;VALUE=DURATION:PT1H
X-Robots-Tag:noindex
X-PUBLISHED-TTL:PT1H
BEGIN:VTIMEZONE
TZID:America/Chicago
BEGIN:DAYLIGHT
TZOFFSETFROM:-0600
TZOFFSETTO:-0500
TZNAME:CDT
DTSTART:20260308T080000
END:DAYLIGHT
BEGIN:STANDARD
TZOFFSETFROM:-0500
TZOFFSETTO:-0600
TZNAME:CST
DTSTART:20261101T070000
END:STANDARD
BEGIN:DAYLIGHT
TZOFFSETFROM:-0600
TZOFFSETTO:-0500
TZNAME:CDT
DTSTART:20270314T080000
END:DAYLIGHT
BEGIN:STANDARD
TZOFFSETFROM:-0500
TZOFFSETTO:-0600
TZNAME:CST
DTSTART:20271107T070000
END:STANDARD
BEGIN:DAYLIGHT
TZOFFSETFROM:-0600
TZOFFSETTO:-0500
TZNAME:CDT
DTSTART:20280312T080000
END:DAYLIGHT
BEGIN:STANDARD
TZOFFSETFROM:-0500
TZOFFSETTO:-0600
TZNAME:CST
DTSTART:20281105T070000
END:STANDARD
END:VTIMEZONE
BEGIN:VEVENT
DTSTART;TZID=America/Chicago:20270418T093000
DTEND;TZID=America/Chicago:20270418T102500
DTSTAMP:20260425T082208
CREATED:20251005T203803Z
LAST-MODIFIED:20251006T121701Z
UID:10006248-1808040600-1808043900@poteaucoc.org
SUMMARY:Sunday A.M. Bible Study
DESCRIPTION:Sunday A.M Bible Study
URL:https://poteaucoc.org/event/sunday-a-m-bible-study/2027-04-18/
LOCATION:Poteau Church of Christ\, 20690 292nd st\, Poteau\, OK\, 74953\, United States
CATEGORIES:Bible Study
ATTACH;FMTTYPE=image/jpeg:https://poteaucoc.org/wp-content/uploads/2021/08/patrick-fore-b_SHPU5M3nk-unsplash-scaled.jpg
ORGANIZER;CN="Nicki Sullard":MAILTO:nicki@poteaucoc.org
GEO:35.0989053;-94.6235279
X-APPLE-STRUCTURED-LOCATION;VALUE=URI;X-ADDRESS=Poteau Church of Christ 20690 292nd st Poteau OK 74953 United States;X-APPLE-RADIUS=500;X-TITLE=20690 292nd st:geo:-94.6235279,35.0989053
END:VEVENT
BEGIN:VEVENT
DTSTART;TZID=America/Chicago:20270418T103000
DTEND;TZID=America/Chicago:20270418T120000
DTSTAMP:20260425T082208
CREATED:20251005T204859Z
LAST-MODIFIED:20251006T121534Z
UID:10006510-1808044200-1808049600@poteaucoc.org
SUMMARY:Sunday A.M. Worship
DESCRIPTION:Sunday A.M Worship
URL:https://poteaucoc.org/event/sunday-a-m-worship/2027-04-18/
LOCATION:Poteau Church of Christ\, 20690 292nd st\, Poteau\, OK\, 74953\, United States
CATEGORIES:Worship
ATTACH;FMTTYPE=image/jpeg:https://poteaucoc.org/wp-content/uploads/2021/08/worship-2.jpg
ORGANIZER;CN="Nicki Sullard":MAILTO:nicki@poteaucoc.org
GEO:35.0989053;-94.6235279
X-APPLE-STRUCTURED-LOCATION;VALUE=URI;X-ADDRESS=Poteau Church of Christ 20690 292nd st Poteau OK 74953 United States;X-APPLE-RADIUS=500;X-TITLE=20690 292nd st:geo:-94.6235279,35.0989053
END:VEVENT
BEGIN:VEVENT
DTSTART;TZID=America/Chicago:20270419T180000
DTEND;TZID=America/Chicago:20270419T210000
DTSTAMP:20260425T082208
CREATED:20251006T012458Z
LAST-MODIFIED:20251006T012458Z
UID:10007037-1808157600-1808168400@poteaucoc.org
SUMMARY:Pickleball
DESCRIPTION:Pickleball
URL:https://poteaucoc.org/event/pickleball/2027-04-19/
LOCATION:Poteau Church of Christ\, 20690 292nd st\, Poteau\, OK\, 74953\, United States
CATEGORIES:Pickleball
ATTACH;FMTTYPE=image/jpeg:https://poteaucoc.org/wp-content/uploads/2025/10/pickleb.jpg
ORGANIZER;CN="Nicki Sullard":MAILTO:nicki@poteaucoc.org
GEO:35.0989053;-94.6235279
X-APPLE-STRUCTURED-LOCATION;VALUE=URI;X-ADDRESS=Poteau Church of Christ 20690 292nd st Poteau OK 74953 United States;X-APPLE-RADIUS=500;X-TITLE=20690 292nd st:geo:-94.6235279,35.0989053
END:VEVENT
BEGIN:VEVENT
DTSTART;TZID=America/Chicago:20270421T183000
DTEND;TZID=America/Chicago:20270421T193000
DTSTAMP:20260425T082208
CREATED:20251005T212529Z
LAST-MODIFIED:20251006T121857Z
UID:10006772-1808332200-1808335800@poteaucoc.org
SUMMARY:Wednesday P.M. Bible Study
DESCRIPTION:
URL:https://poteaucoc.org/event/wednesday-p-m-bible-study/2027-04-21/
LOCATION:Poteau Church of Christ\, 20690 292nd st\, Poteau\, OK\, 74953\, United States
CATEGORIES:Bible Study
ATTACH;FMTTYPE=image/jpeg:https://poteaucoc.org/wp-content/uploads/2021/08/patrick-fore-bsmall.jpg
ORGANIZER;CN="Nicki Sullard":MAILTO:nicki@poteaucoc.org
GEO:35.0989053;-94.6235279
X-APPLE-STRUCTURED-LOCATION;VALUE=URI;X-ADDRESS=Poteau Church of Christ 20690 292nd st Poteau OK 74953 United States;X-APPLE-RADIUS=500;X-TITLE=20690 292nd st:geo:-94.6235279,35.0989053
END:VEVENT
BEGIN:VEVENT
DTSTART;TZID=America/Chicago:20270425T093000
DTEND;TZID=America/Chicago:20270425T102500
DTSTAMP:20260425T082208
CREATED:20251005T203803Z
LAST-MODIFIED:20251006T121701Z
UID:10006249-1808645400-1808648700@poteaucoc.org
SUMMARY:Sunday A.M. Bible Study
DESCRIPTION:Sunday A.M Bible Study
URL:https://poteaucoc.org/event/sunday-a-m-bible-study/2027-04-25/
LOCATION:Poteau Church of Christ\, 20690 292nd st\, Poteau\, OK\, 74953\, United States
CATEGORIES:Bible Study
ATTACH;FMTTYPE=image/jpeg:https://poteaucoc.org/wp-content/uploads/2021/08/patrick-fore-b_SHPU5M3nk-unsplash-scaled.jpg
ORGANIZER;CN="Nicki Sullard":MAILTO:nicki@poteaucoc.org
GEO:35.0989053;-94.6235279
X-APPLE-STRUCTURED-LOCATION;VALUE=URI;X-ADDRESS=Poteau Church of Christ 20690 292nd st Poteau OK 74953 United States;X-APPLE-RADIUS=500;X-TITLE=20690 292nd st:geo:-94.6235279,35.0989053
END:VEVENT
BEGIN:VEVENT
DTSTART;TZID=America/Chicago:20270425T103000
DTEND;TZID=America/Chicago:20270425T120000
DTSTAMP:20260425T082208
CREATED:20251005T204859Z
LAST-MODIFIED:20251006T121534Z
UID:10006511-1808649000-1808654400@poteaucoc.org
SUMMARY:Sunday A.M. Worship
DESCRIPTION:Sunday A.M Worship
URL:https://poteaucoc.org/event/sunday-a-m-worship/2027-04-25/
LOCATION:Poteau Church of Christ\, 20690 292nd st\, Poteau\, OK\, 74953\, United States
CATEGORIES:Worship
ATTACH;FMTTYPE=image/jpeg:https://poteaucoc.org/wp-content/uploads/2021/08/worship-2.jpg
ORGANIZER;CN="Nicki Sullard":MAILTO:nicki@poteaucoc.org
GEO:35.0989053;-94.6235279
X-APPLE-STRUCTURED-LOCATION;VALUE=URI;X-ADDRESS=Poteau Church of Christ 20690 292nd st Poteau OK 74953 United States;X-APPLE-RADIUS=500;X-TITLE=20690 292nd st:geo:-94.6235279,35.0989053
END:VEVENT
BEGIN:VEVENT
DTSTART;TZID=America/Chicago:20270426T180000
DTEND;TZID=America/Chicago:20270426T210000
DTSTAMP:20260425T082208
CREATED:20251006T012458Z
LAST-MODIFIED:20251006T012458Z
UID:10007038-1808762400-1808773200@poteaucoc.org
SUMMARY:Pickleball
DESCRIPTION:Pickleball
URL:https://poteaucoc.org/event/pickleball/2027-04-26/
LOCATION:Poteau Church of Christ\, 20690 292nd st\, Poteau\, OK\, 74953\, United States
CATEGORIES:Pickleball
ATTACH;FMTTYPE=image/jpeg:https://poteaucoc.org/wp-content/uploads/2025/10/pickleb.jpg
ORGANIZER;CN="Nicki Sullard":MAILTO:nicki@poteaucoc.org
GEO:35.0989053;-94.6235279
X-APPLE-STRUCTURED-LOCATION;VALUE=URI;X-ADDRESS=Poteau Church of Christ 20690 292nd st Poteau OK 74953 United States;X-APPLE-RADIUS=500;X-TITLE=20690 292nd st:geo:-94.6235279,35.0989053
END:VEVENT
BEGIN:VEVENT
DTSTART;TZID=America/Chicago:20270427T183000
DTEND;TZID=America/Chicago:20270427T193000
DTSTAMP:20260425T082208
CREATED:20251006T013853Z
LAST-MODIFIED:20251006T013854Z
UID:10007259-1808850600-1808854200@poteaucoc.org
SUMMARY:F.A.T. Tuesday
DESCRIPTION:Feeding All Teachers Tuesday
URL:https://poteaucoc.org/event/f-a-t-tuesday/2027-04-27/
LOCATION:Poteau Church of Christ\, 20690 292nd st\, Poteau\, OK\, 74953\, United States
CATEGORIES:Bible Study
ATTACH;FMTTYPE=image/webp:https://poteaucoc.org/wp-content/uploads/2025/10/fat.webp
ORGANIZER;CN="Nicki Sullard":MAILTO:nicki@poteaucoc.org
GEO:35.0989053;-94.6235279
X-APPLE-STRUCTURED-LOCATION;VALUE=URI;X-ADDRESS=Poteau Church of Christ 20690 292nd st Poteau OK 74953 United States;X-APPLE-RADIUS=500;X-TITLE=20690 292nd st:geo:-94.6235279,35.0989053
END:VEVENT
BEGIN:VEVENT
DTSTART;TZID=America/Chicago:20270428T183000
DTEND;TZID=America/Chicago:20270428T193000
DTSTAMP:20260425T082208
CREATED:20251005T212529Z
LAST-MODIFIED:20251006T121857Z
UID:10006773-1808937000-1808940600@poteaucoc.org
SUMMARY:Wednesday P.M. Bible Study
DESCRIPTION:
URL:https://poteaucoc.org/event/wednesday-p-m-bible-study/2027-04-28/
LOCATION:Poteau Church of Christ\, 20690 292nd st\, Poteau\, OK\, 74953\, United States
CATEGORIES:Bible Study
ATTACH;FMTTYPE=image/jpeg:https://poteaucoc.org/wp-content/uploads/2021/08/patrick-fore-bsmall.jpg
ORGANIZER;CN="Nicki Sullard":MAILTO:nicki@poteaucoc.org
GEO:35.0989053;-94.6235279
X-APPLE-STRUCTURED-LOCATION;VALUE=URI;X-ADDRESS=Poteau Church of Christ 20690 292nd st Poteau OK 74953 United States;X-APPLE-RADIUS=500;X-TITLE=20690 292nd st:geo:-94.6235279,35.0989053
END:VEVENT
BEGIN:VEVENT
DTSTART;TZID=America/Chicago:20270502T093000
DTEND;TZID=America/Chicago:20270502T102500
DTSTAMP:20260425T082208
CREATED:20251005T203803Z
LAST-MODIFIED:20251006T121701Z
UID:10006250-1809250200-1809253500@poteaucoc.org
SUMMARY:Sunday A.M. Bible Study
DESCRIPTION:Sunday A.M Bible Study
URL:https://poteaucoc.org/event/sunday-a-m-bible-study/2027-05-02/
LOCATION:Poteau Church of Christ\, 20690 292nd st\, Poteau\, OK\, 74953\, United States
CATEGORIES:Bible Study
ATTACH;FMTTYPE=image/jpeg:https://poteaucoc.org/wp-content/uploads/2021/08/patrick-fore-b_SHPU5M3nk-unsplash-scaled.jpg
ORGANIZER;CN="Nicki Sullard":MAILTO:nicki@poteaucoc.org
GEO:35.0989053;-94.6235279
X-APPLE-STRUCTURED-LOCATION;VALUE=URI;X-ADDRESS=Poteau Church of Christ 20690 292nd st Poteau OK 74953 United States;X-APPLE-RADIUS=500;X-TITLE=20690 292nd st:geo:-94.6235279,35.0989053
END:VEVENT
BEGIN:VEVENT
DTSTART;TZID=America/Chicago:20270502T103000
DTEND;TZID=America/Chicago:20270502T120000
DTSTAMP:20260425T082208
CREATED:20251005T204859Z
LAST-MODIFIED:20251006T121534Z
UID:10006512-1809253800-1809259200@poteaucoc.org
SUMMARY:Sunday A.M. Worship
DESCRIPTION:Sunday A.M Worship
URL:https://poteaucoc.org/event/sunday-a-m-worship/2027-05-02/
LOCATION:Poteau Church of Christ\, 20690 292nd st\, Poteau\, OK\, 74953\, United States
CATEGORIES:Worship
ATTACH;FMTTYPE=image/jpeg:https://poteaucoc.org/wp-content/uploads/2021/08/worship-2.jpg
ORGANIZER;CN="Nicki Sullard":MAILTO:nicki@poteaucoc.org
GEO:35.0989053;-94.6235279
X-APPLE-STRUCTURED-LOCATION;VALUE=URI;X-ADDRESS=Poteau Church of Christ 20690 292nd st Poteau OK 74953 United States;X-APPLE-RADIUS=500;X-TITLE=20690 292nd st:geo:-94.6235279,35.0989053
END:VEVENT
BEGIN:VEVENT
DTSTART;TZID=America/Chicago:20270503T180000
DTEND;TZID=America/Chicago:20270503T210000
DTSTAMP:20260425T082208
CREATED:20251006T012458Z
LAST-MODIFIED:20251006T012458Z
UID:10007039-1809367200-1809378000@poteaucoc.org
SUMMARY:Pickleball
DESCRIPTION:Pickleball
URL:https://poteaucoc.org/event/pickleball/2027-05-03/
LOCATION:Poteau Church of Christ\, 20690 292nd st\, Poteau\, OK\, 74953\, United States
CATEGORIES:Pickleball
ATTACH;FMTTYPE=image/jpeg:https://poteaucoc.org/wp-content/uploads/2025/10/pickleb.jpg
ORGANIZER;CN="Nicki Sullard":MAILTO:nicki@poteaucoc.org
GEO:35.0989053;-94.6235279
X-APPLE-STRUCTURED-LOCATION;VALUE=URI;X-ADDRESS=Poteau Church of Christ 20690 292nd st Poteau OK 74953 United States;X-APPLE-RADIUS=500;X-TITLE=20690 292nd st:geo:-94.6235279,35.0989053
END:VEVENT
BEGIN:VEVENT
DTSTART;TZID=America/Chicago:20270505T183000
DTEND;TZID=America/Chicago:20270505T193000
DTSTAMP:20260425T082208
CREATED:20251005T212529Z
LAST-MODIFIED:20251006T121857Z
UID:10006774-1809541800-1809545400@poteaucoc.org
SUMMARY:Wednesday P.M. Bible Study
DESCRIPTION:
URL:https://poteaucoc.org/event/wednesday-p-m-bible-study/2027-05-05/
LOCATION:Poteau Church of Christ\, 20690 292nd st\, Poteau\, OK\, 74953\, United States
CATEGORIES:Bible Study
ATTACH;FMTTYPE=image/jpeg:https://poteaucoc.org/wp-content/uploads/2021/08/patrick-fore-bsmall.jpg
ORGANIZER;CN="Nicki Sullard":MAILTO:nicki@poteaucoc.org
GEO:35.0989053;-94.6235279
X-APPLE-STRUCTURED-LOCATION;VALUE=URI;X-ADDRESS=Poteau Church of Christ 20690 292nd st Poteau OK 74953 United States;X-APPLE-RADIUS=500;X-TITLE=20690 292nd st:geo:-94.6235279,35.0989053
END:VEVENT
BEGIN:VEVENT
DTSTART;TZID=America/Chicago:20270509T093000
DTEND;TZID=America/Chicago:20270509T102500
DTSTAMP:20260425T082208
CREATED:20251005T203803Z
LAST-MODIFIED:20251006T121701Z
UID:10006251-1809855000-1809858300@poteaucoc.org
SUMMARY:Sunday A.M. Bible Study
DESCRIPTION:Sunday A.M Bible Study
URL:https://poteaucoc.org/event/sunday-a-m-bible-study/2027-05-09/
LOCATION:Poteau Church of Christ\, 20690 292nd st\, Poteau\, OK\, 74953\, United States
CATEGORIES:Bible Study
ATTACH;FMTTYPE=image/jpeg:https://poteaucoc.org/wp-content/uploads/2021/08/patrick-fore-b_SHPU5M3nk-unsplash-scaled.jpg
ORGANIZER;CN="Nicki Sullard":MAILTO:nicki@poteaucoc.org
GEO:35.0989053;-94.6235279
X-APPLE-STRUCTURED-LOCATION;VALUE=URI;X-ADDRESS=Poteau Church of Christ 20690 292nd st Poteau OK 74953 United States;X-APPLE-RADIUS=500;X-TITLE=20690 292nd st:geo:-94.6235279,35.0989053
END:VEVENT
BEGIN:VEVENT
DTSTART;TZID=America/Chicago:20270509T103000
DTEND;TZID=America/Chicago:20270509T120000
DTSTAMP:20260425T082208
CREATED:20251005T204859Z
LAST-MODIFIED:20251006T121534Z
UID:10006513-1809858600-1809864000@poteaucoc.org
SUMMARY:Sunday A.M. Worship
DESCRIPTION:Sunday A.M Worship
URL:https://poteaucoc.org/event/sunday-a-m-worship/2027-05-09/
LOCATION:Poteau Church of Christ\, 20690 292nd st\, Poteau\, OK\, 74953\, United States
CATEGORIES:Worship
ATTACH;FMTTYPE=image/jpeg:https://poteaucoc.org/wp-content/uploads/2021/08/worship-2.jpg
ORGANIZER;CN="Nicki Sullard":MAILTO:nicki@poteaucoc.org
GEO:35.0989053;-94.6235279
X-APPLE-STRUCTURED-LOCATION;VALUE=URI;X-ADDRESS=Poteau Church of Christ 20690 292nd st Poteau OK 74953 United States;X-APPLE-RADIUS=500;X-TITLE=20690 292nd st:geo:-94.6235279,35.0989053
END:VEVENT
BEGIN:VEVENT
DTSTART;TZID=America/Chicago:20270510T180000
DTEND;TZID=America/Chicago:20270510T210000
DTSTAMP:20260425T082208
CREATED:20251006T012458Z
LAST-MODIFIED:20251006T012458Z
UID:10007040-1809972000-1809982800@poteaucoc.org
SUMMARY:Pickleball
DESCRIPTION:Pickleball
URL:https://poteaucoc.org/event/pickleball/2027-05-10/
LOCATION:Poteau Church of Christ\, 20690 292nd st\, Poteau\, OK\, 74953\, United States
CATEGORIES:Pickleball
ATTACH;FMTTYPE=image/jpeg:https://poteaucoc.org/wp-content/uploads/2025/10/pickleb.jpg
ORGANIZER;CN="Nicki Sullard":MAILTO:nicki@poteaucoc.org
GEO:35.0989053;-94.6235279
X-APPLE-STRUCTURED-LOCATION;VALUE=URI;X-ADDRESS=Poteau Church of Christ 20690 292nd st Poteau OK 74953 United States;X-APPLE-RADIUS=500;X-TITLE=20690 292nd st:geo:-94.6235279,35.0989053
END:VEVENT
BEGIN:VEVENT
DTSTART;TZID=America/Chicago:20270511T183000
DTEND;TZID=America/Chicago:20270511T193000
DTSTAMP:20260425T082208
CREATED:20251006T013853Z
LAST-MODIFIED:20251006T013854Z
UID:10007260-1810060200-1810063800@poteaucoc.org
SUMMARY:F.A.T. Tuesday
DESCRIPTION:Feeding All Teachers Tuesday
URL:https://poteaucoc.org/event/f-a-t-tuesday/2027-05-11/
LOCATION:Poteau Church of Christ\, 20690 292nd st\, Poteau\, OK\, 74953\, United States
CATEGORIES:Bible Study
ATTACH;FMTTYPE=image/webp:https://poteaucoc.org/wp-content/uploads/2025/10/fat.webp
ORGANIZER;CN="Nicki Sullard":MAILTO:nicki@poteaucoc.org
GEO:35.0989053;-94.6235279
X-APPLE-STRUCTURED-LOCATION;VALUE=URI;X-ADDRESS=Poteau Church of Christ 20690 292nd st Poteau OK 74953 United States;X-APPLE-RADIUS=500;X-TITLE=20690 292nd st:geo:-94.6235279,35.0989053
END:VEVENT
BEGIN:VEVENT
DTSTART;TZID=America/Chicago:20270512T183000
DTEND;TZID=America/Chicago:20270512T193000
DTSTAMP:20260425T082208
CREATED:20251005T212529Z
LAST-MODIFIED:20251006T121857Z
UID:10006775-1810146600-1810150200@poteaucoc.org
SUMMARY:Wednesday P.M. Bible Study
DESCRIPTION:
URL:https://poteaucoc.org/event/wednesday-p-m-bible-study/2027-05-12/
LOCATION:Poteau Church of Christ\, 20690 292nd st\, Poteau\, OK\, 74953\, United States
CATEGORIES:Bible Study
ATTACH;FMTTYPE=image/jpeg:https://poteaucoc.org/wp-content/uploads/2021/08/patrick-fore-bsmall.jpg
ORGANIZER;CN="Nicki Sullard":MAILTO:nicki@poteaucoc.org
GEO:35.0989053;-94.6235279
X-APPLE-STRUCTURED-LOCATION;VALUE=URI;X-ADDRESS=Poteau Church of Christ 20690 292nd st Poteau OK 74953 United States;X-APPLE-RADIUS=500;X-TITLE=20690 292nd st:geo:-94.6235279,35.0989053
END:VEVENT
BEGIN:VEVENT
DTSTART;TZID=America/Chicago:20270516T093000
DTEND;TZID=America/Chicago:20270516T102500
DTSTAMP:20260425T082208
CREATED:20251005T203803Z
LAST-MODIFIED:20251006T121701Z
UID:10006252-1810459800-1810463100@poteaucoc.org
SUMMARY:Sunday A.M. Bible Study
DESCRIPTION:Sunday A.M Bible Study
URL:https://poteaucoc.org/event/sunday-a-m-bible-study/2027-05-16/
LOCATION:Poteau Church of Christ\, 20690 292nd st\, Poteau\, OK\, 74953\, United States
CATEGORIES:Bible Study
ATTACH;FMTTYPE=image/jpeg:https://poteaucoc.org/wp-content/uploads/2021/08/patrick-fore-b_SHPU5M3nk-unsplash-scaled.jpg
ORGANIZER;CN="Nicki Sullard":MAILTO:nicki@poteaucoc.org
GEO:35.0989053;-94.6235279
X-APPLE-STRUCTURED-LOCATION;VALUE=URI;X-ADDRESS=Poteau Church of Christ 20690 292nd st Poteau OK 74953 United States;X-APPLE-RADIUS=500;X-TITLE=20690 292nd st:geo:-94.6235279,35.0989053
END:VEVENT
BEGIN:VEVENT
DTSTART;TZID=America/Chicago:20270516T103000
DTEND;TZID=America/Chicago:20270516T120000
DTSTAMP:20260425T082208
CREATED:20251005T204859Z
LAST-MODIFIED:20251006T121534Z
UID:10006514-1810463400-1810468800@poteaucoc.org
SUMMARY:Sunday A.M. Worship
DESCRIPTION:Sunday A.M Worship
URL:https://poteaucoc.org/event/sunday-a-m-worship/2027-05-16/
LOCATION:Poteau Church of Christ\, 20690 292nd st\, Poteau\, OK\, 74953\, United States
CATEGORIES:Worship
ATTACH;FMTTYPE=image/jpeg:https://poteaucoc.org/wp-content/uploads/2021/08/worship-2.jpg
ORGANIZER;CN="Nicki Sullard":MAILTO:nicki@poteaucoc.org
GEO:35.0989053;-94.6235279
X-APPLE-STRUCTURED-LOCATION;VALUE=URI;X-ADDRESS=Poteau Church of Christ 20690 292nd st Poteau OK 74953 United States;X-APPLE-RADIUS=500;X-TITLE=20690 292nd st:geo:-94.6235279,35.0989053
END:VEVENT
BEGIN:VEVENT
DTSTART;TZID=America/Chicago:20270517T180000
DTEND;TZID=America/Chicago:20270517T210000
DTSTAMP:20260425T082208
CREATED:20251006T012458Z
LAST-MODIFIED:20251006T012458Z
UID:10007041-1810576800-1810587600@poteaucoc.org
SUMMARY:Pickleball
DESCRIPTION:Pickleball
URL:https://poteaucoc.org/event/pickleball/2027-05-17/
LOCATION:Poteau Church of Christ\, 20690 292nd st\, Poteau\, OK\, 74953\, United States
CATEGORIES:Pickleball
ATTACH;FMTTYPE=image/jpeg:https://poteaucoc.org/wp-content/uploads/2025/10/pickleb.jpg
ORGANIZER;CN="Nicki Sullard":MAILTO:nicki@poteaucoc.org
GEO:35.0989053;-94.6235279
X-APPLE-STRUCTURED-LOCATION;VALUE=URI;X-ADDRESS=Poteau Church of Christ 20690 292nd st Poteau OK 74953 United States;X-APPLE-RADIUS=500;X-TITLE=20690 292nd st:geo:-94.6235279,35.0989053
END:VEVENT
BEGIN:VEVENT
DTSTART;TZID=America/Chicago:20270519T183000
DTEND;TZID=America/Chicago:20270519T193000
DTSTAMP:20260425T082208
CREATED:20251005T212529Z
LAST-MODIFIED:20251006T121857Z
UID:10006776-1810751400-1810755000@poteaucoc.org
SUMMARY:Wednesday P.M. Bible Study
DESCRIPTION:
URL:https://poteaucoc.org/event/wednesday-p-m-bible-study/2027-05-19/
LOCATION:Poteau Church of Christ\, 20690 292nd st\, Poteau\, OK\, 74953\, United States
CATEGORIES:Bible Study
ATTACH;FMTTYPE=image/jpeg:https://poteaucoc.org/wp-content/uploads/2021/08/patrick-fore-bsmall.jpg
ORGANIZER;CN="Nicki Sullard":MAILTO:nicki@poteaucoc.org
GEO:35.0989053;-94.6235279
X-APPLE-STRUCTURED-LOCATION;VALUE=URI;X-ADDRESS=Poteau Church of Christ 20690 292nd st Poteau OK 74953 United States;X-APPLE-RADIUS=500;X-TITLE=20690 292nd st:geo:-94.6235279,35.0989053
END:VEVENT
BEGIN:VEVENT
DTSTART;TZID=America/Chicago:20270523T093000
DTEND;TZID=America/Chicago:20270523T102500
DTSTAMP:20260425T082208
CREATED:20251005T203803Z
LAST-MODIFIED:20251006T121701Z
UID:10006253-1811064600-1811067900@poteaucoc.org
SUMMARY:Sunday A.M. Bible Study
DESCRIPTION:Sunday A.M Bible Study
URL:https://poteaucoc.org/event/sunday-a-m-bible-study/2027-05-23/
LOCATION:Poteau Church of Christ\, 20690 292nd st\, Poteau\, OK\, 74953\, United States
CATEGORIES:Bible Study
ATTACH;FMTTYPE=image/jpeg:https://poteaucoc.org/wp-content/uploads/2021/08/patrick-fore-b_SHPU5M3nk-unsplash-scaled.jpg
ORGANIZER;CN="Nicki Sullard":MAILTO:nicki@poteaucoc.org
GEO:35.0989053;-94.6235279
X-APPLE-STRUCTURED-LOCATION;VALUE=URI;X-ADDRESS=Poteau Church of Christ 20690 292nd st Poteau OK 74953 United States;X-APPLE-RADIUS=500;X-TITLE=20690 292nd st:geo:-94.6235279,35.0989053
END:VEVENT
BEGIN:VEVENT
DTSTART;TZID=America/Chicago:20270523T103000
DTEND;TZID=America/Chicago:20270523T120000
DTSTAMP:20260425T082208
CREATED:20251005T204859Z
LAST-MODIFIED:20251006T121534Z
UID:10006515-1811068200-1811073600@poteaucoc.org
SUMMARY:Sunday A.M. Worship
DESCRIPTION:Sunday A.M Worship
URL:https://poteaucoc.org/event/sunday-a-m-worship/2027-05-23/
LOCATION:Poteau Church of Christ\, 20690 292nd st\, Poteau\, OK\, 74953\, United States
CATEGORIES:Worship
ATTACH;FMTTYPE=image/jpeg:https://poteaucoc.org/wp-content/uploads/2021/08/worship-2.jpg
ORGANIZER;CN="Nicki Sullard":MAILTO:nicki@poteaucoc.org
GEO:35.0989053;-94.6235279
X-APPLE-STRUCTURED-LOCATION;VALUE=URI;X-ADDRESS=Poteau Church of Christ 20690 292nd st Poteau OK 74953 United States;X-APPLE-RADIUS=500;X-TITLE=20690 292nd st:geo:-94.6235279,35.0989053
END:VEVENT
BEGIN:VEVENT
DTSTART;TZID=America/Chicago:20270524T180000
DTEND;TZID=America/Chicago:20270524T210000
DTSTAMP:20260425T082208
CREATED:20251006T012458Z
LAST-MODIFIED:20251006T012458Z
UID:10007042-1811181600-1811192400@poteaucoc.org
SUMMARY:Pickleball
DESCRIPTION:Pickleball
URL:https://poteaucoc.org/event/pickleball/2027-05-24/
LOCATION:Poteau Church of Christ\, 20690 292nd st\, Poteau\, OK\, 74953\, United States
CATEGORIES:Pickleball
ATTACH;FMTTYPE=image/jpeg:https://poteaucoc.org/wp-content/uploads/2025/10/pickleb.jpg
ORGANIZER;CN="Nicki Sullard":MAILTO:nicki@poteaucoc.org
GEO:35.0989053;-94.6235279
X-APPLE-STRUCTURED-LOCATION;VALUE=URI;X-ADDRESS=Poteau Church of Christ 20690 292nd st Poteau OK 74953 United States;X-APPLE-RADIUS=500;X-TITLE=20690 292nd st:geo:-94.6235279,35.0989053
END:VEVENT
BEGIN:VEVENT
DTSTART;TZID=America/Chicago:20270525T183000
DTEND;TZID=America/Chicago:20270525T193000
DTSTAMP:20260425T082208
CREATED:20251006T013853Z
LAST-MODIFIED:20251006T013854Z
UID:10007261-1811269800-1811273400@poteaucoc.org
SUMMARY:F.A.T. Tuesday
DESCRIPTION:Feeding All Teachers Tuesday
URL:https://poteaucoc.org/event/f-a-t-tuesday/2027-05-25/
LOCATION:Poteau Church of Christ\, 20690 292nd st\, Poteau\, OK\, 74953\, United States
CATEGORIES:Bible Study
ATTACH;FMTTYPE=image/webp:https://poteaucoc.org/wp-content/uploads/2025/10/fat.webp
ORGANIZER;CN="Nicki Sullard":MAILTO:nicki@poteaucoc.org
GEO:35.0989053;-94.6235279
X-APPLE-STRUCTURED-LOCATION;VALUE=URI;X-ADDRESS=Poteau Church of Christ 20690 292nd st Poteau OK 74953 United States;X-APPLE-RADIUS=500;X-TITLE=20690 292nd st:geo:-94.6235279,35.0989053
END:VEVENT
BEGIN:VEVENT
DTSTART;TZID=America/Chicago:20270526T183000
DTEND;TZID=America/Chicago:20270526T193000
DTSTAMP:20260425T082208
CREATED:20251005T212529Z
LAST-MODIFIED:20251006T121857Z
UID:10006777-1811356200-1811359800@poteaucoc.org
SUMMARY:Wednesday P.M. Bible Study
DESCRIPTION:
URL:https://poteaucoc.org/event/wednesday-p-m-bible-study/2027-05-26/
LOCATION:Poteau Church of Christ\, 20690 292nd st\, Poteau\, OK\, 74953\, United States
CATEGORIES:Bible Study
ATTACH;FMTTYPE=image/jpeg:https://poteaucoc.org/wp-content/uploads/2021/08/patrick-fore-bsmall.jpg
ORGANIZER;CN="Nicki Sullard":MAILTO:nicki@poteaucoc.org
GEO:35.0989053;-94.6235279
X-APPLE-STRUCTURED-LOCATION;VALUE=URI;X-ADDRESS=Poteau Church of Christ 20690 292nd st Poteau OK 74953 United States;X-APPLE-RADIUS=500;X-TITLE=20690 292nd st:geo:-94.6235279,35.0989053
END:VEVENT
BEGIN:VEVENT
DTSTART;TZID=America/Chicago:20270530T093000
DTEND;TZID=America/Chicago:20270530T102500
DTSTAMP:20260425T082209
CREATED:20251005T203803Z
LAST-MODIFIED:20251006T121701Z
UID:10006254-1811669400-1811672700@poteaucoc.org
SUMMARY:Sunday A.M. Bible Study
DESCRIPTION:Sunday A.M Bible Study
URL:https://poteaucoc.org/event/sunday-a-m-bible-study/2027-05-30/
LOCATION:Poteau Church of Christ\, 20690 292nd st\, Poteau\, OK\, 74953\, United States
CATEGORIES:Bible Study
ATTACH;FMTTYPE=image/jpeg:https://poteaucoc.org/wp-content/uploads/2021/08/patrick-fore-b_SHPU5M3nk-unsplash-scaled.jpg
ORGANIZER;CN="Nicki Sullard":MAILTO:nicki@poteaucoc.org
GEO:35.0989053;-94.6235279
X-APPLE-STRUCTURED-LOCATION;VALUE=URI;X-ADDRESS=Poteau Church of Christ 20690 292nd st Poteau OK 74953 United States;X-APPLE-RADIUS=500;X-TITLE=20690 292nd st:geo:-94.6235279,35.0989053
END:VEVENT
BEGIN:VEVENT
DTSTART;TZID=America/Chicago:20270530T103000
DTEND;TZID=America/Chicago:20270530T120000
DTSTAMP:20260425T082209
CREATED:20251005T204859Z
LAST-MODIFIED:20251006T121534Z
UID:10006516-1811673000-1811678400@poteaucoc.org
SUMMARY:Sunday A.M. Worship
DESCRIPTION:Sunday A.M Worship
URL:https://poteaucoc.org/event/sunday-a-m-worship/2027-05-30/
LOCATION:Poteau Church of Christ\, 20690 292nd st\, Poteau\, OK\, 74953\, United States
CATEGORIES:Worship
ATTACH;FMTTYPE=image/jpeg:https://poteaucoc.org/wp-content/uploads/2021/08/worship-2.jpg
ORGANIZER;CN="Nicki Sullard":MAILTO:nicki@poteaucoc.org
GEO:35.0989053;-94.6235279
X-APPLE-STRUCTURED-LOCATION;VALUE=URI;X-ADDRESS=Poteau Church of Christ 20690 292nd st Poteau OK 74953 United States;X-APPLE-RADIUS=500;X-TITLE=20690 292nd st:geo:-94.6235279,35.0989053
END:VEVENT
BEGIN:VEVENT
DTSTART;TZID=America/Chicago:20270531T180000
DTEND;TZID=America/Chicago:20270531T210000
DTSTAMP:20260425T082209
CREATED:20251006T012458Z
LAST-MODIFIED:20251006T012458Z
UID:10007043-1811786400-1811797200@poteaucoc.org
SUMMARY:Pickleball
DESCRIPTION:Pickleball
URL:https://poteaucoc.org/event/pickleball/2027-05-31/
LOCATION:Poteau Church of Christ\, 20690 292nd st\, Poteau\, OK\, 74953\, United States
CATEGORIES:Pickleball
ATTACH;FMTTYPE=image/jpeg:https://poteaucoc.org/wp-content/uploads/2025/10/pickleb.jpg
ORGANIZER;CN="Nicki Sullard":MAILTO:nicki@poteaucoc.org
GEO:35.0989053;-94.6235279
X-APPLE-STRUCTURED-LOCATION;VALUE=URI;X-ADDRESS=Poteau Church of Christ 20690 292nd st Poteau OK 74953 United States;X-APPLE-RADIUS=500;X-TITLE=20690 292nd st:geo:-94.6235279,35.0989053
END:VEVENT
END:VCALENDAR