BEGIN:VCALENDAR
VERSION:2.0
PRODID:-//Poteaucoc.org - ECPv6.15.20//NONSGML v1.0//EN
CALSCALE:GREGORIAN
METHOD:PUBLISH
X-WR-CALNAME:Poteaucoc.org
X-ORIGINAL-URL:https://poteaucoc.org
X-WR-CALDESC:Events for Poteaucoc.org
REFRESH-INTERVAL;VALUE=DURATION:PT1H
X-Robots-Tag:noindex
X-PUBLISHED-TTL:PT1H
BEGIN:VTIMEZONE
TZID:America/Chicago
BEGIN:DAYLIGHT
TZOFFSETFROM:-0600
TZOFFSETTO:-0500
TZNAME:CDT
DTSTART:20260308T080000
END:DAYLIGHT
BEGIN:STANDARD
TZOFFSETFROM:-0500
TZOFFSETTO:-0600
TZNAME:CST
DTSTART:20261101T070000
END:STANDARD
BEGIN:DAYLIGHT
TZOFFSETFROM:-0600
TZOFFSETTO:-0500
TZNAME:CDT
DTSTART:20270314T080000
END:DAYLIGHT
BEGIN:STANDARD
TZOFFSETFROM:-0500
TZOFFSETTO:-0600
TZNAME:CST
DTSTART:20271107T070000
END:STANDARD
BEGIN:DAYLIGHT
TZOFFSETFROM:-0600
TZOFFSETTO:-0500
TZNAME:CDT
DTSTART:20280312T080000
END:DAYLIGHT
BEGIN:STANDARD
TZOFFSETFROM:-0500
TZOFFSETTO:-0600
TZNAME:CST
DTSTART:20281105T070000
END:STANDARD
END:VTIMEZONE
BEGIN:VEVENT
DTSTART;TZID=America/Chicago:20270221T103000
DTEND;TZID=America/Chicago:20270221T120000
DTSTAMP:20260425T083858
CREATED:20251005T204859Z
LAST-MODIFIED:20251006T121534Z
UID:10006502-1803205800-1803211200@poteaucoc.org
SUMMARY:Sunday A.M. Worship
DESCRIPTION:Sunday A.M Worship
URL:https://poteaucoc.org/event/sunday-a-m-worship/2027-02-21/
LOCATION:Poteau Church of Christ\, 20690 292nd st\, Poteau\, OK\, 74953\, United States
CATEGORIES:Worship
ATTACH;FMTTYPE=image/jpeg:https://poteaucoc.org/wp-content/uploads/2021/08/worship-2.jpg
ORGANIZER;CN="Nicki Sullard":MAILTO:nicki@poteaucoc.org
GEO:35.0989053;-94.6235279
X-APPLE-STRUCTURED-LOCATION;VALUE=URI;X-ADDRESS=Poteau Church of Christ 20690 292nd st Poteau OK 74953 United States;X-APPLE-RADIUS=500;X-TITLE=20690 292nd st:geo:-94.6235279,35.0989053
END:VEVENT
BEGIN:VEVENT
DTSTART;TZID=America/Chicago:20270222T180000
DTEND;TZID=America/Chicago:20270222T210000
DTSTAMP:20260425T083858
CREATED:20251006T012458Z
LAST-MODIFIED:20251006T012458Z
UID:10007029-1803319200-1803330000@poteaucoc.org
SUMMARY:Pickleball
DESCRIPTION:Pickleball
URL:https://poteaucoc.org/event/pickleball/2027-02-22/
LOCATION:Poteau Church of Christ\, 20690 292nd st\, Poteau\, OK\, 74953\, United States
CATEGORIES:Pickleball
ATTACH;FMTTYPE=image/jpeg:https://poteaucoc.org/wp-content/uploads/2025/10/pickleb.jpg
ORGANIZER;CN="Nicki Sullard":MAILTO:nicki@poteaucoc.org
GEO:35.0989053;-94.6235279
X-APPLE-STRUCTURED-LOCATION;VALUE=URI;X-ADDRESS=Poteau Church of Christ 20690 292nd st Poteau OK 74953 United States;X-APPLE-RADIUS=500;X-TITLE=20690 292nd st:geo:-94.6235279,35.0989053
END:VEVENT
BEGIN:VEVENT
DTSTART;TZID=America/Chicago:20270224T183000
DTEND;TZID=America/Chicago:20270224T193000
DTSTAMP:20260425T083858
CREATED:20251005T212529Z
LAST-MODIFIED:20251006T121857Z
UID:10006764-1803493800-1803497400@poteaucoc.org
SUMMARY:Wednesday P.M. Bible Study
DESCRIPTION:
URL:https://poteaucoc.org/event/wednesday-p-m-bible-study/2027-02-24/
LOCATION:Poteau Church of Christ\, 20690 292nd st\, Poteau\, OK\, 74953\, United States
CATEGORIES:Bible Study
ATTACH;FMTTYPE=image/jpeg:https://poteaucoc.org/wp-content/uploads/2021/08/patrick-fore-bsmall.jpg
ORGANIZER;CN="Nicki Sullard":MAILTO:nicki@poteaucoc.org
GEO:35.0989053;-94.6235279
X-APPLE-STRUCTURED-LOCATION;VALUE=URI;X-ADDRESS=Poteau Church of Christ 20690 292nd st Poteau OK 74953 United States;X-APPLE-RADIUS=500;X-TITLE=20690 292nd st:geo:-94.6235279,35.0989053
END:VEVENT
BEGIN:VEVENT
DTSTART;TZID=America/Chicago:20270228T093000
DTEND;TZID=America/Chicago:20270228T102500
DTSTAMP:20260425T083858
CREATED:20251005T203803Z
LAST-MODIFIED:20251006T121701Z
UID:10006241-1803807000-1803810300@poteaucoc.org
SUMMARY:Sunday A.M. Bible Study
DESCRIPTION:Sunday A.M Bible Study
URL:https://poteaucoc.org/event/sunday-a-m-bible-study/2027-02-28/
LOCATION:Poteau Church of Christ\, 20690 292nd st\, Poteau\, OK\, 74953\, United States
CATEGORIES:Bible Study
ATTACH;FMTTYPE=image/jpeg:https://poteaucoc.org/wp-content/uploads/2021/08/patrick-fore-b_SHPU5M3nk-unsplash-scaled.jpg
ORGANIZER;CN="Nicki Sullard":MAILTO:nicki@poteaucoc.org
GEO:35.0989053;-94.6235279
X-APPLE-STRUCTURED-LOCATION;VALUE=URI;X-ADDRESS=Poteau Church of Christ 20690 292nd st Poteau OK 74953 United States;X-APPLE-RADIUS=500;X-TITLE=20690 292nd st:geo:-94.6235279,35.0989053
END:VEVENT
BEGIN:VEVENT
DTSTART;TZID=America/Chicago:20270228T103000
DTEND;TZID=America/Chicago:20270228T120000
DTSTAMP:20260425T083858
CREATED:20251005T204859Z
LAST-MODIFIED:20251006T121534Z
UID:10006503-1803810600-1803816000@poteaucoc.org
SUMMARY:Sunday A.M. Worship
DESCRIPTION:Sunday A.M Worship
URL:https://poteaucoc.org/event/sunday-a-m-worship/2027-02-28/
LOCATION:Poteau Church of Christ\, 20690 292nd st\, Poteau\, OK\, 74953\, United States
CATEGORIES:Worship
ATTACH;FMTTYPE=image/jpeg:https://poteaucoc.org/wp-content/uploads/2021/08/worship-2.jpg
ORGANIZER;CN="Nicki Sullard":MAILTO:nicki@poteaucoc.org
GEO:35.0989053;-94.6235279
X-APPLE-STRUCTURED-LOCATION;VALUE=URI;X-ADDRESS=Poteau Church of Christ 20690 292nd st Poteau OK 74953 United States;X-APPLE-RADIUS=500;X-TITLE=20690 292nd st:geo:-94.6235279,35.0989053
END:VEVENT
BEGIN:VEVENT
DTSTART;TZID=America/Chicago:20270301T180000
DTEND;TZID=America/Chicago:20270301T210000
DTSTAMP:20260425T083858
CREATED:20251006T012458Z
LAST-MODIFIED:20251006T012458Z
UID:10007030-1803924000-1803934800@poteaucoc.org
SUMMARY:Pickleball
DESCRIPTION:Pickleball
URL:https://poteaucoc.org/event/pickleball/2027-03-01/
LOCATION:Poteau Church of Christ\, 20690 292nd st\, Poteau\, OK\, 74953\, United States
CATEGORIES:Pickleball
ATTACH;FMTTYPE=image/jpeg:https://poteaucoc.org/wp-content/uploads/2025/10/pickleb.jpg
ORGANIZER;CN="Nicki Sullard":MAILTO:nicki@poteaucoc.org
GEO:35.0989053;-94.6235279
X-APPLE-STRUCTURED-LOCATION;VALUE=URI;X-ADDRESS=Poteau Church of Christ 20690 292nd st Poteau OK 74953 United States;X-APPLE-RADIUS=500;X-TITLE=20690 292nd st:geo:-94.6235279,35.0989053
END:VEVENT
BEGIN:VEVENT
DTSTART;TZID=America/Chicago:20270302T183000
DTEND;TZID=America/Chicago:20270302T193000
DTSTAMP:20260425T083858
CREATED:20251006T013853Z
LAST-MODIFIED:20251006T013854Z
UID:10007255-1804012200-1804015800@poteaucoc.org
SUMMARY:F.A.T. Tuesday
DESCRIPTION:Feeding All Teachers Tuesday
URL:https://poteaucoc.org/event/f-a-t-tuesday/2027-03-02/
LOCATION:Poteau Church of Christ\, 20690 292nd st\, Poteau\, OK\, 74953\, United States
CATEGORIES:Bible Study
ATTACH;FMTTYPE=image/webp:https://poteaucoc.org/wp-content/uploads/2025/10/fat.webp
ORGANIZER;CN="Nicki Sullard":MAILTO:nicki@poteaucoc.org
GEO:35.0989053;-94.6235279
X-APPLE-STRUCTURED-LOCATION;VALUE=URI;X-ADDRESS=Poteau Church of Christ 20690 292nd st Poteau OK 74953 United States;X-APPLE-RADIUS=500;X-TITLE=20690 292nd st:geo:-94.6235279,35.0989053
END:VEVENT
BEGIN:VEVENT
DTSTART;TZID=America/Chicago:20270303T183000
DTEND;TZID=America/Chicago:20270303T193000
DTSTAMP:20260425T083858
CREATED:20251005T212529Z
LAST-MODIFIED:20251006T121857Z
UID:10006765-1804098600-1804102200@poteaucoc.org
SUMMARY:Wednesday P.M. Bible Study
DESCRIPTION:
URL:https://poteaucoc.org/event/wednesday-p-m-bible-study/2027-03-03/
LOCATION:Poteau Church of Christ\, 20690 292nd st\, Poteau\, OK\, 74953\, United States
CATEGORIES:Bible Study
ATTACH;FMTTYPE=image/jpeg:https://poteaucoc.org/wp-content/uploads/2021/08/patrick-fore-bsmall.jpg
ORGANIZER;CN="Nicki Sullard":MAILTO:nicki@poteaucoc.org
GEO:35.0989053;-94.6235279
X-APPLE-STRUCTURED-LOCATION;VALUE=URI;X-ADDRESS=Poteau Church of Christ 20690 292nd st Poteau OK 74953 United States;X-APPLE-RADIUS=500;X-TITLE=20690 292nd st:geo:-94.6235279,35.0989053
END:VEVENT
BEGIN:VEVENT
DTSTART;TZID=America/Chicago:20270307T093000
DTEND;TZID=America/Chicago:20270307T102500
DTSTAMP:20260425T083858
CREATED:20251005T203803Z
LAST-MODIFIED:20251006T121701Z
UID:10006242-1804411800-1804415100@poteaucoc.org
SUMMARY:Sunday A.M. Bible Study
DESCRIPTION:Sunday A.M Bible Study
URL:https://poteaucoc.org/event/sunday-a-m-bible-study/2027-03-07/
LOCATION:Poteau Church of Christ\, 20690 292nd st\, Poteau\, OK\, 74953\, United States
CATEGORIES:Bible Study
ATTACH;FMTTYPE=image/jpeg:https://poteaucoc.org/wp-content/uploads/2021/08/patrick-fore-b_SHPU5M3nk-unsplash-scaled.jpg
ORGANIZER;CN="Nicki Sullard":MAILTO:nicki@poteaucoc.org
GEO:35.0989053;-94.6235279
X-APPLE-STRUCTURED-LOCATION;VALUE=URI;X-ADDRESS=Poteau Church of Christ 20690 292nd st Poteau OK 74953 United States;X-APPLE-RADIUS=500;X-TITLE=20690 292nd st:geo:-94.6235279,35.0989053
END:VEVENT
BEGIN:VEVENT
DTSTART;TZID=America/Chicago:20270307T103000
DTEND;TZID=America/Chicago:20270307T120000
DTSTAMP:20260425T083858
CREATED:20251005T204859Z
LAST-MODIFIED:20251006T121534Z
UID:10006504-1804415400-1804420800@poteaucoc.org
SUMMARY:Sunday A.M. Worship
DESCRIPTION:Sunday A.M Worship
URL:https://poteaucoc.org/event/sunday-a-m-worship/2027-03-07/
LOCATION:Poteau Church of Christ\, 20690 292nd st\, Poteau\, OK\, 74953\, United States
CATEGORIES:Worship
ATTACH;FMTTYPE=image/jpeg:https://poteaucoc.org/wp-content/uploads/2021/08/worship-2.jpg
ORGANIZER;CN="Nicki Sullard":MAILTO:nicki@poteaucoc.org
GEO:35.0989053;-94.6235279
X-APPLE-STRUCTURED-LOCATION;VALUE=URI;X-ADDRESS=Poteau Church of Christ 20690 292nd st Poteau OK 74953 United States;X-APPLE-RADIUS=500;X-TITLE=20690 292nd st:geo:-94.6235279,35.0989053
END:VEVENT
BEGIN:VEVENT
DTSTART;TZID=America/Chicago:20270308T180000
DTEND;TZID=America/Chicago:20270308T210000
DTSTAMP:20260425T083858
CREATED:20251006T012458Z
LAST-MODIFIED:20251006T012458Z
UID:10007031-1804528800-1804539600@poteaucoc.org
SUMMARY:Pickleball
DESCRIPTION:Pickleball
URL:https://poteaucoc.org/event/pickleball/2027-03-08/
LOCATION:Poteau Church of Christ\, 20690 292nd st\, Poteau\, OK\, 74953\, United States
CATEGORIES:Pickleball
ATTACH;FMTTYPE=image/jpeg:https://poteaucoc.org/wp-content/uploads/2025/10/pickleb.jpg
ORGANIZER;CN="Nicki Sullard":MAILTO:nicki@poteaucoc.org
GEO:35.0989053;-94.6235279
X-APPLE-STRUCTURED-LOCATION;VALUE=URI;X-ADDRESS=Poteau Church of Christ 20690 292nd st Poteau OK 74953 United States;X-APPLE-RADIUS=500;X-TITLE=20690 292nd st:geo:-94.6235279,35.0989053
END:VEVENT
BEGIN:VEVENT
DTSTART;TZID=America/Chicago:20270310T183000
DTEND;TZID=America/Chicago:20270310T193000
DTSTAMP:20260425T083858
CREATED:20251005T212529Z
LAST-MODIFIED:20251006T121857Z
UID:10006766-1804703400-1804707000@poteaucoc.org
SUMMARY:Wednesday P.M. Bible Study
DESCRIPTION:
URL:https://poteaucoc.org/event/wednesday-p-m-bible-study/2027-03-10/
LOCATION:Poteau Church of Christ\, 20690 292nd st\, Poteau\, OK\, 74953\, United States
CATEGORIES:Bible Study
ATTACH;FMTTYPE=image/jpeg:https://poteaucoc.org/wp-content/uploads/2021/08/patrick-fore-bsmall.jpg
ORGANIZER;CN="Nicki Sullard":MAILTO:nicki@poteaucoc.org
GEO:35.0989053;-94.6235279
X-APPLE-STRUCTURED-LOCATION;VALUE=URI;X-ADDRESS=Poteau Church of Christ 20690 292nd st Poteau OK 74953 United States;X-APPLE-RADIUS=500;X-TITLE=20690 292nd st:geo:-94.6235279,35.0989053
END:VEVENT
BEGIN:VEVENT
DTSTART;TZID=America/Chicago:20270314T093000
DTEND;TZID=America/Chicago:20270314T102500
DTSTAMP:20260425T083858
CREATED:20251005T203803Z
LAST-MODIFIED:20251006T121701Z
UID:10006243-1805016600-1805019900@poteaucoc.org
SUMMARY:Sunday A.M. Bible Study
DESCRIPTION:Sunday A.M Bible Study
URL:https://poteaucoc.org/event/sunday-a-m-bible-study/2027-03-14/
LOCATION:Poteau Church of Christ\, 20690 292nd st\, Poteau\, OK\, 74953\, United States
CATEGORIES:Bible Study
ATTACH;FMTTYPE=image/jpeg:https://poteaucoc.org/wp-content/uploads/2021/08/patrick-fore-b_SHPU5M3nk-unsplash-scaled.jpg
ORGANIZER;CN="Nicki Sullard":MAILTO:nicki@poteaucoc.org
GEO:35.0989053;-94.6235279
X-APPLE-STRUCTURED-LOCATION;VALUE=URI;X-ADDRESS=Poteau Church of Christ 20690 292nd st Poteau OK 74953 United States;X-APPLE-RADIUS=500;X-TITLE=20690 292nd st:geo:-94.6235279,35.0989053
END:VEVENT
BEGIN:VEVENT
DTSTART;TZID=America/Chicago:20270314T103000
DTEND;TZID=America/Chicago:20270314T120000
DTSTAMP:20260425T083858
CREATED:20251005T204859Z
LAST-MODIFIED:20251006T121534Z
UID:10006505-1805020200-1805025600@poteaucoc.org
SUMMARY:Sunday A.M. Worship
DESCRIPTION:Sunday A.M Worship
URL:https://poteaucoc.org/event/sunday-a-m-worship/2027-03-14/
LOCATION:Poteau Church of Christ\, 20690 292nd st\, Poteau\, OK\, 74953\, United States
CATEGORIES:Worship
ATTACH;FMTTYPE=image/jpeg:https://poteaucoc.org/wp-content/uploads/2021/08/worship-2.jpg
ORGANIZER;CN="Nicki Sullard":MAILTO:nicki@poteaucoc.org
GEO:35.0989053;-94.6235279
X-APPLE-STRUCTURED-LOCATION;VALUE=URI;X-ADDRESS=Poteau Church of Christ 20690 292nd st Poteau OK 74953 United States;X-APPLE-RADIUS=500;X-TITLE=20690 292nd st:geo:-94.6235279,35.0989053
END:VEVENT
BEGIN:VEVENT
DTSTART;TZID=America/Chicago:20270315T180000
DTEND;TZID=America/Chicago:20270315T210000
DTSTAMP:20260425T083858
CREATED:20251006T012458Z
LAST-MODIFIED:20251006T012458Z
UID:10007032-1805133600-1805144400@poteaucoc.org
SUMMARY:Pickleball
DESCRIPTION:Pickleball
URL:https://poteaucoc.org/event/pickleball/2027-03-15/
LOCATION:Poteau Church of Christ\, 20690 292nd st\, Poteau\, OK\, 74953\, United States
CATEGORIES:Pickleball
ATTACH;FMTTYPE=image/jpeg:https://poteaucoc.org/wp-content/uploads/2025/10/pickleb.jpg
ORGANIZER;CN="Nicki Sullard":MAILTO:nicki@poteaucoc.org
GEO:35.0989053;-94.6235279
X-APPLE-STRUCTURED-LOCATION;VALUE=URI;X-ADDRESS=Poteau Church of Christ 20690 292nd st Poteau OK 74953 United States;X-APPLE-RADIUS=500;X-TITLE=20690 292nd st:geo:-94.6235279,35.0989053
END:VEVENT
BEGIN:VEVENT
DTSTART;TZID=America/Chicago:20270316T183000
DTEND;TZID=America/Chicago:20270316T193000
DTSTAMP:20260425T083858
CREATED:20251006T013853Z
LAST-MODIFIED:20251006T013854Z
UID:10007256-1805221800-1805225400@poteaucoc.org
SUMMARY:F.A.T. Tuesday
DESCRIPTION:Feeding All Teachers Tuesday
URL:https://poteaucoc.org/event/f-a-t-tuesday/2027-03-16/
LOCATION:Poteau Church of Christ\, 20690 292nd st\, Poteau\, OK\, 74953\, United States
CATEGORIES:Bible Study
ATTACH;FMTTYPE=image/webp:https://poteaucoc.org/wp-content/uploads/2025/10/fat.webp
ORGANIZER;CN="Nicki Sullard":MAILTO:nicki@poteaucoc.org
GEO:35.0989053;-94.6235279
X-APPLE-STRUCTURED-LOCATION;VALUE=URI;X-ADDRESS=Poteau Church of Christ 20690 292nd st Poteau OK 74953 United States;X-APPLE-RADIUS=500;X-TITLE=20690 292nd st:geo:-94.6235279,35.0989053
END:VEVENT
BEGIN:VEVENT
DTSTART;TZID=America/Chicago:20270317T183000
DTEND;TZID=America/Chicago:20270317T193000
DTSTAMP:20260425T083858
CREATED:20251005T212529Z
LAST-MODIFIED:20251006T121857Z
UID:10006767-1805308200-1805311800@poteaucoc.org
SUMMARY:Wednesday P.M. Bible Study
DESCRIPTION:
URL:https://poteaucoc.org/event/wednesday-p-m-bible-study/2027-03-17/
LOCATION:Poteau Church of Christ\, 20690 292nd st\, Poteau\, OK\, 74953\, United States
CATEGORIES:Bible Study
ATTACH;FMTTYPE=image/jpeg:https://poteaucoc.org/wp-content/uploads/2021/08/patrick-fore-bsmall.jpg
ORGANIZER;CN="Nicki Sullard":MAILTO:nicki@poteaucoc.org
GEO:35.0989053;-94.6235279
X-APPLE-STRUCTURED-LOCATION;VALUE=URI;X-ADDRESS=Poteau Church of Christ 20690 292nd st Poteau OK 74953 United States;X-APPLE-RADIUS=500;X-TITLE=20690 292nd st:geo:-94.6235279,35.0989053
END:VEVENT
BEGIN:VEVENT
DTSTART;TZID=America/Chicago:20270321T093000
DTEND;TZID=America/Chicago:20270321T102500
DTSTAMP:20260425T083858
CREATED:20251005T203803Z
LAST-MODIFIED:20251006T121701Z
UID:10006244-1805621400-1805624700@poteaucoc.org
SUMMARY:Sunday A.M. Bible Study
DESCRIPTION:Sunday A.M Bible Study
URL:https://poteaucoc.org/event/sunday-a-m-bible-study/2027-03-21/
LOCATION:Poteau Church of Christ\, 20690 292nd st\, Poteau\, OK\, 74953\, United States
CATEGORIES:Bible Study
ATTACH;FMTTYPE=image/jpeg:https://poteaucoc.org/wp-content/uploads/2021/08/patrick-fore-b_SHPU5M3nk-unsplash-scaled.jpg
ORGANIZER;CN="Nicki Sullard":MAILTO:nicki@poteaucoc.org
GEO:35.0989053;-94.6235279
X-APPLE-STRUCTURED-LOCATION;VALUE=URI;X-ADDRESS=Poteau Church of Christ 20690 292nd st Poteau OK 74953 United States;X-APPLE-RADIUS=500;X-TITLE=20690 292nd st:geo:-94.6235279,35.0989053
END:VEVENT
BEGIN:VEVENT
DTSTART;TZID=America/Chicago:20270321T103000
DTEND;TZID=America/Chicago:20270321T120000
DTSTAMP:20260425T083858
CREATED:20251005T204859Z
LAST-MODIFIED:20251006T121534Z
UID:10006506-1805625000-1805630400@poteaucoc.org
SUMMARY:Sunday A.M. Worship
DESCRIPTION:Sunday A.M Worship
URL:https://poteaucoc.org/event/sunday-a-m-worship/2027-03-21/
LOCATION:Poteau Church of Christ\, 20690 292nd st\, Poteau\, OK\, 74953\, United States
CATEGORIES:Worship
ATTACH;FMTTYPE=image/jpeg:https://poteaucoc.org/wp-content/uploads/2021/08/worship-2.jpg
ORGANIZER;CN="Nicki Sullard":MAILTO:nicki@poteaucoc.org
GEO:35.0989053;-94.6235279
X-APPLE-STRUCTURED-LOCATION;VALUE=URI;X-ADDRESS=Poteau Church of Christ 20690 292nd st Poteau OK 74953 United States;X-APPLE-RADIUS=500;X-TITLE=20690 292nd st:geo:-94.6235279,35.0989053
END:VEVENT
BEGIN:VEVENT
DTSTART;TZID=America/Chicago:20270322T180000
DTEND;TZID=America/Chicago:20270322T210000
DTSTAMP:20260425T083858
CREATED:20251006T012458Z
LAST-MODIFIED:20251006T012458Z
UID:10007033-1805738400-1805749200@poteaucoc.org
SUMMARY:Pickleball
DESCRIPTION:Pickleball
URL:https://poteaucoc.org/event/pickleball/2027-03-22/
LOCATION:Poteau Church of Christ\, 20690 292nd st\, Poteau\, OK\, 74953\, United States
CATEGORIES:Pickleball
ATTACH;FMTTYPE=image/jpeg:https://poteaucoc.org/wp-content/uploads/2025/10/pickleb.jpg
ORGANIZER;CN="Nicki Sullard":MAILTO:nicki@poteaucoc.org
GEO:35.0989053;-94.6235279
X-APPLE-STRUCTURED-LOCATION;VALUE=URI;X-ADDRESS=Poteau Church of Christ 20690 292nd st Poteau OK 74953 United States;X-APPLE-RADIUS=500;X-TITLE=20690 292nd st:geo:-94.6235279,35.0989053
END:VEVENT
BEGIN:VEVENT
DTSTART;TZID=America/Chicago:20270324T183000
DTEND;TZID=America/Chicago:20270324T193000
DTSTAMP:20260425T083858
CREATED:20251005T212529Z
LAST-MODIFIED:20251006T121857Z
UID:10006768-1805913000-1805916600@poteaucoc.org
SUMMARY:Wednesday P.M. Bible Study
DESCRIPTION:
URL:https://poteaucoc.org/event/wednesday-p-m-bible-study/2027-03-24/
LOCATION:Poteau Church of Christ\, 20690 292nd st\, Poteau\, OK\, 74953\, United States
CATEGORIES:Bible Study
ATTACH;FMTTYPE=image/jpeg:https://poteaucoc.org/wp-content/uploads/2021/08/patrick-fore-bsmall.jpg
ORGANIZER;CN="Nicki Sullard":MAILTO:nicki@poteaucoc.org
GEO:35.0989053;-94.6235279
X-APPLE-STRUCTURED-LOCATION;VALUE=URI;X-ADDRESS=Poteau Church of Christ 20690 292nd st Poteau OK 74953 United States;X-APPLE-RADIUS=500;X-TITLE=20690 292nd st:geo:-94.6235279,35.0989053
END:VEVENT
BEGIN:VEVENT
DTSTART;TZID=America/Chicago:20270328T093000
DTEND;TZID=America/Chicago:20270328T102500
DTSTAMP:20260425T083858
CREATED:20251005T203803Z
LAST-MODIFIED:20251006T121701Z
UID:10006245-1806226200-1806229500@poteaucoc.org
SUMMARY:Sunday A.M. Bible Study
DESCRIPTION:Sunday A.M Bible Study
URL:https://poteaucoc.org/event/sunday-a-m-bible-study/2027-03-28/
LOCATION:Poteau Church of Christ\, 20690 292nd st\, Poteau\, OK\, 74953\, United States
CATEGORIES:Bible Study
ATTACH;FMTTYPE=image/jpeg:https://poteaucoc.org/wp-content/uploads/2021/08/patrick-fore-b_SHPU5M3nk-unsplash-scaled.jpg
ORGANIZER;CN="Nicki Sullard":MAILTO:nicki@poteaucoc.org
GEO:35.0989053;-94.6235279
X-APPLE-STRUCTURED-LOCATION;VALUE=URI;X-ADDRESS=Poteau Church of Christ 20690 292nd st Poteau OK 74953 United States;X-APPLE-RADIUS=500;X-TITLE=20690 292nd st:geo:-94.6235279,35.0989053
END:VEVENT
BEGIN:VEVENT
DTSTART;TZID=America/Chicago:20270328T103000
DTEND;TZID=America/Chicago:20270328T120000
DTSTAMP:20260425T083858
CREATED:20251005T204859Z
LAST-MODIFIED:20251006T121534Z
UID:10006507-1806229800-1806235200@poteaucoc.org
SUMMARY:Sunday A.M. Worship
DESCRIPTION:Sunday A.M Worship
URL:https://poteaucoc.org/event/sunday-a-m-worship/2027-03-28/
LOCATION:Poteau Church of Christ\, 20690 292nd st\, Poteau\, OK\, 74953\, United States
CATEGORIES:Worship
ATTACH;FMTTYPE=image/jpeg:https://poteaucoc.org/wp-content/uploads/2021/08/worship-2.jpg
ORGANIZER;CN="Nicki Sullard":MAILTO:nicki@poteaucoc.org
GEO:35.0989053;-94.6235279
X-APPLE-STRUCTURED-LOCATION;VALUE=URI;X-ADDRESS=Poteau Church of Christ 20690 292nd st Poteau OK 74953 United States;X-APPLE-RADIUS=500;X-TITLE=20690 292nd st:geo:-94.6235279,35.0989053
END:VEVENT
BEGIN:VEVENT
DTSTART;TZID=America/Chicago:20270329T180000
DTEND;TZID=America/Chicago:20270329T210000
DTSTAMP:20260425T083858
CREATED:20251006T012458Z
LAST-MODIFIED:20251006T012458Z
UID:10007034-1806343200-1806354000@poteaucoc.org
SUMMARY:Pickleball
DESCRIPTION:Pickleball
URL:https://poteaucoc.org/event/pickleball/2027-03-29/
LOCATION:Poteau Church of Christ\, 20690 292nd st\, Poteau\, OK\, 74953\, United States
CATEGORIES:Pickleball
ATTACH;FMTTYPE=image/jpeg:https://poteaucoc.org/wp-content/uploads/2025/10/pickleb.jpg
ORGANIZER;CN="Nicki Sullard":MAILTO:nicki@poteaucoc.org
GEO:35.0989053;-94.6235279
X-APPLE-STRUCTURED-LOCATION;VALUE=URI;X-ADDRESS=Poteau Church of Christ 20690 292nd st Poteau OK 74953 United States;X-APPLE-RADIUS=500;X-TITLE=20690 292nd st:geo:-94.6235279,35.0989053
END:VEVENT
BEGIN:VEVENT
DTSTART;TZID=America/Chicago:20270330T183000
DTEND;TZID=America/Chicago:20270330T193000
DTSTAMP:20260425T083858
CREATED:20251006T013853Z
LAST-MODIFIED:20251006T013854Z
UID:10007257-1806431400-1806435000@poteaucoc.org
SUMMARY:F.A.T. Tuesday
DESCRIPTION:Feeding All Teachers Tuesday
URL:https://poteaucoc.org/event/f-a-t-tuesday/2027-03-30/
LOCATION:Poteau Church of Christ\, 20690 292nd st\, Poteau\, OK\, 74953\, United States
CATEGORIES:Bible Study
ATTACH;FMTTYPE=image/webp:https://poteaucoc.org/wp-content/uploads/2025/10/fat.webp
ORGANIZER;CN="Nicki Sullard":MAILTO:nicki@poteaucoc.org
GEO:35.0989053;-94.6235279
X-APPLE-STRUCTURED-LOCATION;VALUE=URI;X-ADDRESS=Poteau Church of Christ 20690 292nd st Poteau OK 74953 United States;X-APPLE-RADIUS=500;X-TITLE=20690 292nd st:geo:-94.6235279,35.0989053
END:VEVENT
BEGIN:VEVENT
DTSTART;TZID=America/Chicago:20270331T183000
DTEND;TZID=America/Chicago:20270331T193000
DTSTAMP:20260425T083858
CREATED:20251005T212529Z
LAST-MODIFIED:20251006T121857Z
UID:10006769-1806517800-1806521400@poteaucoc.org
SUMMARY:Wednesday P.M. Bible Study
DESCRIPTION:
URL:https://poteaucoc.org/event/wednesday-p-m-bible-study/2027-03-31/
LOCATION:Poteau Church of Christ\, 20690 292nd st\, Poteau\, OK\, 74953\, United States
CATEGORIES:Bible Study
ATTACH;FMTTYPE=image/jpeg:https://poteaucoc.org/wp-content/uploads/2021/08/patrick-fore-bsmall.jpg
ORGANIZER;CN="Nicki Sullard":MAILTO:nicki@poteaucoc.org
GEO:35.0989053;-94.6235279
X-APPLE-STRUCTURED-LOCATION;VALUE=URI;X-ADDRESS=Poteau Church of Christ 20690 292nd st Poteau OK 74953 United States;X-APPLE-RADIUS=500;X-TITLE=20690 292nd st:geo:-94.6235279,35.0989053
END:VEVENT
BEGIN:VEVENT
DTSTART;TZID=America/Chicago:20270404T093000
DTEND;TZID=America/Chicago:20270404T102500
DTSTAMP:20260425T083858
CREATED:20251005T203803Z
LAST-MODIFIED:20251006T121701Z
UID:10006246-1806831000-1806834300@poteaucoc.org
SUMMARY:Sunday A.M. Bible Study
DESCRIPTION:Sunday A.M Bible Study
URL:https://poteaucoc.org/event/sunday-a-m-bible-study/2027-04-04/
LOCATION:Poteau Church of Christ\, 20690 292nd st\, Poteau\, OK\, 74953\, United States
CATEGORIES:Bible Study
ATTACH;FMTTYPE=image/jpeg:https://poteaucoc.org/wp-content/uploads/2021/08/patrick-fore-b_SHPU5M3nk-unsplash-scaled.jpg
ORGANIZER;CN="Nicki Sullard":MAILTO:nicki@poteaucoc.org
GEO:35.0989053;-94.6235279
X-APPLE-STRUCTURED-LOCATION;VALUE=URI;X-ADDRESS=Poteau Church of Christ 20690 292nd st Poteau OK 74953 United States;X-APPLE-RADIUS=500;X-TITLE=20690 292nd st:geo:-94.6235279,35.0989053
END:VEVENT
BEGIN:VEVENT
DTSTART;TZID=America/Chicago:20270404T103000
DTEND;TZID=America/Chicago:20270404T120000
DTSTAMP:20260425T083858
CREATED:20251005T204859Z
LAST-MODIFIED:20251006T121534Z
UID:10006508-1806834600-1806840000@poteaucoc.org
SUMMARY:Sunday A.M. Worship
DESCRIPTION:Sunday A.M Worship
URL:https://poteaucoc.org/event/sunday-a-m-worship/2027-04-04/
LOCATION:Poteau Church of Christ\, 20690 292nd st\, Poteau\, OK\, 74953\, United States
CATEGORIES:Worship
ATTACH;FMTTYPE=image/jpeg:https://poteaucoc.org/wp-content/uploads/2021/08/worship-2.jpg
ORGANIZER;CN="Nicki Sullard":MAILTO:nicki@poteaucoc.org
GEO:35.0989053;-94.6235279
X-APPLE-STRUCTURED-LOCATION;VALUE=URI;X-ADDRESS=Poteau Church of Christ 20690 292nd st Poteau OK 74953 United States;X-APPLE-RADIUS=500;X-TITLE=20690 292nd st:geo:-94.6235279,35.0989053
END:VEVENT
BEGIN:VEVENT
DTSTART;TZID=America/Chicago:20270405T180000
DTEND;TZID=America/Chicago:20270405T210000
DTSTAMP:20260425T083858
CREATED:20251006T012458Z
LAST-MODIFIED:20251006T012458Z
UID:10007035-1806948000-1806958800@poteaucoc.org
SUMMARY:Pickleball
DESCRIPTION:Pickleball
URL:https://poteaucoc.org/event/pickleball/2027-04-05/
LOCATION:Poteau Church of Christ\, 20690 292nd st\, Poteau\, OK\, 74953\, United States
CATEGORIES:Pickleball
ATTACH;FMTTYPE=image/jpeg:https://poteaucoc.org/wp-content/uploads/2025/10/pickleb.jpg
ORGANIZER;CN="Nicki Sullard":MAILTO:nicki@poteaucoc.org
GEO:35.0989053;-94.6235279
X-APPLE-STRUCTURED-LOCATION;VALUE=URI;X-ADDRESS=Poteau Church of Christ 20690 292nd st Poteau OK 74953 United States;X-APPLE-RADIUS=500;X-TITLE=20690 292nd st:geo:-94.6235279,35.0989053
END:VEVENT
BEGIN:VEVENT
DTSTART;TZID=America/Chicago:20270407T183000
DTEND;TZID=America/Chicago:20270407T193000
DTSTAMP:20260425T083858
CREATED:20251005T212529Z
LAST-MODIFIED:20251006T121857Z
UID:10006770-1807122600-1807126200@poteaucoc.org
SUMMARY:Wednesday P.M. Bible Study
DESCRIPTION:
URL:https://poteaucoc.org/event/wednesday-p-m-bible-study/2027-04-07/
LOCATION:Poteau Church of Christ\, 20690 292nd st\, Poteau\, OK\, 74953\, United States
CATEGORIES:Bible Study
ATTACH;FMTTYPE=image/jpeg:https://poteaucoc.org/wp-content/uploads/2021/08/patrick-fore-bsmall.jpg
ORGANIZER;CN="Nicki Sullard":MAILTO:nicki@poteaucoc.org
GEO:35.0989053;-94.6235279
X-APPLE-STRUCTURED-LOCATION;VALUE=URI;X-ADDRESS=Poteau Church of Christ 20690 292nd st Poteau OK 74953 United States;X-APPLE-RADIUS=500;X-TITLE=20690 292nd st:geo:-94.6235279,35.0989053
END:VEVENT
END:VCALENDAR