BEGIN:VCALENDAR
VERSION:2.0
PRODID:-//Poteaucoc.org - ECPv6.15.20//NONSGML v1.0//EN
CALSCALE:GREGORIAN
METHOD:PUBLISH
X-WR-CALNAME:Poteaucoc.org
X-ORIGINAL-URL:https://poteaucoc.org
X-WR-CALDESC:Events for Poteaucoc.org
REFRESH-INTERVAL;VALUE=DURATION:PT1H
X-Robots-Tag:noindex
X-PUBLISHED-TTL:PT1H
BEGIN:VTIMEZONE
TZID:America/Chicago
BEGIN:DAYLIGHT
TZOFFSETFROM:-0600
TZOFFSETTO:-0500
TZNAME:CDT
DTSTART:20260308T080000
END:DAYLIGHT
BEGIN:STANDARD
TZOFFSETFROM:-0500
TZOFFSETTO:-0600
TZNAME:CST
DTSTART:20261101T070000
END:STANDARD
BEGIN:DAYLIGHT
TZOFFSETFROM:-0600
TZOFFSETTO:-0500
TZNAME:CDT
DTSTART:20270314T080000
END:DAYLIGHT
BEGIN:STANDARD
TZOFFSETFROM:-0500
TZOFFSETTO:-0600
TZNAME:CST
DTSTART:20271107T070000
END:STANDARD
BEGIN:DAYLIGHT
TZOFFSETFROM:-0600
TZOFFSETTO:-0500
TZNAME:CDT
DTSTART:20280312T080000
END:DAYLIGHT
BEGIN:STANDARD
TZOFFSETFROM:-0500
TZOFFSETTO:-0600
TZNAME:CST
DTSTART:20281105T070000
END:STANDARD
END:VTIMEZONE
BEGIN:VEVENT
DTSTART;TZID=America/Chicago:20270120T183000
DTEND;TZID=America/Chicago:20270120T193000
DTSTAMP:20260425T070959
CREATED:20251005T212529Z
LAST-MODIFIED:20251006T121857Z
UID:10006759-1800469800-1800473400@poteaucoc.org
SUMMARY:Wednesday P.M. Bible Study
DESCRIPTION:
URL:https://poteaucoc.org/event/wednesday-p-m-bible-study/2027-01-20/
LOCATION:Poteau Church of Christ\, 20690 292nd st\, Poteau\, OK\, 74953\, United States
CATEGORIES:Bible Study
ATTACH;FMTTYPE=image/jpeg:https://poteaucoc.org/wp-content/uploads/2021/08/patrick-fore-bsmall.jpg
ORGANIZER;CN="Nicki Sullard":MAILTO:nicki@poteaucoc.org
GEO:35.0989053;-94.6235279
X-APPLE-STRUCTURED-LOCATION;VALUE=URI;X-ADDRESS=Poteau Church of Christ 20690 292nd st Poteau OK 74953 United States;X-APPLE-RADIUS=500;X-TITLE=20690 292nd st:geo:-94.6235279,35.0989053
END:VEVENT
BEGIN:VEVENT
DTSTART;TZID=America/Chicago:20270124T093000
DTEND;TZID=America/Chicago:20270124T102500
DTSTAMP:20260425T070959
CREATED:20251005T203803Z
LAST-MODIFIED:20251006T121701Z
UID:10006236-1800783000-1800786300@poteaucoc.org
SUMMARY:Sunday A.M. Bible Study
DESCRIPTION:Sunday A.M Bible Study
URL:https://poteaucoc.org/event/sunday-a-m-bible-study/2027-01-24/
LOCATION:Poteau Church of Christ\, 20690 292nd st\, Poteau\, OK\, 74953\, United States
CATEGORIES:Bible Study
ATTACH;FMTTYPE=image/jpeg:https://poteaucoc.org/wp-content/uploads/2021/08/patrick-fore-b_SHPU5M3nk-unsplash-scaled.jpg
ORGANIZER;CN="Nicki Sullard":MAILTO:nicki@poteaucoc.org
GEO:35.0989053;-94.6235279
X-APPLE-STRUCTURED-LOCATION;VALUE=URI;X-ADDRESS=Poteau Church of Christ 20690 292nd st Poteau OK 74953 United States;X-APPLE-RADIUS=500;X-TITLE=20690 292nd st:geo:-94.6235279,35.0989053
END:VEVENT
BEGIN:VEVENT
DTSTART;TZID=America/Chicago:20270124T103000
DTEND;TZID=America/Chicago:20270124T120000
DTSTAMP:20260425T070959
CREATED:20251005T204859Z
LAST-MODIFIED:20251006T121534Z
UID:10006498-1800786600-1800792000@poteaucoc.org
SUMMARY:Sunday A.M. Worship
DESCRIPTION:Sunday A.M Worship
URL:https://poteaucoc.org/event/sunday-a-m-worship/2027-01-24/
LOCATION:Poteau Church of Christ\, 20690 292nd st\, Poteau\, OK\, 74953\, United States
CATEGORIES:Worship
ATTACH;FMTTYPE=image/jpeg:https://poteaucoc.org/wp-content/uploads/2021/08/worship-2.jpg
ORGANIZER;CN="Nicki Sullard":MAILTO:nicki@poteaucoc.org
GEO:35.0989053;-94.6235279
X-APPLE-STRUCTURED-LOCATION;VALUE=URI;X-ADDRESS=Poteau Church of Christ 20690 292nd st Poteau OK 74953 United States;X-APPLE-RADIUS=500;X-TITLE=20690 292nd st:geo:-94.6235279,35.0989053
END:VEVENT
BEGIN:VEVENT
DTSTART;TZID=America/Chicago:20270125T180000
DTEND;TZID=America/Chicago:20270125T210000
DTSTAMP:20260425T070959
CREATED:20251006T012458Z
LAST-MODIFIED:20251006T012458Z
UID:10007025-1800900000-1800910800@poteaucoc.org
SUMMARY:Pickleball
DESCRIPTION:Pickleball
URL:https://poteaucoc.org/event/pickleball/2027-01-25/
LOCATION:Poteau Church of Christ\, 20690 292nd st\, Poteau\, OK\, 74953\, United States
CATEGORIES:Pickleball
ATTACH;FMTTYPE=image/jpeg:https://poteaucoc.org/wp-content/uploads/2025/10/pickleb.jpg
ORGANIZER;CN="Nicki Sullard":MAILTO:nicki@poteaucoc.org
GEO:35.0989053;-94.6235279
X-APPLE-STRUCTURED-LOCATION;VALUE=URI;X-ADDRESS=Poteau Church of Christ 20690 292nd st Poteau OK 74953 United States;X-APPLE-RADIUS=500;X-TITLE=20690 292nd st:geo:-94.6235279,35.0989053
END:VEVENT
BEGIN:VEVENT
DTSTART;TZID=America/Chicago:20270127T183000
DTEND;TZID=America/Chicago:20270127T193000
DTSTAMP:20260425T070959
CREATED:20251005T212529Z
LAST-MODIFIED:20251006T121857Z
UID:10006760-1801074600-1801078200@poteaucoc.org
SUMMARY:Wednesday P.M. Bible Study
DESCRIPTION:
URL:https://poteaucoc.org/event/wednesday-p-m-bible-study/2027-01-27/
LOCATION:Poteau Church of Christ\, 20690 292nd st\, Poteau\, OK\, 74953\, United States
CATEGORIES:Bible Study
ATTACH;FMTTYPE=image/jpeg:https://poteaucoc.org/wp-content/uploads/2021/08/patrick-fore-bsmall.jpg
ORGANIZER;CN="Nicki Sullard":MAILTO:nicki@poteaucoc.org
GEO:35.0989053;-94.6235279
X-APPLE-STRUCTURED-LOCATION;VALUE=URI;X-ADDRESS=Poteau Church of Christ 20690 292nd st Poteau OK 74953 United States;X-APPLE-RADIUS=500;X-TITLE=20690 292nd st:geo:-94.6235279,35.0989053
END:VEVENT
BEGIN:VEVENT
DTSTART;TZID=America/Chicago:20270131T093000
DTEND;TZID=America/Chicago:20270131T102500
DTSTAMP:20260425T070959
CREATED:20251005T203803Z
LAST-MODIFIED:20251006T121701Z
UID:10006237-1801387800-1801391100@poteaucoc.org
SUMMARY:Sunday A.M. Bible Study
DESCRIPTION:Sunday A.M Bible Study
URL:https://poteaucoc.org/event/sunday-a-m-bible-study/2027-01-31/
LOCATION:Poteau Church of Christ\, 20690 292nd st\, Poteau\, OK\, 74953\, United States
CATEGORIES:Bible Study
ATTACH;FMTTYPE=image/jpeg:https://poteaucoc.org/wp-content/uploads/2021/08/patrick-fore-b_SHPU5M3nk-unsplash-scaled.jpg
ORGANIZER;CN="Nicki Sullard":MAILTO:nicki@poteaucoc.org
GEO:35.0989053;-94.6235279
X-APPLE-STRUCTURED-LOCATION;VALUE=URI;X-ADDRESS=Poteau Church of Christ 20690 292nd st Poteau OK 74953 United States;X-APPLE-RADIUS=500;X-TITLE=20690 292nd st:geo:-94.6235279,35.0989053
END:VEVENT
BEGIN:VEVENT
DTSTART;TZID=America/Chicago:20270131T103000
DTEND;TZID=America/Chicago:20270131T120000
DTSTAMP:20260425T070959
CREATED:20251005T204859Z
LAST-MODIFIED:20251006T121534Z
UID:10006499-1801391400-1801396800@poteaucoc.org
SUMMARY:Sunday A.M. Worship
DESCRIPTION:Sunday A.M Worship
URL:https://poteaucoc.org/event/sunday-a-m-worship/2027-01-31/
LOCATION:Poteau Church of Christ\, 20690 292nd st\, Poteau\, OK\, 74953\, United States
CATEGORIES:Worship
ATTACH;FMTTYPE=image/jpeg:https://poteaucoc.org/wp-content/uploads/2021/08/worship-2.jpg
ORGANIZER;CN="Nicki Sullard":MAILTO:nicki@poteaucoc.org
GEO:35.0989053;-94.6235279
X-APPLE-STRUCTURED-LOCATION;VALUE=URI;X-ADDRESS=Poteau Church of Christ 20690 292nd st Poteau OK 74953 United States;X-APPLE-RADIUS=500;X-TITLE=20690 292nd st:geo:-94.6235279,35.0989053
END:VEVENT
BEGIN:VEVENT
DTSTART;TZID=America/Chicago:20270201T180000
DTEND;TZID=America/Chicago:20270201T210000
DTSTAMP:20260425T070959
CREATED:20251006T012458Z
LAST-MODIFIED:20251006T012458Z
UID:10007026-1801504800-1801515600@poteaucoc.org
SUMMARY:Pickleball
DESCRIPTION:Pickleball
URL:https://poteaucoc.org/event/pickleball/2027-02-01/
LOCATION:Poteau Church of Christ\, 20690 292nd st\, Poteau\, OK\, 74953\, United States
CATEGORIES:Pickleball
ATTACH;FMTTYPE=image/jpeg:https://poteaucoc.org/wp-content/uploads/2025/10/pickleb.jpg
ORGANIZER;CN="Nicki Sullard":MAILTO:nicki@poteaucoc.org
GEO:35.0989053;-94.6235279
X-APPLE-STRUCTURED-LOCATION;VALUE=URI;X-ADDRESS=Poteau Church of Christ 20690 292nd st Poteau OK 74953 United States;X-APPLE-RADIUS=500;X-TITLE=20690 292nd st:geo:-94.6235279,35.0989053
END:VEVENT
BEGIN:VEVENT
DTSTART;TZID=America/Chicago:20270202T183000
DTEND;TZID=America/Chicago:20270202T193000
DTSTAMP:20260425T070959
CREATED:20251006T013853Z
LAST-MODIFIED:20251006T013854Z
UID:10007253-1801593000-1801596600@poteaucoc.org
SUMMARY:F.A.T. Tuesday
DESCRIPTION:Feeding All Teachers Tuesday
URL:https://poteaucoc.org/event/f-a-t-tuesday/2027-02-02/
LOCATION:Poteau Church of Christ\, 20690 292nd st\, Poteau\, OK\, 74953\, United States
CATEGORIES:Bible Study
ATTACH;FMTTYPE=image/webp:https://poteaucoc.org/wp-content/uploads/2025/10/fat.webp
ORGANIZER;CN="Nicki Sullard":MAILTO:nicki@poteaucoc.org
GEO:35.0989053;-94.6235279
X-APPLE-STRUCTURED-LOCATION;VALUE=URI;X-ADDRESS=Poteau Church of Christ 20690 292nd st Poteau OK 74953 United States;X-APPLE-RADIUS=500;X-TITLE=20690 292nd st:geo:-94.6235279,35.0989053
END:VEVENT
BEGIN:VEVENT
DTSTART;TZID=America/Chicago:20270203T183000
DTEND;TZID=America/Chicago:20270203T193000
DTSTAMP:20260425T070959
CREATED:20251005T212529Z
LAST-MODIFIED:20251006T121857Z
UID:10006761-1801679400-1801683000@poteaucoc.org
SUMMARY:Wednesday P.M. Bible Study
DESCRIPTION:
URL:https://poteaucoc.org/event/wednesday-p-m-bible-study/2027-02-03/
LOCATION:Poteau Church of Christ\, 20690 292nd st\, Poteau\, OK\, 74953\, United States
CATEGORIES:Bible Study
ATTACH;FMTTYPE=image/jpeg:https://poteaucoc.org/wp-content/uploads/2021/08/patrick-fore-bsmall.jpg
ORGANIZER;CN="Nicki Sullard":MAILTO:nicki@poteaucoc.org
GEO:35.0989053;-94.6235279
X-APPLE-STRUCTURED-LOCATION;VALUE=URI;X-ADDRESS=Poteau Church of Christ 20690 292nd st Poteau OK 74953 United States;X-APPLE-RADIUS=500;X-TITLE=20690 292nd st:geo:-94.6235279,35.0989053
END:VEVENT
BEGIN:VEVENT
DTSTART;TZID=America/Chicago:20270207T093000
DTEND;TZID=America/Chicago:20270207T102500
DTSTAMP:20260425T070959
CREATED:20251005T203803Z
LAST-MODIFIED:20251006T121701Z
UID:10006238-1801992600-1801995900@poteaucoc.org
SUMMARY:Sunday A.M. Bible Study
DESCRIPTION:Sunday A.M Bible Study
URL:https://poteaucoc.org/event/sunday-a-m-bible-study/2027-02-07/
LOCATION:Poteau Church of Christ\, 20690 292nd st\, Poteau\, OK\, 74953\, United States
CATEGORIES:Bible Study
ATTACH;FMTTYPE=image/jpeg:https://poteaucoc.org/wp-content/uploads/2021/08/patrick-fore-b_SHPU5M3nk-unsplash-scaled.jpg
ORGANIZER;CN="Nicki Sullard":MAILTO:nicki@poteaucoc.org
GEO:35.0989053;-94.6235279
X-APPLE-STRUCTURED-LOCATION;VALUE=URI;X-ADDRESS=Poteau Church of Christ 20690 292nd st Poteau OK 74953 United States;X-APPLE-RADIUS=500;X-TITLE=20690 292nd st:geo:-94.6235279,35.0989053
END:VEVENT
BEGIN:VEVENT
DTSTART;TZID=America/Chicago:20270207T103000
DTEND;TZID=America/Chicago:20270207T120000
DTSTAMP:20260425T070959
CREATED:20251005T204859Z
LAST-MODIFIED:20251006T121534Z
UID:10006500-1801996200-1802001600@poteaucoc.org
SUMMARY:Sunday A.M. Worship
DESCRIPTION:Sunday A.M Worship
URL:https://poteaucoc.org/event/sunday-a-m-worship/2027-02-07/
LOCATION:Poteau Church of Christ\, 20690 292nd st\, Poteau\, OK\, 74953\, United States
CATEGORIES:Worship
ATTACH;FMTTYPE=image/jpeg:https://poteaucoc.org/wp-content/uploads/2021/08/worship-2.jpg
ORGANIZER;CN="Nicki Sullard":MAILTO:nicki@poteaucoc.org
GEO:35.0989053;-94.6235279
X-APPLE-STRUCTURED-LOCATION;VALUE=URI;X-ADDRESS=Poteau Church of Christ 20690 292nd st Poteau OK 74953 United States;X-APPLE-RADIUS=500;X-TITLE=20690 292nd st:geo:-94.6235279,35.0989053
END:VEVENT
BEGIN:VEVENT
DTSTART;TZID=America/Chicago:20270208T180000
DTEND;TZID=America/Chicago:20270208T210000
DTSTAMP:20260425T070959
CREATED:20251006T012458Z
LAST-MODIFIED:20251006T012458Z
UID:10007027-1802109600-1802120400@poteaucoc.org
SUMMARY:Pickleball
DESCRIPTION:Pickleball
URL:https://poteaucoc.org/event/pickleball/2027-02-08/
LOCATION:Poteau Church of Christ\, 20690 292nd st\, Poteau\, OK\, 74953\, United States
CATEGORIES:Pickleball
ATTACH;FMTTYPE=image/jpeg:https://poteaucoc.org/wp-content/uploads/2025/10/pickleb.jpg
ORGANIZER;CN="Nicki Sullard":MAILTO:nicki@poteaucoc.org
GEO:35.0989053;-94.6235279
X-APPLE-STRUCTURED-LOCATION;VALUE=URI;X-ADDRESS=Poteau Church of Christ 20690 292nd st Poteau OK 74953 United States;X-APPLE-RADIUS=500;X-TITLE=20690 292nd st:geo:-94.6235279,35.0989053
END:VEVENT
BEGIN:VEVENT
DTSTART;TZID=America/Chicago:20270210T183000
DTEND;TZID=America/Chicago:20270210T193000
DTSTAMP:20260425T070959
CREATED:20251005T212529Z
LAST-MODIFIED:20251006T121857Z
UID:10006762-1802284200-1802287800@poteaucoc.org
SUMMARY:Wednesday P.M. Bible Study
DESCRIPTION:
URL:https://poteaucoc.org/event/wednesday-p-m-bible-study/2027-02-10/
LOCATION:Poteau Church of Christ\, 20690 292nd st\, Poteau\, OK\, 74953\, United States
CATEGORIES:Bible Study
ATTACH;FMTTYPE=image/jpeg:https://poteaucoc.org/wp-content/uploads/2021/08/patrick-fore-bsmall.jpg
ORGANIZER;CN="Nicki Sullard":MAILTO:nicki@poteaucoc.org
GEO:35.0989053;-94.6235279
X-APPLE-STRUCTURED-LOCATION;VALUE=URI;X-ADDRESS=Poteau Church of Christ 20690 292nd st Poteau OK 74953 United States;X-APPLE-RADIUS=500;X-TITLE=20690 292nd st:geo:-94.6235279,35.0989053
END:VEVENT
BEGIN:VEVENT
DTSTART;TZID=America/Chicago:20270214T093000
DTEND;TZID=America/Chicago:20270214T102500
DTSTAMP:20260425T070959
CREATED:20251005T203803Z
LAST-MODIFIED:20251006T121701Z
UID:10006239-1802597400-1802600700@poteaucoc.org
SUMMARY:Sunday A.M. Bible Study
DESCRIPTION:Sunday A.M Bible Study
URL:https://poteaucoc.org/event/sunday-a-m-bible-study/2027-02-14/
LOCATION:Poteau Church of Christ\, 20690 292nd st\, Poteau\, OK\, 74953\, United States
CATEGORIES:Bible Study
ATTACH;FMTTYPE=image/jpeg:https://poteaucoc.org/wp-content/uploads/2021/08/patrick-fore-b_SHPU5M3nk-unsplash-scaled.jpg
ORGANIZER;CN="Nicki Sullard":MAILTO:nicki@poteaucoc.org
GEO:35.0989053;-94.6235279
X-APPLE-STRUCTURED-LOCATION;VALUE=URI;X-ADDRESS=Poteau Church of Christ 20690 292nd st Poteau OK 74953 United States;X-APPLE-RADIUS=500;X-TITLE=20690 292nd st:geo:-94.6235279,35.0989053
END:VEVENT
BEGIN:VEVENT
DTSTART;TZID=America/Chicago:20270214T103000
DTEND;TZID=America/Chicago:20270214T120000
DTSTAMP:20260425T071000
CREATED:20251005T204859Z
LAST-MODIFIED:20251006T121534Z
UID:10006501-1802601000-1802606400@poteaucoc.org
SUMMARY:Sunday A.M. Worship
DESCRIPTION:Sunday A.M Worship
URL:https://poteaucoc.org/event/sunday-a-m-worship/2027-02-14/
LOCATION:Poteau Church of Christ\, 20690 292nd st\, Poteau\, OK\, 74953\, United States
CATEGORIES:Worship
ATTACH;FMTTYPE=image/jpeg:https://poteaucoc.org/wp-content/uploads/2021/08/worship-2.jpg
ORGANIZER;CN="Nicki Sullard":MAILTO:nicki@poteaucoc.org
GEO:35.0989053;-94.6235279
X-APPLE-STRUCTURED-LOCATION;VALUE=URI;X-ADDRESS=Poteau Church of Christ 20690 292nd st Poteau OK 74953 United States;X-APPLE-RADIUS=500;X-TITLE=20690 292nd st:geo:-94.6235279,35.0989053
END:VEVENT
BEGIN:VEVENT
DTSTART;TZID=America/Chicago:20270215T180000
DTEND;TZID=America/Chicago:20270215T210000
DTSTAMP:20260425T071000
CREATED:20251006T012458Z
LAST-MODIFIED:20251006T012458Z
UID:10007028-1802714400-1802725200@poteaucoc.org
SUMMARY:Pickleball
DESCRIPTION:Pickleball
URL:https://poteaucoc.org/event/pickleball/2027-02-15/
LOCATION:Poteau Church of Christ\, 20690 292nd st\, Poteau\, OK\, 74953\, United States
CATEGORIES:Pickleball
ATTACH;FMTTYPE=image/jpeg:https://poteaucoc.org/wp-content/uploads/2025/10/pickleb.jpg
ORGANIZER;CN="Nicki Sullard":MAILTO:nicki@poteaucoc.org
GEO:35.0989053;-94.6235279
X-APPLE-STRUCTURED-LOCATION;VALUE=URI;X-ADDRESS=Poteau Church of Christ 20690 292nd st Poteau OK 74953 United States;X-APPLE-RADIUS=500;X-TITLE=20690 292nd st:geo:-94.6235279,35.0989053
END:VEVENT
BEGIN:VEVENT
DTSTART;TZID=America/Chicago:20270216T183000
DTEND;TZID=America/Chicago:20270216T193000
DTSTAMP:20260425T071000
CREATED:20251006T013853Z
LAST-MODIFIED:20251006T013854Z
UID:10007254-1802802600-1802806200@poteaucoc.org
SUMMARY:F.A.T. Tuesday
DESCRIPTION:Feeding All Teachers Tuesday
URL:https://poteaucoc.org/event/f-a-t-tuesday/2027-02-16/
LOCATION:Poteau Church of Christ\, 20690 292nd st\, Poteau\, OK\, 74953\, United States
CATEGORIES:Bible Study
ATTACH;FMTTYPE=image/webp:https://poteaucoc.org/wp-content/uploads/2025/10/fat.webp
ORGANIZER;CN="Nicki Sullard":MAILTO:nicki@poteaucoc.org
GEO:35.0989053;-94.6235279
X-APPLE-STRUCTURED-LOCATION;VALUE=URI;X-ADDRESS=Poteau Church of Christ 20690 292nd st Poteau OK 74953 United States;X-APPLE-RADIUS=500;X-TITLE=20690 292nd st:geo:-94.6235279,35.0989053
END:VEVENT
BEGIN:VEVENT
DTSTART;TZID=America/Chicago:20270217T183000
DTEND;TZID=America/Chicago:20270217T193000
DTSTAMP:20260425T071000
CREATED:20251005T212529Z
LAST-MODIFIED:20251006T121857Z
UID:10006763-1802889000-1802892600@poteaucoc.org
SUMMARY:Wednesday P.M. Bible Study
DESCRIPTION:
URL:https://poteaucoc.org/event/wednesday-p-m-bible-study/2027-02-17/
LOCATION:Poteau Church of Christ\, 20690 292nd st\, Poteau\, OK\, 74953\, United States
CATEGORIES:Bible Study
ATTACH;FMTTYPE=image/jpeg:https://poteaucoc.org/wp-content/uploads/2021/08/patrick-fore-bsmall.jpg
ORGANIZER;CN="Nicki Sullard":MAILTO:nicki@poteaucoc.org
GEO:35.0989053;-94.6235279
X-APPLE-STRUCTURED-LOCATION;VALUE=URI;X-ADDRESS=Poteau Church of Christ 20690 292nd st Poteau OK 74953 United States;X-APPLE-RADIUS=500;X-TITLE=20690 292nd st:geo:-94.6235279,35.0989053
END:VEVENT
BEGIN:VEVENT
DTSTART;TZID=America/Chicago:20270221T093000
DTEND;TZID=America/Chicago:20270221T102500
DTSTAMP:20260425T071000
CREATED:20251005T203803Z
LAST-MODIFIED:20251006T121701Z
UID:10006240-1803202200-1803205500@poteaucoc.org
SUMMARY:Sunday A.M. Bible Study
DESCRIPTION:Sunday A.M Bible Study
URL:https://poteaucoc.org/event/sunday-a-m-bible-study/2027-02-21/
LOCATION:Poteau Church of Christ\, 20690 292nd st\, Poteau\, OK\, 74953\, United States
CATEGORIES:Bible Study
ATTACH;FMTTYPE=image/jpeg:https://poteaucoc.org/wp-content/uploads/2021/08/patrick-fore-b_SHPU5M3nk-unsplash-scaled.jpg
ORGANIZER;CN="Nicki Sullard":MAILTO:nicki@poteaucoc.org
GEO:35.0989053;-94.6235279
X-APPLE-STRUCTURED-LOCATION;VALUE=URI;X-ADDRESS=Poteau Church of Christ 20690 292nd st Poteau OK 74953 United States;X-APPLE-RADIUS=500;X-TITLE=20690 292nd st:geo:-94.6235279,35.0989053
END:VEVENT
BEGIN:VEVENT
DTSTART;TZID=America/Chicago:20270221T103000
DTEND;TZID=America/Chicago:20270221T120000
DTSTAMP:20260425T071000
CREATED:20251005T204859Z
LAST-MODIFIED:20251006T121534Z
UID:10006502-1803205800-1803211200@poteaucoc.org
SUMMARY:Sunday A.M. Worship
DESCRIPTION:Sunday A.M Worship
URL:https://poteaucoc.org/event/sunday-a-m-worship/2027-02-21/
LOCATION:Poteau Church of Christ\, 20690 292nd st\, Poteau\, OK\, 74953\, United States
CATEGORIES:Worship
ATTACH;FMTTYPE=image/jpeg:https://poteaucoc.org/wp-content/uploads/2021/08/worship-2.jpg
ORGANIZER;CN="Nicki Sullard":MAILTO:nicki@poteaucoc.org
GEO:35.0989053;-94.6235279
X-APPLE-STRUCTURED-LOCATION;VALUE=URI;X-ADDRESS=Poteau Church of Christ 20690 292nd st Poteau OK 74953 United States;X-APPLE-RADIUS=500;X-TITLE=20690 292nd st:geo:-94.6235279,35.0989053
END:VEVENT
BEGIN:VEVENT
DTSTART;TZID=America/Chicago:20270222T180000
DTEND;TZID=America/Chicago:20270222T210000
DTSTAMP:20260425T071000
CREATED:20251006T012458Z
LAST-MODIFIED:20251006T012458Z
UID:10007029-1803319200-1803330000@poteaucoc.org
SUMMARY:Pickleball
DESCRIPTION:Pickleball
URL:https://poteaucoc.org/event/pickleball/2027-02-22/
LOCATION:Poteau Church of Christ\, 20690 292nd st\, Poteau\, OK\, 74953\, United States
CATEGORIES:Pickleball
ATTACH;FMTTYPE=image/jpeg:https://poteaucoc.org/wp-content/uploads/2025/10/pickleb.jpg
ORGANIZER;CN="Nicki Sullard":MAILTO:nicki@poteaucoc.org
GEO:35.0989053;-94.6235279
X-APPLE-STRUCTURED-LOCATION;VALUE=URI;X-ADDRESS=Poteau Church of Christ 20690 292nd st Poteau OK 74953 United States;X-APPLE-RADIUS=500;X-TITLE=20690 292nd st:geo:-94.6235279,35.0989053
END:VEVENT
BEGIN:VEVENT
DTSTART;TZID=America/Chicago:20270224T183000
DTEND;TZID=America/Chicago:20270224T193000
DTSTAMP:20260425T071000
CREATED:20251005T212529Z
LAST-MODIFIED:20251006T121857Z
UID:10006764-1803493800-1803497400@poteaucoc.org
SUMMARY:Wednesday P.M. Bible Study
DESCRIPTION:
URL:https://poteaucoc.org/event/wednesday-p-m-bible-study/2027-02-24/
LOCATION:Poteau Church of Christ\, 20690 292nd st\, Poteau\, OK\, 74953\, United States
CATEGORIES:Bible Study
ATTACH;FMTTYPE=image/jpeg:https://poteaucoc.org/wp-content/uploads/2021/08/patrick-fore-bsmall.jpg
ORGANIZER;CN="Nicki Sullard":MAILTO:nicki@poteaucoc.org
GEO:35.0989053;-94.6235279
X-APPLE-STRUCTURED-LOCATION;VALUE=URI;X-ADDRESS=Poteau Church of Christ 20690 292nd st Poteau OK 74953 United States;X-APPLE-RADIUS=500;X-TITLE=20690 292nd st:geo:-94.6235279,35.0989053
END:VEVENT
BEGIN:VEVENT
DTSTART;TZID=America/Chicago:20270228T093000
DTEND;TZID=America/Chicago:20270228T102500
DTSTAMP:20260425T071000
CREATED:20251005T203803Z
LAST-MODIFIED:20251006T121701Z
UID:10006241-1803807000-1803810300@poteaucoc.org
SUMMARY:Sunday A.M. Bible Study
DESCRIPTION:Sunday A.M Bible Study
URL:https://poteaucoc.org/event/sunday-a-m-bible-study/2027-02-28/
LOCATION:Poteau Church of Christ\, 20690 292nd st\, Poteau\, OK\, 74953\, United States
CATEGORIES:Bible Study
ATTACH;FMTTYPE=image/jpeg:https://poteaucoc.org/wp-content/uploads/2021/08/patrick-fore-b_SHPU5M3nk-unsplash-scaled.jpg
ORGANIZER;CN="Nicki Sullard":MAILTO:nicki@poteaucoc.org
GEO:35.0989053;-94.6235279
X-APPLE-STRUCTURED-LOCATION;VALUE=URI;X-ADDRESS=Poteau Church of Christ 20690 292nd st Poteau OK 74953 United States;X-APPLE-RADIUS=500;X-TITLE=20690 292nd st:geo:-94.6235279,35.0989053
END:VEVENT
BEGIN:VEVENT
DTSTART;TZID=America/Chicago:20270228T103000
DTEND;TZID=America/Chicago:20270228T120000
DTSTAMP:20260425T071000
CREATED:20251005T204859Z
LAST-MODIFIED:20251006T121534Z
UID:10006503-1803810600-1803816000@poteaucoc.org
SUMMARY:Sunday A.M. Worship
DESCRIPTION:Sunday A.M Worship
URL:https://poteaucoc.org/event/sunday-a-m-worship/2027-02-28/
LOCATION:Poteau Church of Christ\, 20690 292nd st\, Poteau\, OK\, 74953\, United States
CATEGORIES:Worship
ATTACH;FMTTYPE=image/jpeg:https://poteaucoc.org/wp-content/uploads/2021/08/worship-2.jpg
ORGANIZER;CN="Nicki Sullard":MAILTO:nicki@poteaucoc.org
GEO:35.0989053;-94.6235279
X-APPLE-STRUCTURED-LOCATION;VALUE=URI;X-ADDRESS=Poteau Church of Christ 20690 292nd st Poteau OK 74953 United States;X-APPLE-RADIUS=500;X-TITLE=20690 292nd st:geo:-94.6235279,35.0989053
END:VEVENT
BEGIN:VEVENT
DTSTART;TZID=America/Chicago:20270301T180000
DTEND;TZID=America/Chicago:20270301T210000
DTSTAMP:20260425T071000
CREATED:20251006T012458Z
LAST-MODIFIED:20251006T012458Z
UID:10007030-1803924000-1803934800@poteaucoc.org
SUMMARY:Pickleball
DESCRIPTION:Pickleball
URL:https://poteaucoc.org/event/pickleball/2027-03-01/
LOCATION:Poteau Church of Christ\, 20690 292nd st\, Poteau\, OK\, 74953\, United States
CATEGORIES:Pickleball
ATTACH;FMTTYPE=image/jpeg:https://poteaucoc.org/wp-content/uploads/2025/10/pickleb.jpg
ORGANIZER;CN="Nicki Sullard":MAILTO:nicki@poteaucoc.org
GEO:35.0989053;-94.6235279
X-APPLE-STRUCTURED-LOCATION;VALUE=URI;X-ADDRESS=Poteau Church of Christ 20690 292nd st Poteau OK 74953 United States;X-APPLE-RADIUS=500;X-TITLE=20690 292nd st:geo:-94.6235279,35.0989053
END:VEVENT
BEGIN:VEVENT
DTSTART;TZID=America/Chicago:20270302T183000
DTEND;TZID=America/Chicago:20270302T193000
DTSTAMP:20260425T071000
CREATED:20251006T013853Z
LAST-MODIFIED:20251006T013854Z
UID:10007255-1804012200-1804015800@poteaucoc.org
SUMMARY:F.A.T. Tuesday
DESCRIPTION:Feeding All Teachers Tuesday
URL:https://poteaucoc.org/event/f-a-t-tuesday/2027-03-02/
LOCATION:Poteau Church of Christ\, 20690 292nd st\, Poteau\, OK\, 74953\, United States
CATEGORIES:Bible Study
ATTACH;FMTTYPE=image/webp:https://poteaucoc.org/wp-content/uploads/2025/10/fat.webp
ORGANIZER;CN="Nicki Sullard":MAILTO:nicki@poteaucoc.org
GEO:35.0989053;-94.6235279
X-APPLE-STRUCTURED-LOCATION;VALUE=URI;X-ADDRESS=Poteau Church of Christ 20690 292nd st Poteau OK 74953 United States;X-APPLE-RADIUS=500;X-TITLE=20690 292nd st:geo:-94.6235279,35.0989053
END:VEVENT
BEGIN:VEVENT
DTSTART;TZID=America/Chicago:20270303T183000
DTEND;TZID=America/Chicago:20270303T193000
DTSTAMP:20260425T071000
CREATED:20251005T212529Z
LAST-MODIFIED:20251006T121857Z
UID:10006765-1804098600-1804102200@poteaucoc.org
SUMMARY:Wednesday P.M. Bible Study
DESCRIPTION:
URL:https://poteaucoc.org/event/wednesday-p-m-bible-study/2027-03-03/
LOCATION:Poteau Church of Christ\, 20690 292nd st\, Poteau\, OK\, 74953\, United States
CATEGORIES:Bible Study
ATTACH;FMTTYPE=image/jpeg:https://poteaucoc.org/wp-content/uploads/2021/08/patrick-fore-bsmall.jpg
ORGANIZER;CN="Nicki Sullard":MAILTO:nicki@poteaucoc.org
GEO:35.0989053;-94.6235279
X-APPLE-STRUCTURED-LOCATION;VALUE=URI;X-ADDRESS=Poteau Church of Christ 20690 292nd st Poteau OK 74953 United States;X-APPLE-RADIUS=500;X-TITLE=20690 292nd st:geo:-94.6235279,35.0989053
END:VEVENT
BEGIN:VEVENT
DTSTART;TZID=America/Chicago:20270307T093000
DTEND;TZID=America/Chicago:20270307T102500
DTSTAMP:20260425T071000
CREATED:20251005T203803Z
LAST-MODIFIED:20251006T121701Z
UID:10006242-1804411800-1804415100@poteaucoc.org
SUMMARY:Sunday A.M. Bible Study
DESCRIPTION:Sunday A.M Bible Study
URL:https://poteaucoc.org/event/sunday-a-m-bible-study/2027-03-07/
LOCATION:Poteau Church of Christ\, 20690 292nd st\, Poteau\, OK\, 74953\, United States
CATEGORIES:Bible Study
ATTACH;FMTTYPE=image/jpeg:https://poteaucoc.org/wp-content/uploads/2021/08/patrick-fore-b_SHPU5M3nk-unsplash-scaled.jpg
ORGANIZER;CN="Nicki Sullard":MAILTO:nicki@poteaucoc.org
GEO:35.0989053;-94.6235279
X-APPLE-STRUCTURED-LOCATION;VALUE=URI;X-ADDRESS=Poteau Church of Christ 20690 292nd st Poteau OK 74953 United States;X-APPLE-RADIUS=500;X-TITLE=20690 292nd st:geo:-94.6235279,35.0989053
END:VEVENT
BEGIN:VEVENT
DTSTART;TZID=America/Chicago:20270307T103000
DTEND;TZID=America/Chicago:20270307T120000
DTSTAMP:20260425T071000
CREATED:20251005T204859Z
LAST-MODIFIED:20251006T121534Z
UID:10006504-1804415400-1804420800@poteaucoc.org
SUMMARY:Sunday A.M. Worship
DESCRIPTION:Sunday A.M Worship
URL:https://poteaucoc.org/event/sunday-a-m-worship/2027-03-07/
LOCATION:Poteau Church of Christ\, 20690 292nd st\, Poteau\, OK\, 74953\, United States
CATEGORIES:Worship
ATTACH;FMTTYPE=image/jpeg:https://poteaucoc.org/wp-content/uploads/2021/08/worship-2.jpg
ORGANIZER;CN="Nicki Sullard":MAILTO:nicki@poteaucoc.org
GEO:35.0989053;-94.6235279
X-APPLE-STRUCTURED-LOCATION;VALUE=URI;X-ADDRESS=Poteau Church of Christ 20690 292nd st Poteau OK 74953 United States;X-APPLE-RADIUS=500;X-TITLE=20690 292nd st:geo:-94.6235279,35.0989053
END:VEVENT
END:VCALENDAR