BEGIN:VCALENDAR
VERSION:2.0
PRODID:-//Poteaucoc.org - ECPv6.15.20//NONSGML v1.0//EN
CALSCALE:GREGORIAN
METHOD:PUBLISH
X-ORIGINAL-URL:https://poteaucoc.org
X-WR-CALDESC:Events for Poteaucoc.org
REFRESH-INTERVAL;VALUE=DURATION:PT1H
X-Robots-Tag:noindex
X-PUBLISHED-TTL:PT1H
BEGIN:VTIMEZONE
TZID:America/Chicago
BEGIN:DAYLIGHT
TZOFFSETFROM:-0600
TZOFFSETTO:-0500
TZNAME:CDT
DTSTART:20250309T080000
END:DAYLIGHT
BEGIN:STANDARD
TZOFFSETFROM:-0500
TZOFFSETTO:-0600
TZNAME:CST
DTSTART:20251102T070000
END:STANDARD
BEGIN:DAYLIGHT
TZOFFSETFROM:-0600
TZOFFSETTO:-0500
TZNAME:CDT
DTSTART:20260308T080000
END:DAYLIGHT
BEGIN:STANDARD
TZOFFSETFROM:-0500
TZOFFSETTO:-0600
TZNAME:CST
DTSTART:20261101T070000
END:STANDARD
BEGIN:DAYLIGHT
TZOFFSETFROM:-0600
TZOFFSETTO:-0500
TZNAME:CDT
DTSTART:20270314T080000
END:DAYLIGHT
BEGIN:STANDARD
TZOFFSETFROM:-0500
TZOFFSETTO:-0600
TZNAME:CST
DTSTART:20271107T070000
END:STANDARD
END:VTIMEZONE
BEGIN:VEVENT
DTSTART;TZID=America/Chicago:20260427T180000
DTEND;TZID=America/Chicago:20260427T210000
DTSTAMP:20260422T223043
CREATED:20251006T012458Z
LAST-MODIFIED:20251006T012458Z
UID:10006986-1777312800-1777323600@poteaucoc.org
SUMMARY:Pickleball
DESCRIPTION:Pickleball
URL:https://poteaucoc.org/event/pickleball/2026-04-27/
LOCATION:Poteau Church of Christ\, 20690 292nd st\, Poteau\, OK\, 74953\, United States
CATEGORIES:Pickleball
ATTACH;FMTTYPE=image/jpeg:https://poteaucoc.org/wp-content/uploads/2025/10/pickleb.jpg
ORGANIZER;CN="Nicki Sullard":MAILTO:nicki@poteaucoc.org
GEO:35.0989053;-94.6235279
X-APPLE-STRUCTURED-LOCATION;VALUE=URI;X-ADDRESS=Poteau Church of Christ 20690 292nd st Poteau OK 74953 United States;X-APPLE-RADIUS=500;X-TITLE=20690 292nd st:geo:-94.6235279,35.0989053
END:VEVENT
BEGIN:VEVENT
DTSTART;TZID=America/Chicago:20260504T180000
DTEND;TZID=America/Chicago:20260504T210000
DTSTAMP:20260422T223043
CREATED:20251006T012458Z
LAST-MODIFIED:20251006T012458Z
UID:10006987-1777917600-1777928400@poteaucoc.org
SUMMARY:Pickleball
DESCRIPTION:Pickleball
URL:https://poteaucoc.org/event/pickleball/2026-05-04/
LOCATION:Poteau Church of Christ\, 20690 292nd st\, Poteau\, OK\, 74953\, United States
CATEGORIES:Pickleball
ATTACH;FMTTYPE=image/jpeg:https://poteaucoc.org/wp-content/uploads/2025/10/pickleb.jpg
ORGANIZER;CN="Nicki Sullard":MAILTO:nicki@poteaucoc.org
GEO:35.0989053;-94.6235279
X-APPLE-STRUCTURED-LOCATION;VALUE=URI;X-ADDRESS=Poteau Church of Christ 20690 292nd st Poteau OK 74953 United States;X-APPLE-RADIUS=500;X-TITLE=20690 292nd st:geo:-94.6235279,35.0989053
END:VEVENT
BEGIN:VEVENT
DTSTART;TZID=America/Chicago:20260511T180000
DTEND;TZID=America/Chicago:20260511T210000
DTSTAMP:20260422T223043
CREATED:20251006T012458Z
LAST-MODIFIED:20251006T012458Z
UID:10006988-1778522400-1778533200@poteaucoc.org
SUMMARY:Pickleball
DESCRIPTION:Pickleball
URL:https://poteaucoc.org/event/pickleball/2026-05-11/
LOCATION:Poteau Church of Christ\, 20690 292nd st\, Poteau\, OK\, 74953\, United States
CATEGORIES:Pickleball
ATTACH;FMTTYPE=image/jpeg:https://poteaucoc.org/wp-content/uploads/2025/10/pickleb.jpg
ORGANIZER;CN="Nicki Sullard":MAILTO:nicki@poteaucoc.org
GEO:35.0989053;-94.6235279
X-APPLE-STRUCTURED-LOCATION;VALUE=URI;X-ADDRESS=Poteau Church of Christ 20690 292nd st Poteau OK 74953 United States;X-APPLE-RADIUS=500;X-TITLE=20690 292nd st:geo:-94.6235279,35.0989053
END:VEVENT
BEGIN:VEVENT
DTSTART;TZID=America/Chicago:20260518T180000
DTEND;TZID=America/Chicago:20260518T210000
DTSTAMP:20260422T223043
CREATED:20251006T012458Z
LAST-MODIFIED:20251006T012458Z
UID:10006989-1779127200-1779138000@poteaucoc.org
SUMMARY:Pickleball
DESCRIPTION:Pickleball
URL:https://poteaucoc.org/event/pickleball/2026-05-18/
LOCATION:Poteau Church of Christ\, 20690 292nd st\, Poteau\, OK\, 74953\, United States
CATEGORIES:Pickleball
ATTACH;FMTTYPE=image/jpeg:https://poteaucoc.org/wp-content/uploads/2025/10/pickleb.jpg
ORGANIZER;CN="Nicki Sullard":MAILTO:nicki@poteaucoc.org
GEO:35.0989053;-94.6235279
X-APPLE-STRUCTURED-LOCATION;VALUE=URI;X-ADDRESS=Poteau Church of Christ 20690 292nd st Poteau OK 74953 United States;X-APPLE-RADIUS=500;X-TITLE=20690 292nd st:geo:-94.6235279,35.0989053
END:VEVENT
BEGIN:VEVENT
DTSTART;TZID=America/Chicago:20260525T180000
DTEND;TZID=America/Chicago:20260525T210000
DTSTAMP:20260422T223043
CREATED:20251006T012458Z
LAST-MODIFIED:20251006T012458Z
UID:10006990-1779732000-1779742800@poteaucoc.org
SUMMARY:Pickleball
DESCRIPTION:Pickleball
URL:https://poteaucoc.org/event/pickleball/2026-05-25/
LOCATION:Poteau Church of Christ\, 20690 292nd st\, Poteau\, OK\, 74953\, United States
CATEGORIES:Pickleball
ATTACH;FMTTYPE=image/jpeg:https://poteaucoc.org/wp-content/uploads/2025/10/pickleb.jpg
ORGANIZER;CN="Nicki Sullard":MAILTO:nicki@poteaucoc.org
GEO:35.0989053;-94.6235279
X-APPLE-STRUCTURED-LOCATION;VALUE=URI;X-ADDRESS=Poteau Church of Christ 20690 292nd st Poteau OK 74953 United States;X-APPLE-RADIUS=500;X-TITLE=20690 292nd st:geo:-94.6235279,35.0989053
END:VEVENT
BEGIN:VEVENT
DTSTART;TZID=America/Chicago:20260601T180000
DTEND;TZID=America/Chicago:20260601T210000
DTSTAMP:20260422T223043
CREATED:20251006T012458Z
LAST-MODIFIED:20251006T012458Z
UID:10006991-1780336800-1780347600@poteaucoc.org
SUMMARY:Pickleball
DESCRIPTION:Pickleball
URL:https://poteaucoc.org/event/pickleball/2026-06-01/
LOCATION:Poteau Church of Christ\, 20690 292nd st\, Poteau\, OK\, 74953\, United States
CATEGORIES:Pickleball
ATTACH;FMTTYPE=image/jpeg:https://poteaucoc.org/wp-content/uploads/2025/10/pickleb.jpg
ORGANIZER;CN="Nicki Sullard":MAILTO:nicki@poteaucoc.org
GEO:35.0989053;-94.6235279
X-APPLE-STRUCTURED-LOCATION;VALUE=URI;X-ADDRESS=Poteau Church of Christ 20690 292nd st Poteau OK 74953 United States;X-APPLE-RADIUS=500;X-TITLE=20690 292nd st:geo:-94.6235279,35.0989053
END:VEVENT
BEGIN:VEVENT
DTSTART;TZID=America/Chicago:20260608T180000
DTEND;TZID=America/Chicago:20260608T210000
DTSTAMP:20260422T223043
CREATED:20251006T012458Z
LAST-MODIFIED:20251006T012458Z
UID:10006992-1780941600-1780952400@poteaucoc.org
SUMMARY:Pickleball
DESCRIPTION:Pickleball
URL:https://poteaucoc.org/event/pickleball/2026-06-08/
LOCATION:Poteau Church of Christ\, 20690 292nd st\, Poteau\, OK\, 74953\, United States
CATEGORIES:Pickleball
ATTACH;FMTTYPE=image/jpeg:https://poteaucoc.org/wp-content/uploads/2025/10/pickleb.jpg
ORGANIZER;CN="Nicki Sullard":MAILTO:nicki@poteaucoc.org
GEO:35.0989053;-94.6235279
X-APPLE-STRUCTURED-LOCATION;VALUE=URI;X-ADDRESS=Poteau Church of Christ 20690 292nd st Poteau OK 74953 United States;X-APPLE-RADIUS=500;X-TITLE=20690 292nd st:geo:-94.6235279,35.0989053
END:VEVENT
BEGIN:VEVENT
DTSTART;TZID=America/Chicago:20260615T180000
DTEND;TZID=America/Chicago:20260615T210000
DTSTAMP:20260422T223043
CREATED:20251006T012458Z
LAST-MODIFIED:20251006T012458Z
UID:10006993-1781546400-1781557200@poteaucoc.org
SUMMARY:Pickleball
DESCRIPTION:Pickleball
URL:https://poteaucoc.org/event/pickleball/2026-06-15/
LOCATION:Poteau Church of Christ\, 20690 292nd st\, Poteau\, OK\, 74953\, United States
CATEGORIES:Pickleball
ATTACH;FMTTYPE=image/jpeg:https://poteaucoc.org/wp-content/uploads/2025/10/pickleb.jpg
ORGANIZER;CN="Nicki Sullard":MAILTO:nicki@poteaucoc.org
GEO:35.0989053;-94.6235279
X-APPLE-STRUCTURED-LOCATION;VALUE=URI;X-ADDRESS=Poteau Church of Christ 20690 292nd st Poteau OK 74953 United States;X-APPLE-RADIUS=500;X-TITLE=20690 292nd st:geo:-94.6235279,35.0989053
END:VEVENT
BEGIN:VEVENT
DTSTART;TZID=America/Chicago:20260622T180000
DTEND;TZID=America/Chicago:20260622T210000
DTSTAMP:20260422T223043
CREATED:20251006T012458Z
LAST-MODIFIED:20251006T012458Z
UID:10006994-1782151200-1782162000@poteaucoc.org
SUMMARY:Pickleball
DESCRIPTION:Pickleball
URL:https://poteaucoc.org/event/pickleball/2026-06-22/
LOCATION:Poteau Church of Christ\, 20690 292nd st\, Poteau\, OK\, 74953\, United States
CATEGORIES:Pickleball
ATTACH;FMTTYPE=image/jpeg:https://poteaucoc.org/wp-content/uploads/2025/10/pickleb.jpg
ORGANIZER;CN="Nicki Sullard":MAILTO:nicki@poteaucoc.org
GEO:35.0989053;-94.6235279
X-APPLE-STRUCTURED-LOCATION;VALUE=URI;X-ADDRESS=Poteau Church of Christ 20690 292nd st Poteau OK 74953 United States;X-APPLE-RADIUS=500;X-TITLE=20690 292nd st:geo:-94.6235279,35.0989053
END:VEVENT
BEGIN:VEVENT
DTSTART;TZID=America/Chicago:20260629T180000
DTEND;TZID=America/Chicago:20260629T210000
DTSTAMP:20260422T223043
CREATED:20251006T012458Z
LAST-MODIFIED:20251006T012458Z
UID:10006995-1782756000-1782766800@poteaucoc.org
SUMMARY:Pickleball
DESCRIPTION:Pickleball
URL:https://poteaucoc.org/event/pickleball/2026-06-29/
LOCATION:Poteau Church of Christ\, 20690 292nd st\, Poteau\, OK\, 74953\, United States
CATEGORIES:Pickleball
ATTACH;FMTTYPE=image/jpeg:https://poteaucoc.org/wp-content/uploads/2025/10/pickleb.jpg
ORGANIZER;CN="Nicki Sullard":MAILTO:nicki@poteaucoc.org
GEO:35.0989053;-94.6235279
X-APPLE-STRUCTURED-LOCATION;VALUE=URI;X-ADDRESS=Poteau Church of Christ 20690 292nd st Poteau OK 74953 United States;X-APPLE-RADIUS=500;X-TITLE=20690 292nd st:geo:-94.6235279,35.0989053
END:VEVENT
BEGIN:VEVENT
DTSTART;TZID=America/Chicago:20260706T180000
DTEND;TZID=America/Chicago:20260706T210000
DTSTAMP:20260422T223043
CREATED:20251006T012458Z
LAST-MODIFIED:20251006T012458Z
UID:10006996-1783360800-1783371600@poteaucoc.org
SUMMARY:Pickleball
DESCRIPTION:Pickleball
URL:https://poteaucoc.org/event/pickleball/2026-07-06/
LOCATION:Poteau Church of Christ\, 20690 292nd st\, Poteau\, OK\, 74953\, United States
CATEGORIES:Pickleball
ATTACH;FMTTYPE=image/jpeg:https://poteaucoc.org/wp-content/uploads/2025/10/pickleb.jpg
ORGANIZER;CN="Nicki Sullard":MAILTO:nicki@poteaucoc.org
GEO:35.0989053;-94.6235279
X-APPLE-STRUCTURED-LOCATION;VALUE=URI;X-ADDRESS=Poteau Church of Christ 20690 292nd st Poteau OK 74953 United States;X-APPLE-RADIUS=500;X-TITLE=20690 292nd st:geo:-94.6235279,35.0989053
END:VEVENT
BEGIN:VEVENT
DTSTART;TZID=America/Chicago:20260713T180000
DTEND;TZID=America/Chicago:20260713T210000
DTSTAMP:20260422T223043
CREATED:20251006T012458Z
LAST-MODIFIED:20251006T012458Z
UID:10006997-1783965600-1783976400@poteaucoc.org
SUMMARY:Pickleball
DESCRIPTION:Pickleball
URL:https://poteaucoc.org/event/pickleball/2026-07-13/
LOCATION:Poteau Church of Christ\, 20690 292nd st\, Poteau\, OK\, 74953\, United States
CATEGORIES:Pickleball
ATTACH;FMTTYPE=image/jpeg:https://poteaucoc.org/wp-content/uploads/2025/10/pickleb.jpg
ORGANIZER;CN="Nicki Sullard":MAILTO:nicki@poteaucoc.org
GEO:35.0989053;-94.6235279
X-APPLE-STRUCTURED-LOCATION;VALUE=URI;X-ADDRESS=Poteau Church of Christ 20690 292nd st Poteau OK 74953 United States;X-APPLE-RADIUS=500;X-TITLE=20690 292nd st:geo:-94.6235279,35.0989053
END:VEVENT
BEGIN:VEVENT
DTSTART;TZID=America/Chicago:20260720T180000
DTEND;TZID=America/Chicago:20260720T210000
DTSTAMP:20260422T223043
CREATED:20251006T012458Z
LAST-MODIFIED:20251006T012458Z
UID:10006998-1784570400-1784581200@poteaucoc.org
SUMMARY:Pickleball
DESCRIPTION:Pickleball
URL:https://poteaucoc.org/event/pickleball/2026-07-20/
LOCATION:Poteau Church of Christ\, 20690 292nd st\, Poteau\, OK\, 74953\, United States
CATEGORIES:Pickleball
ATTACH;FMTTYPE=image/jpeg:https://poteaucoc.org/wp-content/uploads/2025/10/pickleb.jpg
ORGANIZER;CN="Nicki Sullard":MAILTO:nicki@poteaucoc.org
GEO:35.0989053;-94.6235279
X-APPLE-STRUCTURED-LOCATION;VALUE=URI;X-ADDRESS=Poteau Church of Christ 20690 292nd st Poteau OK 74953 United States;X-APPLE-RADIUS=500;X-TITLE=20690 292nd st:geo:-94.6235279,35.0989053
END:VEVENT
BEGIN:VEVENT
DTSTART;TZID=America/Chicago:20260727T180000
DTEND;TZID=America/Chicago:20260727T210000
DTSTAMP:20260422T223043
CREATED:20251006T012458Z
LAST-MODIFIED:20251006T012458Z
UID:10006999-1785175200-1785186000@poteaucoc.org
SUMMARY:Pickleball
DESCRIPTION:Pickleball
URL:https://poteaucoc.org/event/pickleball/2026-07-27/
LOCATION:Poteau Church of Christ\, 20690 292nd st\, Poteau\, OK\, 74953\, United States
CATEGORIES:Pickleball
ATTACH;FMTTYPE=image/jpeg:https://poteaucoc.org/wp-content/uploads/2025/10/pickleb.jpg
ORGANIZER;CN="Nicki Sullard":MAILTO:nicki@poteaucoc.org
GEO:35.0989053;-94.6235279
X-APPLE-STRUCTURED-LOCATION;VALUE=URI;X-ADDRESS=Poteau Church of Christ 20690 292nd st Poteau OK 74953 United States;X-APPLE-RADIUS=500;X-TITLE=20690 292nd st:geo:-94.6235279,35.0989053
END:VEVENT
BEGIN:VEVENT
DTSTART;TZID=America/Chicago:20260803T180000
DTEND;TZID=America/Chicago:20260803T210000
DTSTAMP:20260422T223043
CREATED:20251006T012458Z
LAST-MODIFIED:20251006T012458Z
UID:10007000-1785780000-1785790800@poteaucoc.org
SUMMARY:Pickleball
DESCRIPTION:Pickleball
URL:https://poteaucoc.org/event/pickleball/2026-08-03/
LOCATION:Poteau Church of Christ\, 20690 292nd st\, Poteau\, OK\, 74953\, United States
CATEGORIES:Pickleball
ATTACH;FMTTYPE=image/jpeg:https://poteaucoc.org/wp-content/uploads/2025/10/pickleb.jpg
ORGANIZER;CN="Nicki Sullard":MAILTO:nicki@poteaucoc.org
GEO:35.0989053;-94.6235279
X-APPLE-STRUCTURED-LOCATION;VALUE=URI;X-ADDRESS=Poteau Church of Christ 20690 292nd st Poteau OK 74953 United States;X-APPLE-RADIUS=500;X-TITLE=20690 292nd st:geo:-94.6235279,35.0989053
END:VEVENT
BEGIN:VEVENT
DTSTART;TZID=America/Chicago:20260810T180000
DTEND;TZID=America/Chicago:20260810T210000
DTSTAMP:20260422T223043
CREATED:20251006T012458Z
LAST-MODIFIED:20251006T012458Z
UID:10007001-1786384800-1786395600@poteaucoc.org
SUMMARY:Pickleball
DESCRIPTION:Pickleball
URL:https://poteaucoc.org/event/pickleball/2026-08-10/
LOCATION:Poteau Church of Christ\, 20690 292nd st\, Poteau\, OK\, 74953\, United States
CATEGORIES:Pickleball
ATTACH;FMTTYPE=image/jpeg:https://poteaucoc.org/wp-content/uploads/2025/10/pickleb.jpg
ORGANIZER;CN="Nicki Sullard":MAILTO:nicki@poteaucoc.org
GEO:35.0989053;-94.6235279
X-APPLE-STRUCTURED-LOCATION;VALUE=URI;X-ADDRESS=Poteau Church of Christ 20690 292nd st Poteau OK 74953 United States;X-APPLE-RADIUS=500;X-TITLE=20690 292nd st:geo:-94.6235279,35.0989053
END:VEVENT
BEGIN:VEVENT
DTSTART;TZID=America/Chicago:20260817T180000
DTEND;TZID=America/Chicago:20260817T210000
DTSTAMP:20260422T223043
CREATED:20251006T012458Z
LAST-MODIFIED:20251006T012458Z
UID:10007002-1786989600-1787000400@poteaucoc.org
SUMMARY:Pickleball
DESCRIPTION:Pickleball
URL:https://poteaucoc.org/event/pickleball/2026-08-17/
LOCATION:Poteau Church of Christ\, 20690 292nd st\, Poteau\, OK\, 74953\, United States
CATEGORIES:Pickleball
ATTACH;FMTTYPE=image/jpeg:https://poteaucoc.org/wp-content/uploads/2025/10/pickleb.jpg
ORGANIZER;CN="Nicki Sullard":MAILTO:nicki@poteaucoc.org
GEO:35.0989053;-94.6235279
X-APPLE-STRUCTURED-LOCATION;VALUE=URI;X-ADDRESS=Poteau Church of Christ 20690 292nd st Poteau OK 74953 United States;X-APPLE-RADIUS=500;X-TITLE=20690 292nd st:geo:-94.6235279,35.0989053
END:VEVENT
BEGIN:VEVENT
DTSTART;TZID=America/Chicago:20260824T180000
DTEND;TZID=America/Chicago:20260824T210000
DTSTAMP:20260422T223043
CREATED:20251006T012458Z
LAST-MODIFIED:20251006T012458Z
UID:10007003-1787594400-1787605200@poteaucoc.org
SUMMARY:Pickleball
DESCRIPTION:Pickleball
URL:https://poteaucoc.org/event/pickleball/2026-08-24/
LOCATION:Poteau Church of Christ\, 20690 292nd st\, Poteau\, OK\, 74953\, United States
CATEGORIES:Pickleball
ATTACH;FMTTYPE=image/jpeg:https://poteaucoc.org/wp-content/uploads/2025/10/pickleb.jpg
ORGANIZER;CN="Nicki Sullard":MAILTO:nicki@poteaucoc.org
GEO:35.0989053;-94.6235279
X-APPLE-STRUCTURED-LOCATION;VALUE=URI;X-ADDRESS=Poteau Church of Christ 20690 292nd st Poteau OK 74953 United States;X-APPLE-RADIUS=500;X-TITLE=20690 292nd st:geo:-94.6235279,35.0989053
END:VEVENT
BEGIN:VEVENT
DTSTART;TZID=America/Chicago:20260831T180000
DTEND;TZID=America/Chicago:20260831T210000
DTSTAMP:20260422T223043
CREATED:20251006T012458Z
LAST-MODIFIED:20251006T012458Z
UID:10007004-1788199200-1788210000@poteaucoc.org
SUMMARY:Pickleball
DESCRIPTION:Pickleball
URL:https://poteaucoc.org/event/pickleball/2026-08-31/
LOCATION:Poteau Church of Christ\, 20690 292nd st\, Poteau\, OK\, 74953\, United States
CATEGORIES:Pickleball
ATTACH;FMTTYPE=image/jpeg:https://poteaucoc.org/wp-content/uploads/2025/10/pickleb.jpg
ORGANIZER;CN="Nicki Sullard":MAILTO:nicki@poteaucoc.org
GEO:35.0989053;-94.6235279
X-APPLE-STRUCTURED-LOCATION;VALUE=URI;X-ADDRESS=Poteau Church of Christ 20690 292nd st Poteau OK 74953 United States;X-APPLE-RADIUS=500;X-TITLE=20690 292nd st:geo:-94.6235279,35.0989053
END:VEVENT
BEGIN:VEVENT
DTSTART;TZID=America/Chicago:20260907T180000
DTEND;TZID=America/Chicago:20260907T210000
DTSTAMP:20260422T223043
CREATED:20251006T012458Z
LAST-MODIFIED:20251006T012458Z
UID:10007005-1788804000-1788814800@poteaucoc.org
SUMMARY:Pickleball
DESCRIPTION:Pickleball
URL:https://poteaucoc.org/event/pickleball/2026-09-07/
LOCATION:Poteau Church of Christ\, 20690 292nd st\, Poteau\, OK\, 74953\, United States
CATEGORIES:Pickleball
ATTACH;FMTTYPE=image/jpeg:https://poteaucoc.org/wp-content/uploads/2025/10/pickleb.jpg
ORGANIZER;CN="Nicki Sullard":MAILTO:nicki@poteaucoc.org
GEO:35.0989053;-94.6235279
X-APPLE-STRUCTURED-LOCATION;VALUE=URI;X-ADDRESS=Poteau Church of Christ 20690 292nd st Poteau OK 74953 United States;X-APPLE-RADIUS=500;X-TITLE=20690 292nd st:geo:-94.6235279,35.0989053
END:VEVENT
BEGIN:VEVENT
DTSTART;TZID=America/Chicago:20260914T180000
DTEND;TZID=America/Chicago:20260914T210000
DTSTAMP:20260422T223043
CREATED:20251006T012458Z
LAST-MODIFIED:20251006T012458Z
UID:10007006-1789408800-1789419600@poteaucoc.org
SUMMARY:Pickleball
DESCRIPTION:Pickleball
URL:https://poteaucoc.org/event/pickleball/2026-09-14/
LOCATION:Poteau Church of Christ\, 20690 292nd st\, Poteau\, OK\, 74953\, United States
CATEGORIES:Pickleball
ATTACH;FMTTYPE=image/jpeg:https://poteaucoc.org/wp-content/uploads/2025/10/pickleb.jpg
ORGANIZER;CN="Nicki Sullard":MAILTO:nicki@poteaucoc.org
GEO:35.0989053;-94.6235279
X-APPLE-STRUCTURED-LOCATION;VALUE=URI;X-ADDRESS=Poteau Church of Christ 20690 292nd st Poteau OK 74953 United States;X-APPLE-RADIUS=500;X-TITLE=20690 292nd st:geo:-94.6235279,35.0989053
END:VEVENT
BEGIN:VEVENT
DTSTART;TZID=America/Chicago:20260921T180000
DTEND;TZID=America/Chicago:20260921T210000
DTSTAMP:20260422T223043
CREATED:20251006T012458Z
LAST-MODIFIED:20251006T012458Z
UID:10007007-1790013600-1790024400@poteaucoc.org
SUMMARY:Pickleball
DESCRIPTION:Pickleball
URL:https://poteaucoc.org/event/pickleball/2026-09-21/
LOCATION:Poteau Church of Christ\, 20690 292nd st\, Poteau\, OK\, 74953\, United States
CATEGORIES:Pickleball
ATTACH;FMTTYPE=image/jpeg:https://poteaucoc.org/wp-content/uploads/2025/10/pickleb.jpg
ORGANIZER;CN="Nicki Sullard":MAILTO:nicki@poteaucoc.org
GEO:35.0989053;-94.6235279
X-APPLE-STRUCTURED-LOCATION;VALUE=URI;X-ADDRESS=Poteau Church of Christ 20690 292nd st Poteau OK 74953 United States;X-APPLE-RADIUS=500;X-TITLE=20690 292nd st:geo:-94.6235279,35.0989053
END:VEVENT
BEGIN:VEVENT
DTSTART;TZID=America/Chicago:20260928T180000
DTEND;TZID=America/Chicago:20260928T210000
DTSTAMP:20260422T223043
CREATED:20251006T012458Z
LAST-MODIFIED:20251006T012458Z
UID:10007008-1790618400-1790629200@poteaucoc.org
SUMMARY:Pickleball
DESCRIPTION:Pickleball
URL:https://poteaucoc.org/event/pickleball/2026-09-28/
LOCATION:Poteau Church of Christ\, 20690 292nd st\, Poteau\, OK\, 74953\, United States
CATEGORIES:Pickleball
ATTACH;FMTTYPE=image/jpeg:https://poteaucoc.org/wp-content/uploads/2025/10/pickleb.jpg
ORGANIZER;CN="Nicki Sullard":MAILTO:nicki@poteaucoc.org
GEO:35.0989053;-94.6235279
X-APPLE-STRUCTURED-LOCATION;VALUE=URI;X-ADDRESS=Poteau Church of Christ 20690 292nd st Poteau OK 74953 United States;X-APPLE-RADIUS=500;X-TITLE=20690 292nd st:geo:-94.6235279,35.0989053
END:VEVENT
BEGIN:VEVENT
DTSTART;TZID=America/Chicago:20261005T180000
DTEND;TZID=America/Chicago:20261005T210000
DTSTAMP:20260422T223044
CREATED:20251006T012458Z
LAST-MODIFIED:20251006T012458Z
UID:10007009-1791223200-1791234000@poteaucoc.org
SUMMARY:Pickleball
DESCRIPTION:Pickleball
URL:https://poteaucoc.org/event/pickleball/2026-10-05/
LOCATION:Poteau Church of Christ\, 20690 292nd st\, Poteau\, OK\, 74953\, United States
CATEGORIES:Pickleball
ATTACH;FMTTYPE=image/jpeg:https://poteaucoc.org/wp-content/uploads/2025/10/pickleb.jpg
ORGANIZER;CN="Nicki Sullard":MAILTO:nicki@poteaucoc.org
GEO:35.0989053;-94.6235279
X-APPLE-STRUCTURED-LOCATION;VALUE=URI;X-ADDRESS=Poteau Church of Christ 20690 292nd st Poteau OK 74953 United States;X-APPLE-RADIUS=500;X-TITLE=20690 292nd st:geo:-94.6235279,35.0989053
END:VEVENT
BEGIN:VEVENT
DTSTART;TZID=America/Chicago:20261012T180000
DTEND;TZID=America/Chicago:20261012T210000
DTSTAMP:20260422T223044
CREATED:20251006T012458Z
LAST-MODIFIED:20251006T012458Z
UID:10007010-1791828000-1791838800@poteaucoc.org
SUMMARY:Pickleball
DESCRIPTION:Pickleball
URL:https://poteaucoc.org/event/pickleball/2026-10-12/
LOCATION:Poteau Church of Christ\, 20690 292nd st\, Poteau\, OK\, 74953\, United States
CATEGORIES:Pickleball
ATTACH;FMTTYPE=image/jpeg:https://poteaucoc.org/wp-content/uploads/2025/10/pickleb.jpg
ORGANIZER;CN="Nicki Sullard":MAILTO:nicki@poteaucoc.org
GEO:35.0989053;-94.6235279
X-APPLE-STRUCTURED-LOCATION;VALUE=URI;X-ADDRESS=Poteau Church of Christ 20690 292nd st Poteau OK 74953 United States;X-APPLE-RADIUS=500;X-TITLE=20690 292nd st:geo:-94.6235279,35.0989053
END:VEVENT
BEGIN:VEVENT
DTSTART;TZID=America/Chicago:20261019T180000
DTEND;TZID=America/Chicago:20261019T210000
DTSTAMP:20260422T223044
CREATED:20251006T012458Z
LAST-MODIFIED:20251006T012458Z
UID:10007011-1792432800-1792443600@poteaucoc.org
SUMMARY:Pickleball
DESCRIPTION:Pickleball
URL:https://poteaucoc.org/event/pickleball/2026-10-19/
LOCATION:Poteau Church of Christ\, 20690 292nd st\, Poteau\, OK\, 74953\, United States
CATEGORIES:Pickleball
ATTACH;FMTTYPE=image/jpeg:https://poteaucoc.org/wp-content/uploads/2025/10/pickleb.jpg
ORGANIZER;CN="Nicki Sullard":MAILTO:nicki@poteaucoc.org
GEO:35.0989053;-94.6235279
X-APPLE-STRUCTURED-LOCATION;VALUE=URI;X-ADDRESS=Poteau Church of Christ 20690 292nd st Poteau OK 74953 United States;X-APPLE-RADIUS=500;X-TITLE=20690 292nd st:geo:-94.6235279,35.0989053
END:VEVENT
BEGIN:VEVENT
DTSTART;TZID=America/Chicago:20261026T180000
DTEND;TZID=America/Chicago:20261026T210000
DTSTAMP:20260422T223044
CREATED:20251006T012458Z
LAST-MODIFIED:20251006T012458Z
UID:10007012-1793037600-1793048400@poteaucoc.org
SUMMARY:Pickleball
DESCRIPTION:Pickleball
URL:https://poteaucoc.org/event/pickleball/2026-10-26/
LOCATION:Poteau Church of Christ\, 20690 292nd st\, Poteau\, OK\, 74953\, United States
CATEGORIES:Pickleball
ATTACH;FMTTYPE=image/jpeg:https://poteaucoc.org/wp-content/uploads/2025/10/pickleb.jpg
ORGANIZER;CN="Nicki Sullard":MAILTO:nicki@poteaucoc.org
GEO:35.0989053;-94.6235279
X-APPLE-STRUCTURED-LOCATION;VALUE=URI;X-ADDRESS=Poteau Church of Christ 20690 292nd st Poteau OK 74953 United States;X-APPLE-RADIUS=500;X-TITLE=20690 292nd st:geo:-94.6235279,35.0989053
END:VEVENT
BEGIN:VEVENT
DTSTART;TZID=America/Chicago:20261102T180000
DTEND;TZID=America/Chicago:20261102T210000
DTSTAMP:20260422T223044
CREATED:20251006T012458Z
LAST-MODIFIED:20251006T012458Z
UID:10007013-1793642400-1793653200@poteaucoc.org
SUMMARY:Pickleball
DESCRIPTION:Pickleball
URL:https://poteaucoc.org/event/pickleball/2026-11-02/
LOCATION:Poteau Church of Christ\, 20690 292nd st\, Poteau\, OK\, 74953\, United States
CATEGORIES:Pickleball
ATTACH;FMTTYPE=image/jpeg:https://poteaucoc.org/wp-content/uploads/2025/10/pickleb.jpg
ORGANIZER;CN="Nicki Sullard":MAILTO:nicki@poteaucoc.org
GEO:35.0989053;-94.6235279
X-APPLE-STRUCTURED-LOCATION;VALUE=URI;X-ADDRESS=Poteau Church of Christ 20690 292nd st Poteau OK 74953 United States;X-APPLE-RADIUS=500;X-TITLE=20690 292nd st:geo:-94.6235279,35.0989053
END:VEVENT
BEGIN:VEVENT
DTSTART;TZID=America/Chicago:20261109T180000
DTEND;TZID=America/Chicago:20261109T210000
DTSTAMP:20260422T223044
CREATED:20251006T012458Z
LAST-MODIFIED:20251006T012458Z
UID:10007014-1794247200-1794258000@poteaucoc.org
SUMMARY:Pickleball
DESCRIPTION:Pickleball
URL:https://poteaucoc.org/event/pickleball/2026-11-09/
LOCATION:Poteau Church of Christ\, 20690 292nd st\, Poteau\, OK\, 74953\, United States
CATEGORIES:Pickleball
ATTACH;FMTTYPE=image/jpeg:https://poteaucoc.org/wp-content/uploads/2025/10/pickleb.jpg
ORGANIZER;CN="Nicki Sullard":MAILTO:nicki@poteaucoc.org
GEO:35.0989053;-94.6235279
X-APPLE-STRUCTURED-LOCATION;VALUE=URI;X-ADDRESS=Poteau Church of Christ 20690 292nd st Poteau OK 74953 United States;X-APPLE-RADIUS=500;X-TITLE=20690 292nd st:geo:-94.6235279,35.0989053
END:VEVENT
BEGIN:VEVENT
DTSTART;TZID=America/Chicago:20261116T180000
DTEND;TZID=America/Chicago:20261116T210000
DTSTAMP:20260422T223044
CREATED:20251006T012458Z
LAST-MODIFIED:20251006T012458Z
UID:10007015-1794852000-1794862800@poteaucoc.org
SUMMARY:Pickleball
DESCRIPTION:Pickleball
URL:https://poteaucoc.org/event/pickleball/2026-11-16/
LOCATION:Poteau Church of Christ\, 20690 292nd st\, Poteau\, OK\, 74953\, United States
CATEGORIES:Pickleball
ATTACH;FMTTYPE=image/jpeg:https://poteaucoc.org/wp-content/uploads/2025/10/pickleb.jpg
ORGANIZER;CN="Nicki Sullard":MAILTO:nicki@poteaucoc.org
GEO:35.0989053;-94.6235279
X-APPLE-STRUCTURED-LOCATION;VALUE=URI;X-ADDRESS=Poteau Church of Christ 20690 292nd st Poteau OK 74953 United States;X-APPLE-RADIUS=500;X-TITLE=20690 292nd st:geo:-94.6235279,35.0989053
END:VEVENT
END:VCALENDAR